BEGIN:VCALENDAR
VERSION:2.0
PRODID:-//CRS (Center for Remembering &amp; Sharing) - ECPv6.15.20//NONSGML v1.0//EN
CALSCALE:GREGORIAN
METHOD:PUBLISH
X-ORIGINAL-URL:https://jp.crsny.org
X-WR-CALDESC:Events for CRS (Center for Remembering &amp; Sharing)
REFRESH-INTERVAL;VALUE=DURATION:PT1H
X-Robots-Tag:noindex
X-PUBLISHED-TTL:PT1H
BEGIN:VTIMEZONE
TZID:UTC
BEGIN:STANDARD
TZOFFSETFROM:+0000
TZOFFSETTO:+0000
TZNAME:UTC
DTSTART:20150101T000000
END:STANDARD
END:VTIMEZONE
BEGIN:VEVENT
DTSTART;TZID=UTC:20160522T153000
DTEND;TZID=UTC:20160522T173000
DTSTAMP:20260420T202316
CREATED:20160512T224536Z
LAST-MODIFIED:20160512T230248Z
UID:5894-1463931000-1463938200@jp.crsny.org
SUMMARY:リバーシング・ブレスワークとユニティ・ブレス瞑想
DESCRIPTION:5月22日の日曜日の3時半よりリバーシング・ブレスワークのグループセッションをやります。 \nブレスワークは誕生時の事を思い出すことでバース・トラウマを解消する事が出来ますが、今回はブレスワークの後に、さらにインナーチャイルドを癒すための誘導を行います。\nブレスワークの効果はぐっすり眠れる、リラックスできるや、痛みを伴う病気が治ったりとか、酸素不足の細胞を活性化し頭がクリアーになる、インスピレーションを受ける、ビジュアルで何かを見る、メッセージを受け取る、ストレスが軽減される、前世を思い出すなどです。\nまた至高体験や覚醒になくてはならないキーとなるものは呼吸です。\n不安な時の呼吸とリラックスしている時の呼吸はまったく異なります。\n呼吸パターンを変えれば感情までも変えることが出来ます。\nインナーチャイルドの後に愛を実感する練習とドランバロ・メルキゼデクが提唱するユニティ・ブレス瞑想を行います。\n一緒にハートに愛をいっぱいにして、愛を実感すればあなたはもう女神です。\n興味ある人は連絡お待ちしております。 \n申し込み先：watanabesumiko@hotmail.com\n時間：3時半～5時半\n金額：$22.22　（ラッキーエンジェル・ナンバーですのでおつりがないようにお願いいたします。） \n—-2222の意味—-\nすべては上手くいっています。\n願いは叶うと信じていてください。\n奇跡が起こるのを待っていてください。\nあなたのアイディアはもうすぐ現実になります。\n肯定的な思考を持ち続けましょう。
URL:https://jp.crsny.org/index.php/event/sumiko0522/
LOCATION:CRS (Center for Remembering & Sharing)\, 41 E 11st St. 11th Fl.\, New York\, NY\, 10003\, United States
CATEGORIES:Guest Event
ATTACH;FMTTYPE=image/gif:https://jp.crsny.org/wp-content/uploads/2016/05/breathwork.gif
GEO:40.733496;-73.989816
X-APPLE-STRUCTURED-LOCATION;VALUE=URI;X-ADDRESS=CRS (Center for Remembering & Sharing) 41 E 11st St. 11th Fl. New York NY 10003 United States;X-APPLE-RADIUS=500;X-TITLE=41 E 11st St. 11th Fl.:geo:-73.989816,40.733496
END:VEVENT
BEGIN:VEVENT
DTSTART;TZID=UTC:20160522T220000
DTEND;TZID=UTC:20160522T220000
DTSTAMP:20260420T202316
CREATED:20160329T024420Z
LAST-MODIFIED:20160329T042237Z
UID:5591-1463954400-1463954400@jp.crsny.org
SUMMARY:フェルデンクライス ATM ワークショップ 〜アゴの緊張を和らげた新しい発声法を学ぶ〜
DESCRIPTION:CRSにてフェルデンクライス ATM ワークショップを開催します。顎関節症 (TMJ) を患う方、俳優、歌手の方、その他、発声を改善されたい方のために、発声器官の緊張を優しく効果的に和らげる方法を１日かけて学ぶワークショップです。 \nフェルデンクライス ATM (Awareness Through Movement) レッスンでは、不要な筋肉運動を減らし、自身の動きに注意を向け、動作や姿勢に対する自覚を高めていく方法を学びます。インストラクターの誘導により、目的のある心地よい動きとともに効果的な動作を身につけていきます。動きに対する感覚を養い、柔軟かつ痛みから解放された身体を目指します。\n\n参加費：＄１００（５月８日までにお申し込みの場合は＄９０） \nABOUT SITA MANI (インストラクター）\nSita Mani draws on a wealth of additional experience from her long career as a professional dancer\, choreographer\, massage therapist and movement teacher to assist you in understanding what is going on in your own body as you explore these lessons and to benefit from that experience. \nShe is a graduate of the Actor’s Center Teacher Development Program and is currently on faculty at Herbert Berghof Studio and a Guest Teacher at The Scott Freeman Studio and CRS in New York. She was a founding faculty member at The Studio New York and has been a guest teacher at Mark Morris Dance School\,The New School and The Feldenkrais Institute in New York. \nSita began her movement training early\, studying Yoga and Tae Kwon Do as a child.She later studied Classical Ballet and Musical Theater Dance forms in Bombay and started her professional career on stage. She was  Principal Dancer  and Choreographer’s Assistant in The Shiamak Davar Dance Company in India from 1997-1990\,primarily doing Musical Theatre \, Music Videos and Teaching Dance. \nIn 1992 she completed The Certificate Program at the Alvin Ailey School in New York and spent ten years working with Dance and Physical Theater companies in New York\, as well as with independent choreographers from India\, Europe\, South America\, and the United States. She studied Acting at The Michael Howard Studio in New York and took up long term studies in new movement modalities\, interning for several years with Fay Simpson in Lucid Body Work and in Alexander Technique with Jean McClelland. Sita is a Guild Certified Feldenkrais Practitioner and a Licensed Massage Therapist. Her unique\, eclectic background has lead her to develop her own form of movement training\, which works towards giving performers a more refined self awareness\, physical awareness and visceral authenticity. Sita has worked at all levels of training\, ranging from the Yale School of Drama to kindergartens in the slums of Mumbai. \n 
URL:https://jp.crsny.org/index.php/event/160522atm/
LOCATION:CRS (Center for Remembering & Sharing)\, 41 E 11st St. 11th Fl.\, New York\, NY\, 10003\, United States
ATTACH;FMTTYPE=image/jpeg:https://jp.crsny.org/wp-content/uploads/2016/03/SitaMani.jpg
ORGANIZER;CN="CRS (Center for Remembering & Sharing)":MAILTO:info@crsny.org
GEO:40.733496;-73.989816
X-APPLE-STRUCTURED-LOCATION;VALUE=URI;X-ADDRESS=CRS (Center for Remembering & Sharing) 41 E 11st St. 11th Fl. New York NY 10003 United States;X-APPLE-RADIUS=500;X-TITLE=41 E 11st St. 11th Fl.:geo:-73.989816,40.733496
END:VEVENT
END:VCALENDAR