BEGIN:VCALENDAR
VERSION:2.0
PRODID:-//CRS (Center for Remembering &amp; Sharing) - ECPv6.15.20//NONSGML v1.0//EN
CALSCALE:GREGORIAN
METHOD:PUBLISH
X-WR-CALNAME:CRS (Center for Remembering &amp; Sharing)
X-ORIGINAL-URL:https://jp.crsny.org
X-WR-CALDESC:Events for CRS (Center for Remembering &amp; Sharing)
REFRESH-INTERVAL;VALUE=DURATION:PT1H
X-Robots-Tag:noindex
X-PUBLISHED-TTL:PT1H
BEGIN:VTIMEZONE
TZID:UTC
BEGIN:STANDARD
TZOFFSETFROM:+0000
TZOFFSETTO:+0000
TZNAME:UTC
DTSTART:20150101T000000
END:STANDARD
END:VTIMEZONE
BEGIN:VEVENT
DTSTART;TZID=UTC:20161008T130000
DTEND;TZID=UTC:20161008T150000
DTSTAMP:20260422T031423
CREATED:20161003T005344Z
LAST-MODIFIED:20161003T005530Z
UID:6461-1475931600-1475938800@jp.crsny.org
SUMMARY:"Talking to Spirit: How to Become a Medium & Connect with the Afterlife" — Booksigning and Talk with Emily Stroia
DESCRIPTION:Are you curious about Spirit Communication and mediumship? Do you want to know how to talk to spirit guides\, angels and passed loved ones? In this book you will discover and understand mediums and spirit communication\, making contact with the Spirit World and many ways to communicate successfully with a passed loved one! Packed with exercises and ways to communicate with the Spirit World\, you will learn everything there is to know on how to become a medium and spirit communication. \nIn this book\, Emily will teach you all the various methods and details to look for when practicing mediumship and spirit communication. You will learn all the evidence and details to look for when doing mediumship and how to communicate these details to your sitter or receiver. \nIn this book are all the keys to successful mediumship including how to tell the story of your spirit loved ones\, interpreting symbols from Spirit\, the importance of the message and how to find out what messages the Spirit wants to communicate. You will also learn how to create your own Spiritual Toolbox Kit and how to Set your Intention with the Spirit World. \nAuthor Emily Stroia is a professional Intuitive & Evidential Medium based in the New York & New Jersey area. She teaches classes\, has written several books on psychic & mediumship development available on Amazon for purchase and continues to have private sessions with clients. Visit her website\, www.emilystroia.com for more information about her.
URL:https://jp.crsny.org/index.php/event/talking-spirit-become-medium-connect-afterlife-booksigning-talk-emily-stroia/
LOCATION:CRS (Center for Remembering & Sharing)\, 41 E 11st St. 11th Fl.\, New York\, NY\, 10003\, United States
CATEGORIES:Aum Namaste Bookshop,Guest Event
ATTACH;FMTTYPE=image/jpeg:https://jp.crsny.org/wp-content/uploads/2016/10/161008-Talking-to-Spirit.jpg
ORGANIZER;CN="Aum Shanti Bookshop":MAILTO:aumshantibookshop@gmail.com
GEO:40.733496;-73.989816
X-APPLE-STRUCTURED-LOCATION;VALUE=URI;X-ADDRESS=CRS (Center for Remembering & Sharing) 41 E 11st St. 11th Fl. New York NY 10003 United States;X-APPLE-RADIUS=500;X-TITLE=41 E 11st St. 11th Fl.:geo:-73.989816,40.733496
END:VEVENT
END:VCALENDAR