BEGIN:VCALENDAR
VERSION:2.0
PRODID:-//CRS (Center for Remembering &amp; Sharing) - ECPv6.15.20//NONSGML v1.0//EN
CALSCALE:GREGORIAN
METHOD:PUBLISH
X-ORIGINAL-URL:https://jp.crsny.org
X-WR-CALDESC:Events for CRS (Center for Remembering &amp; Sharing)
REFRESH-INTERVAL;VALUE=DURATION:PT1H
X-Robots-Tag:noindex
X-PUBLISHED-TTL:PT1H
BEGIN:VTIMEZONE
TZID:UTC
BEGIN:STANDARD
TZOFFSETFROM:+0000
TZOFFSETTO:+0000
TZNAME:UTC
DTSTART:20150101T000000
END:STANDARD
END:VTIMEZONE
BEGIN:VEVENT
DTSTART;TZID=UTC:20161118T183000
DTEND;TZID=UTC:20161118T200000
DTSTAMP:20260420T184207
CREATED:20161108T203308Z
LAST-MODIFIED:20161108T235613Z
UID:6635-1479493800-1479499200@jp.crsny.org
SUMMARY:☆2017年 ニューヨーク流風水～丁酉（ひのととり)年をワクワク幸せ気分で！☆
DESCRIPTION:☆2017年 ニューヨーク流風水～丁酉（ひのととり)年をワクワク幸せ気分で！☆ \n風水では2月4日から新たな一年のエネルギーの変化となります。家や仕事場などに風水を上手に取り入れて運気アップ！2017年の予測と風水対策についてお話しします。\n健康や仕事、人間関係などにも影響する質の高い睡眠の取れるベッドルーム、家族円満のリビングルームのポイント、お子さんの勉強がはかどる子供部屋など具体例も取り上げ、風水の重要ポイントを盛り込み2017年をさらに幸せな年にするための内容となっています。四柱推命による2017年のワンポイントアドバイスも含まれます。 \n日程：2016年11月18日(金曜日)　午後６時30分から午後８時\n場所: CRS     123 4th Ave\, New York\, NY 10003\n参加費：$38\nお申し込み・お問合せ： info@fusuiny.com \n\nプロフィール：Masako   Amati（正子アマーティ）　風水コンサルタント\n風水研究暦約20年。著名風水師数名よりさまざまな伝統風水を学び、その中の一人である世界五大風水師の一人、グランドマスター・レイモンド・ロー老師に師事。\nレイモンド・ロー・ジャパン公式日本語通訳・翻訳担当。ニューヨークを拠点に風水鑑定、四柱推命鑑定、セミナー、講座など開催。\nwww.fusuiny.com\nhttp://ameblo.jp/fusuiny
URL:https://jp.crsny.org/index.php/event/fusui1118/
LOCATION:CRS (Center for Remembering & Sharing)\, 41 E 11st St. 11th Fl.\, New York\, NY\, 10003\, United States
CATEGORIES:Guest Event
ATTACH;FMTTYPE=image/png:https://jp.crsny.org/wp-content/uploads/2016/11/i-tori33.png
GEO:40.733496;-73.989816
X-APPLE-STRUCTURED-LOCATION;VALUE=URI;X-ADDRESS=CRS (Center for Remembering & Sharing) 41 E 11st St. 11th Fl. New York NY 10003 United States;X-APPLE-RADIUS=500;X-TITLE=41 E 11st St. 11th Fl.:geo:-73.989816,40.733496
END:VEVENT
END:VCALENDAR