BEGIN:VCALENDAR
VERSION:2.0
PRODID:-//CRS (Center for Remembering &amp; Sharing) - ECPv6.15.20//NONSGML v1.0//EN
CALSCALE:GREGORIAN
METHOD:PUBLISH
X-WR-CALNAME:CRS (Center for Remembering &amp; Sharing)
X-ORIGINAL-URL:https://jp.crsny.org
X-WR-CALDESC:Events for CRS (Center for Remembering &amp; Sharing)
REFRESH-INTERVAL;VALUE=DURATION:PT1H
X-Robots-Tag:noindex
X-PUBLISHED-TTL:PT1H
BEGIN:VTIMEZONE
TZID:UTC
BEGIN:STANDARD
TZOFFSETFROM:+0000
TZOFFSETTO:+0000
TZNAME:UTC
DTSTART:20160101T000000
END:STANDARD
END:VTIMEZONE
BEGIN:VEVENT
DTSTART;VALUE=DATE:20170503
DTEND;VALUE=DATE:20170713
DTSTAMP:20260421T133559
CREATED:20170428T005932Z
LAST-MODIFIED:20170428T010025Z
UID:7640-1493769600-1499903999@jp.crsny.org
SUMMARY:個展：Deanna Lee「Rhythmic Continuity 」
DESCRIPTION:CRSギャラリーでは、ブルックリンをベースに活動するDeanna Lee の個展「Rhythmic Continuity 」を、5月3日から7月12日まで開催します。\n今回はDeannanにとって３年ぶり、初の単独での個展です。数年かけて探求してきた、自然の形状やシステムからインスパイアされ絵画として表現してきたパターンを、２つのタイプに分けてご紹介します。 \nアーティストステイトメント：\n私の作品は、自然界と構築環境の成長と崩壊をパターン化してできたものです。 幼い頃、私は電子顕微鏡写真と実験標本を見ていました。今でも、自然の形状を抽象画とする事に夢中になっています。\n私は、自由で不完全、そしてはかなさを感じる手描きの線を主に使用します。伝統的なアジアの水墨画との類似性はあまりないと考えています。\n私の絵画、ドローイング、およびサイトスペシフィックのインスタレーションでは、自然の力によって形作られた感情的共鳴を描写しようと努力しています。いくつかの作品では、さまざまな自然体からの影響を呼び起させるような、多くの線を描いています。それらは、髪の毛の有機的形態、筋肉、糸状菌であったり、波や気流の自然形態、地層、地形図などです。他の作品では、私をとりまく物理的環境を解釈し、手書きのラインで表現します。それらは、私が以前使用していたスタジオカーブしている窓や、腐敗した壁などです。 \n私の制作過程はベニヤ板やひびの入った石膏などの表面のトレースや摺り写しする作業を含みます。私はこれらの印を、自然の影響を受けた書道的、かつ定常的な印としてとらえています。水や重力のように、人為的につくられたものではなく、天井・壁・床の表面に、成長の残留そして変化や腐敗を記録したかのような印です。私は自分の作品を、個人的な解釈である、時間の物理的証拠として考えています。 \n経歴：\nDeanna Lee was born in Carmel\, New York\, to parents who emigrated from China and Taiwan\, and she was raised in suburban Boston. After many years of classical music training on several instruments\, she received degrees in art from Oberlin College and the School of the Art Institute of Chicago\, and she studied at the Rome campus of the Tyler School of Art. \nShe has had solo exhibitions at Robert Henry Contemporary\, Wave Hill\, and PS122 in New York City; Earlville Opera House\, New York; and Artemisia Gallery\, Chicago. Her work has appeared in group shows at numerous venues\, including: The Drawing Center\, Abrons Art Center\, NURTUREart\, Trestle Projects\, Pace University\, and Schema Projects in New York City; Aron Packer Gallery\, Hyde Park Art Center\, and Jan Cicero Gallery in Chicago; SPACES in Cleveland; Maloney Gallery\, Morristown\, New Jersey; and George Mason University\, Fairfax\, Virginia. \nDeanna’s public art works include a 700-foot-long mural on bicycle path barriers in Flushing\, Queens\, commissioned by the NYC Department of Transportation; a custom design for tree guards in the Fort Greene and Clinton Hill neighborhoods of Brooklyn; and a site-specific drawing installation for a storefront window in Bay Ridge\, Brooklyn. \nShe has received a Pollock-Krasner Foundation grant\, a travel grant from the Asia Society in New York\, the BRIC Media Fellowship in Brooklyn\, the Manhattan Graphics Center Scholarship\, the Linda Kramer Fellowship in Chicago\, and two grants from the Chicago Department of Cultural Affairs. She was a 2010 recipient of a Abbey Mural Fellowship from the National Academy. In 2004\, she was an artist-in-residence at the Millay Colony for the Arts\, and she was a 2012 artist-in-residence at Saltonstall Foundation for the Arts. In August 2017\, she will be an artist-in-residence at Kingsbrae Gardens in New Brunswick\, Canada. \nDeanna lives and works in Brooklyn\, New York.
URL:https://jp.crsny.org/index.php/event/deanna-lee/
LOCATION:CRS (Center for Remembering & Sharing)\, 41 E 11st St. 11th Fl.\, New York\, NY\, 10003\, United States
CATEGORIES:CRS Presents,Exhibition
ATTACH;FMTTYPE=image/jpeg:https://jp.crsny.org/wp-content/uploads/2017/04/Deanna.jpg
ORGANIZER;CN="CRS (Center for Remembering & Sharing)":MAILTO:info@crsny.org
GEO:40.733496;-73.989816
X-APPLE-STRUCTURED-LOCATION;VALUE=URI;X-ADDRESS=CRS (Center for Remembering & Sharing) 41 E 11st St. 11th Fl. New York NY 10003 United States;X-APPLE-RADIUS=500;X-TITLE=41 E 11st St. 11th Fl.:geo:-73.989816,40.733496
END:VEVENT
BEGIN:VEVENT
DTSTART;TZID=UTC:20170519T190000
DTEND;TZID=UTC:20170519T210000
DTSTAMP:20260421T133559
CREATED:20170424T221331Z
LAST-MODIFIED:20170509T034554Z
UID:7600-1495220400-1495227600@jp.crsny.org
SUMMARY:CRS サウンド・ヒーリング・サークル
DESCRIPTION:アメリカ先住民のアラパホ族は、５月を「when the ponies shed their shaggy hair（馬の毛が夏用に生え変わる時）」と表現します。\n今回のサークルでは、私たちの毛羽立った思いを払い落とすことを試みましょう！\nCRSのヒーラーである佐藤みよ子が、クリスタルボウルでメディテーションをリードします。\n平和の場所へと旅立ち、パワーアニマルとともに舞い、やっかいな重荷をこれ以上背負い続けなくてもいいように手放しましょう。 \n前日の5月18日までにお申し込みの場合は２０ドルです。当日のお申し込みは２５ドルとなります。 \n*****このヒーリング・サークルは、『奇跡のコース（奇跡講座）』の教えをもとに、わたしたちはひとつであり、同じであり、つねに愛を表現する完璧な存在であることを思い出す目的で、すべての方を対象に行われます。瞑想など未経験の方や毎月お越しになれない方もご参加いただけます。ノートを取りたい方は筆記用具をご持参ください。\n毎回ビジョンや経験の中に愛を見出す練習をします。シャーマンの癒しの伝統をはじめ、さまざまなものを取り入れますが、そうしたものを不可欠なものと捉えたり、優越をつけて重要視することを追求する集まりではありません。どんな経験でも、他者とつながって、真の自分を思い出すために活かすことができます。ただ楽しんで一緒に真実を発見していきましょう。\n毎月テーマごとに行なわれる魂の旅をお楽しみください。そしてまた、ご自分の愛と強さをどのように人とシェアするのかをご一緒に学んでいきましょう。
URL:https://jp.crsny.org/index.php/event/healing-circle-5-19/
LOCATION:CRS (Center for Remembering & Sharing)\, 41 E 11st St. 11th Fl.\, New York\, NY\, 10003\, United States
CATEGORIES:CRS Presents
ATTACH;FMTTYPE=image/jpeg:https://jp.crsny.org/wp-content/uploads/2016/01/FullSizeRender-1.jpg
ORGANIZER;CN="CRS (Center for Remembering & Sharing)":MAILTO:info@crsny.org
GEO:40.733496;-73.989816
X-APPLE-STRUCTURED-LOCATION;VALUE=URI;X-ADDRESS=CRS (Center for Remembering & Sharing) 41 E 11st St. 11th Fl. New York NY 10003 United States;X-APPLE-RADIUS=500;X-TITLE=41 E 11st St. 11th Fl.:geo:-73.989816,40.733496
END:VEVENT
END:VCALENDAR