BEGIN:VCALENDAR
VERSION:2.0
PRODID:-//CRS (Center for Remembering &amp; Sharing) - ECPv6.15.20//NONSGML v1.0//EN
CALSCALE:GREGORIAN
METHOD:PUBLISH
X-WR-CALNAME:CRS (Center for Remembering &amp; Sharing)
X-ORIGINAL-URL:https://jp.crsny.org
X-WR-CALDESC:Events for CRS (Center for Remembering &amp; Sharing)
REFRESH-INTERVAL;VALUE=DURATION:PT1H
X-Robots-Tag:noindex
X-PUBLISHED-TTL:PT1H
BEGIN:VTIMEZONE
TZID:UTC
BEGIN:STANDARD
TZOFFSETFROM:+0000
TZOFFSETTO:+0000
TZNAME:UTC
DTSTART:20170101T000000
END:STANDARD
END:VTIMEZONE
BEGIN:VEVENT
DTSTART;VALUE=DATE:20180310
DTEND;VALUE=DATE:20180509
DTSTAMP:20260423T165947
CREATED:20180301T215239Z
LAST-MODIFIED:20180301T220429Z
UID:11517-1520640000-1525823999@jp.crsny.org
SUMMARY:個展The Color of Energy — Recent Paintings by Janet Morgan
DESCRIPTION:CRS ギャラリーでは、「The Color of Energy 」と題しまして、Janet Morganによるペインティングを3月10日から5月8日まで展示いたします。\nまた、3月10日、6時から8時に彼女を迎えてのオープニングレセプションを行いますので、是非ご参加ください。 \nARTIST STATEMENT \nWe think of our bodies as solid\, enclosed\, finite\, self sufficient\, contained. But we share many things\, visible and not\, with the world around us. We share energy of all kinds with other beings\, plants\, machines\, nature and the cosmos. We take for granted our life partner — our physical being — who makes life possible and carries us through this world for decades and sometimes for a century. We move not through the world but as part of it\, sharing breath\, resources\, spirit and life energy. \nMy artwork is grounded in the body\, the kinesthetic: movement\, music\, and dance — and in the body’s subtle forces — emotional\, spiritual and healing energies. The quest for the underlying energy source runs through all of my work — like the Sufis I find no separation between the divine and the body. And why is this work be important? We live in a time of much anger and violence\, and communication is often disembodied. The disconnect between ourselves and the natural world is causing serious problems. We need to come home to our bodies\, our animal-ness\, our human-ness\, our body-temples. \nMy artistic practice covers a vast range of work\, mainly painting and drawing\, but also community environmental art and collaboration. The art includes landscapes painted all over the world\, and a few large series of works grounded in the body: 200 large watercolors of traditional and new deities (I teach a workshop on making your own deities)\, wild women\, dancers and now art about the body’s energy. I have enjoyed collaborations with dancers\, scientists\, movement teachers\, and writers. I have taught at the Rubin Museum of Art\, The Chapel of Sacred Mirrors\, the Art Students League and the Canyons of Utah. \nhttp://www.janetmorgan-art.net
URL:https://jp.crsny.org/index.php/event/the-color-energy-recent-paintings-janet-morgan/
LOCATION:CRS (Center for Remembering & Sharing)\, 41 E 11st St. 11th Fl.\, New York\, NY\, 10003\, United States
CATEGORIES:CRS Presents,Exhibition
ATTACH;FMTTYPE=image/jpeg:https://jp.crsny.org/wp-content/uploads/2018/03/180310-postcard-painting-by-Janet-Morgan.jpg
ORGANIZER;CN="CRS (Center for Remembering & Sharing)":MAILTO:info@crsny.org
GEO:40.733496;-73.989816
X-APPLE-STRUCTURED-LOCATION;VALUE=URI;X-ADDRESS=CRS (Center for Remembering & Sharing) 41 E 11st St. 11th Fl. New York NY 10003 United States;X-APPLE-RADIUS=500;X-TITLE=41 E 11st St. 11th Fl.:geo:-73.989816,40.733496
END:VEVENT
BEGIN:VEVENT
DTSTART;TZID=UTC:20180408T150000
DTEND;TZID=UTC:20180408T161500
DTSTAMP:20260423T165947
CREATED:20180221T220826Z
LAST-MODIFIED:20180221T221938Z
UID:11330-1523199600-1523204100@jp.crsny.org
SUMMARY:アウェイクニング・ベリーダンス
DESCRIPTION:楽しくベリーダンスを踊ってみませんか？\n世界最古の踊りとも言われているベリーダンスは、豊穣や子宝、宇宙への感謝と祈りが起源と言われています。\nシェイプアップやワークアウトにも適しているベリーダンス。体や自分を表現することに自信をつけたい方にもオススメです。\nベリーダンス特有の腰や体をうねらせる動きは、コアマッスルを鍛えるだけでなく子宮周りの筋肉も鍛えるので、婦人科系の病気の予防にもなると言われています。\nアウェイクニング・ベリーダンスでは、レッスン前に色の癒しタイムとミニレクチャー。その日のカラーのエッセンスを使用した癒しタイムからのスタートです。初心者向けのクラスです。ダンス経験がない方も大丈夫。\nゆっくり丁寧に教えます。お気軽にご参加ください。 \n4月8日、15日、29日（日）\n午後３時～４時１５分\n２５ドル \n裸足で踊ります。動きやすい服装できれば体にフィットしたものでいらしてください。\nお腹を出す必要はありません。 \n問い合わせ＊申し込み   kaoru.rainbowarts@gmail.com \nKAORU\nパフォーミングアーティスト / オラクルアーティスト\n山口県出身。パフォーミングアーティスト、ショーガールとしてニューヨークを拠点に活動中。\n自身がベリーダンスをきっかけに摂食障害を克服し体に対する前向きな気持ちになれたことからその癒しの効果を体験。またその後プロとして踊り始める。\n現在カラーセラピーとベリーダンスを融合させ心と体の双方からアプローチする「アウェイクニング・ベリーダンス」をNY、日本で教えている。\nHP : www.kaorunyc.com\nブログ : https://ameblo.jp/rainbowdancearts/\nYoutube : https://goo.gl/Aqsmxq
URL:https://jp.crsny.org/index.php/event/awakening_bellydance/2018-04-08/
LOCATION:CRS (Center for Remembering & Sharing)\, 41 E 11st St. 11th Fl.\, New York\, NY\, 10003\, United States
CATEGORIES:Guest Event
ATTACH;FMTTYPE=image/jpeg:https://jp.crsny.org/wp-content/uploads/2018/02/IMG_2945.jpg
ORGANIZER;CN="Kaoru Matsuoka":MAILTO:viva_cham79@hotmail.com
GEO:40.733496;-73.989816
X-APPLE-STRUCTURED-LOCATION;VALUE=URI;X-ADDRESS=CRS (Center for Remembering & Sharing) 41 E 11st St. 11th Fl. New York NY 10003 United States;X-APPLE-RADIUS=500;X-TITLE=41 E 11st St. 11th Fl.:geo:-73.989816,40.733496
END:VEVENT
END:VCALENDAR