BEGIN:VCALENDAR
VERSION:2.0
PRODID:-//CRS (Center for Remembering &amp; Sharing) - ECPv6.15.20//NONSGML v1.0//EN
CALSCALE:GREGORIAN
METHOD:PUBLISH
X-ORIGINAL-URL:https://jp.crsny.org
X-WR-CALDESC:Events for CRS (Center for Remembering &amp; Sharing)
REFRESH-INTERVAL;VALUE=DURATION:PT1H
X-Robots-Tag:noindex
X-PUBLISHED-TTL:PT1H
BEGIN:VTIMEZONE
TZID:America/New_York
BEGIN:DAYLIGHT
TZOFFSETFROM:-0500
TZOFFSETTO:-0400
TZNAME:EDT
DTSTART:20230312T070000
END:DAYLIGHT
BEGIN:STANDARD
TZOFFSETFROM:-0400
TZOFFSETTO:-0500
TZNAME:EST
DTSTART:20231105T060000
END:STANDARD
BEGIN:DAYLIGHT
TZOFFSETFROM:-0500
TZOFFSETTO:-0400
TZNAME:EDT
DTSTART:20240310T070000
END:DAYLIGHT
BEGIN:STANDARD
TZOFFSETFROM:-0400
TZOFFSETTO:-0500
TZNAME:EST
DTSTART:20241103T060000
END:STANDARD
BEGIN:DAYLIGHT
TZOFFSETFROM:-0500
TZOFFSETTO:-0400
TZNAME:EDT
DTSTART:20250309T070000
END:DAYLIGHT
BEGIN:STANDARD
TZOFFSETFROM:-0400
TZOFFSETTO:-0500
TZNAME:EST
DTSTART:20251102T060000
END:STANDARD
END:VTIMEZONE
BEGIN:VEVENT
DTSTART;TZID=America/New_York:20241130T130000
DTEND;TZID=America/New_York:20241228T163000
DTSTAMP:20260420T142505
CREATED:20240718T141700Z
LAST-MODIFIED:20240718T143111Z
UID:23071-1732971600-1735403400@jp.crsny.org
SUMMARY:2024秋の香咲弥須子福岡セミナー
DESCRIPTION:《2024秋の香咲弥須子福岡セミナー》\n\n                                    \n\n「私たちの平和憲法、私自身の掟」\n日本国憲法前文。おこがましくも書き換えて、私たちの法、あるいは、わたし自身の掟として、ここに記します。\n私は、真の自身の声を通して行動します。\n私は、地上のあらゆる兄弟姉妹たちとの平和な協力によって支えられる実りと、大地の隅々まで広がる、自由がもたらしてくれる恵みを、決して見過ごさないことを心に決めました。私自身のため、そして私たちの子孫たちのために。\n私は、闘い（戦争）と恐怖（攻撃と守りの恐怖）を、心の中に決して起こさせないことを決意しています。\n私は、私たち一人ひとりが、同様の、最高の、完璧な力を持つことを宣言します。\nそして私は揺るぎない意志で、この掟を定めました。\n私の生命の統治は、私自身が信頼を通して認識した神によっています。神の権威は心の中に在り、そこから行使され、私たち全員にその恵みが分かち合われ、祝福されています。\nこれは、全員がもつ原則であり、この掟は、この原則に基づいています。\n私は、これに反するいかなる法、“常識”、葛藤、攻撃を排除します。\n私は、神の中で、永遠の平和に留まります。\n私は、人と人との友好関係を司っているこの聖なるものをいつも自覚していたい。\n私は、世界中の人々の同様の思いを信頼し、私たちの安全と存続を決意しています。\n平和を守り、専制、奴隷制、圧制、偏狭を追放しようとしているこの地上で、私は、誇り高くいたいと願っています。\n世界中の人々が、恐怖も欠乏もない、平和な暮らしの権利を持っていることを私は認識しています。\n私は、地球上のどこに暮らしていても、常にすべての国、人々と共にあるという法が通用しない場所はないと知っています。自身の主権を保ち、すべての人々と対等な関係を築こうとする私たちにとって、この掟に従うことは生命の土台なのだと、私は認識しています。\n私は、自身の生命を賭けて、全力で、この目的を日々忘れず、日々達成することを、ここに誓います。 \nこの文章は、香咲弥須子さんが、昨年福岡セミナーでお話しされた『掟』について、香咲さんのnoteに記された内容です。\n東京が開催の拠点として当たり前だった香咲弥須子セミナー。初めて福岡に会場を移し、2日間にわたり開催された去年の秋。日本全国からお集まりいただき、ありがとうございました。\n今春は東京・山陰で開催され、そして秋は、また福岡での開催が決まりました。\n昨年、香咲さんのお話しの中での『掟』が心に残った方は大勢いらっしゃるのではないでしょうか。\n以前、香咲さんが「本気でやりましょうよ」と言われた言葉が、心に残り、本気でやるとは、どういうことなのかを考えました。その答えは、「愛だけを見る」愛以外のものは存在しないのです。でも、「…とは言ってもね…」という出来事が起こる！という話しになりました。\nそして、そのセミナーの中で『掟』という言葉を使って、お話をされました。\nその後、香咲さんのnoteを読んだ私は、ブレることのない、力強さを感じました。\n今年は、続『掟』と題して、「真の自分自身の掟」を心に決めるために、あふれんばかりの《愛》を皆さんと一緒に受け取りたいです。\n私はシェア会を開催していますが、日常のいろいろな出来事は《愛》しかないことを思い出す時間になっています。私たちは、ひとりではありません。ひとつです。分かち合う中で、信頼が深まり、愛が広がります。\n愛❤️心はひとつ\n『あなたが愛の使者、愛の旅人であるならば、あなたの人生風景は、どんなものになるのでしょうか。』 \n\n是非、福岡にお集まりください。\n香咲弥須子福岡セミナー\nオーガナイザー：寺﨑史子 \n〜　〜　・　〜　〜　・　〜　〜　・　〜　〜　・　〜　〜　 \n【日　時】11月30日(土)\n開始 13:00、終了 16:30(ドアクローズ) 15分くらい休憩が入ります。 \n【会　場】リファレンス大博多ビル貸会議室 11階：1123号室　 アクセス \n【参加費】 20\,000円 \nお申し込みは、\n＊ スマートフォン用フォーム   \n＊ パソコン用フォーム\nご予約受付中です！ \nセミナー終了後17:00より、同ビル12階：頤和園にて懇親会(自由参加)\n参加費：5\,000円 \n\n〜　〜　・　〜　〜　・　〜　〜　・　〜　〜　・　〜　〜 \nご不明な点など、お問い合わせは、 \nacimfukuoka@gmail.com　寺﨑史子まで
URL:https://jp.crsny.org/index.php/event/20241130-fukuoka-seminar/
LOCATION:リファレンス大博多ビル貸会議室\, Fukuoka\, 812-0011\, Japan
GEO:33.5926053;130.4157339
END:VEVENT
END:VCALENDAR