BEGIN:VCALENDAR
VERSION:2.0
PRODID:-//CRS (Center for Remembering &amp; Sharing) - ECPv6.15.20//NONSGML v1.0//EN
CALSCALE:GREGORIAN
METHOD:PUBLISH
X-ORIGINAL-URL:https://jp.crsny.org
X-WR-CALDESC:Events for CRS (Center for Remembering &amp; Sharing)
REFRESH-INTERVAL;VALUE=DURATION:PT1H
X-Robots-Tag:noindex
X-PUBLISHED-TTL:PT1H
BEGIN:VTIMEZONE
TZID:UTC
BEGIN:STANDARD
TZOFFSETFROM:+0000
TZOFFSETTO:+0000
TZNAME:UTC
DTSTART:20170101T000000
END:STANDARD
END:VTIMEZONE
BEGIN:VEVENT
DTSTART;VALUE=DATE:20180310
DTEND;VALUE=DATE:20180509
DTSTAMP:20260420T145122
CREATED:20180301T215239Z
LAST-MODIFIED:20180301T220429Z
UID:11517-1520640000-1525823999@jp.crsny.org
SUMMARY:個展The Color of Energy — Recent Paintings by Janet Morgan
DESCRIPTION:CRS ギャラリーでは、「The Color of Energy 」と題しまして、Janet Morganによるペインティングを3月10日から5月8日まで展示いたします。\nまた、3月10日、6時から8時に彼女を迎えてのオープニングレセプションを行いますので、是非ご参加ください。 \nARTIST STATEMENT \nWe think of our bodies as solid\, enclosed\, finite\, self sufficient\, contained. But we share many things\, visible and not\, with the world around us. We share energy of all kinds with other beings\, plants\, machines\, nature and the cosmos. We take for granted our life partner — our physical being — who makes life possible and carries us through this world for decades and sometimes for a century. We move not through the world but as part of it\, sharing breath\, resources\, spirit and life energy. \nMy artwork is grounded in the body\, the kinesthetic: movement\, music\, and dance — and in the body’s subtle forces — emotional\, spiritual and healing energies. The quest for the underlying energy source runs through all of my work — like the Sufis I find no separation between the divine and the body. And why is this work be important? We live in a time of much anger and violence\, and communication is often disembodied. The disconnect between ourselves and the natural world is causing serious problems. We need to come home to our bodies\, our animal-ness\, our human-ness\, our body-temples. \nMy artistic practice covers a vast range of work\, mainly painting and drawing\, but also community environmental art and collaboration. The art includes landscapes painted all over the world\, and a few large series of works grounded in the body: 200 large watercolors of traditional and new deities (I teach a workshop on making your own deities)\, wild women\, dancers and now art about the body’s energy. I have enjoyed collaborations with dancers\, scientists\, movement teachers\, and writers. I have taught at the Rubin Museum of Art\, The Chapel of Sacred Mirrors\, the Art Students League and the Canyons of Utah. \nhttp://www.janetmorgan-art.net
URL:https://jp.crsny.org/index.php/event/the-color-energy-recent-paintings-janet-morgan/
LOCATION:CRS (Center for Remembering & Sharing)\, 41 E 11st St. 11th Fl.\, New York\, NY\, 10003\, United States
CATEGORIES:CRS Presents,Exhibition
ATTACH;FMTTYPE=image/jpeg:https://jp.crsny.org/wp-content/uploads/2018/03/180310-postcard-painting-by-Janet-Morgan.jpg
ORGANIZER;CN="CRS (Center for Remembering & Sharing)":MAILTO:info@crsny.org
GEO:40.733496;-73.989816
X-APPLE-STRUCTURED-LOCATION;VALUE=URI;X-ADDRESS=CRS (Center for Remembering & Sharing) 41 E 11st St. 11th Fl. New York NY 10003 United States;X-APPLE-RADIUS=500;X-TITLE=41 E 11st St. 11th Fl.:geo:-73.989816,40.733496
END:VEVENT
BEGIN:VEVENT
DTSTART;TZID=UTC:20180422T190000
DTEND;TZID=UTC:20180422T201500
DTSTAMP:20260420T145122
CREATED:20180408T174127Z
LAST-MODIFIED:20180421T201145Z
UID:11836-1524423600-1524428100@jp.crsny.org
SUMMARY:Shan.Shui (山水\, Mountain Water): an improvisational concert in six movements
DESCRIPTION:CRS presents Shan.Shui (山水\, Mountain Water)\,  an improvisational concert of music and dance in six movements by cellist JunYi Chow\, shō player Chatori Shimizu\, crystal singing bowl player Miyoko Satoh\, and binbinFactory dance artist Satoshi Haga.\nThe performance is inspired by the paradoxical feelings that arise when viewing paintings in the Shan.Shui landscape tradition of China\, particularly scenes of mountains bathed in clouds. The typically blueish mist suggests the gently flowing waves of a tranquil sea\, and yet the vastness of the mountain ranges also imparts a sense of magnificent solidity. Holding this image and these feelings in their mind\, the performers will seek to transmit them in some way to the audience through six sections of about 10 minutes each: Solo 1 – Solo 2 – Duo – Trio – Quartet – CODA. \nThe concert will take place at CRS on Sunday\, April 22\, 2018 at 7 pm. Tickets are $25 at the door and $20 before 4/22 and are available online\, by phone (212-677-8621)\, and at CRS. Tickets for students with ID are $20 at the door. \nThis concert is part of an informal series of chamber concerts at CRS incorporating meditation as a means of deepening the connection between artists and audience and is the second such concert at CRS involving musicians JunYi Chow and Miyoko Satoh. \nMalaysia-born\, New York-based composer\, multi-instrumentalist and improviser JunYi Chow’s music has been lauded by the Financial Times for its “skilful contrasts in both volume and texture.” His interest in music explores the indefinite possibilities of tone colour and sound\, and features a mixed musical style based on classical contemporary music\, Chinese tunes\, Gamelan music\, minimalism\, and popular music\, amongst other influences. In March 2017\, he received the Grand Prize of Best Orchestra Work by Hong Kong Chinese Orchestra International Composition Competition. He recently presented “Stillness in Queens\,” a collaborative cross-disciplinary work with video artist Karen Y. Chan that was partly funded by the Queens Council On The Arts. He is currently the Composer-In-Residence of Teng Company (Singapore) and Vivo Experimental Orchestra (Malaysia). He graduated from Indiana University and Central Conservatory of Music\, majoring in music composition. http://www.junyichow.com \nSatoshi Haga has been collaborating with Rie Fukuzawa as binbinFactory since 2010. He also collaborates with Jen Shyu\, composer\, vocalist and band leader. Satoshi recently worked for the off-Broadway show\, TBTB production of Charles Ludlam’s “The Artificial Jungle” as Puppet Master. binbinFactory collaborated with TBTB and toured in Japan in 2017. binbinFactory will perform in France in July and will be in residency in Norway in October of 2018.\nhttp://www.binbinfactory.org \nMiyoko Satoh is a Spiritual Healer. She was born and raised in Japan. In her childhood she awakened to her spiritual awareness of the world beyond. In 2001\, she began studying A Course in Miracles and meditation further developing her spiritual awareness at CRS. In 2004\, she began offering spiritual counseling and energy healing work. She also expresses her creativity in different ways such as dancing\, singing and playing Crystal Singing Bowls. She offers private healing sessions\, counseling for relationship\, career etc…..\, and sound healing with crystal singing bowls.\nhttp://miyokosspiritualgarden.com/home.html \nChatori Shimizu is a Berlin based composer\, shō improviser\, and sound artist\, who constructs his works for a wide range of mediums concerning sound and space. Shimizu’s works have been performed and exhibited in concerts and festivals throughout the United States\, Japan\, Europe\, China\, and South East Asia. Shimizu has been awarded fellowships from Columbia University School of the Arts\, Institute of Medieval Japanese Studies\, the Mitsubishi Foundation\, Omi International Arts Center\, Soundstreams\, Toshiba Foundation\, Yaddo\, among others. He holds degrees from Columbia University (MFA in Sound Arts) and Kunitachi College of Music (BA in Computer Music and Composition).\nhttp://www.chatorishimizu.com
URL:https://jp.crsny.org/index.php/event/shan-shui-mountain-water-an-improvisational-concert-in-six-movements042218/
LOCATION:CRS (Center for Remembering & Sharing)\, 41 E 11st St. 11th Fl.\, New York\, NY\, 10003\, United States
CATEGORIES:CRS Presents
ATTACH;FMTTYPE=image/jpeg:https://jp.crsny.org/wp-content/uploads/2018/04/180422-concert.jpg
ORGANIZER;CN="CRS (Center for Remembering & Sharing)":MAILTO:info@crsny.org
GEO:40.733496;-73.989816
X-APPLE-STRUCTURED-LOCATION;VALUE=URI;X-ADDRESS=CRS (Center for Remembering & Sharing) 41 E 11st St. 11th Fl. New York NY 10003 United States;X-APPLE-RADIUS=500;X-TITLE=41 E 11st St. 11th Fl.:geo:-73.989816,40.733496
END:VEVENT
BEGIN:VEVENT
DTSTART;TZID=UTC:20180428T133000
DTEND;TZID=UTC:20180428T153000
DTSTAMP:20260420T145122
CREATED:20180216T063232Z
LAST-MODIFIED:20180216T063232Z
UID:11252-1524922200-1524929400@jp.crsny.org
SUMMARY:Make the Shift from Anxiety to Love with Author Corinne Zupko
DESCRIPTION:CRS is delighted to welcome Licensed Professional Counselor and A Course in Miracles lecturer and author Corinne Zupko to speak about her new bestselling book\, From Anxiety to Love: A Radical New Approach for Letting Go of Fear and Finding Lasting Peace. Some of us may know Corinne from her lectures at the recent CMC A Course in Miracles conferences. \nAdmission is $20 cash at the door. Copies of From Anxiety to Love will be available for purchase and signing by Corinne for $12 cash. \nA Course in Miracles is a pathway that can change your life trajectory. In this workshop\, learn from anxiety veteran Corinne Zupko how to release fear and find peace by working with a healing part of your very own mind\, which Corinne calls your Inner Therapist. You’ll hear the story of how she recovered from multiple anxiety disorders and will learn practical and healing tools from her new bestselling book. \nWith her wonderful book\, From Anxiety to Love: A Radical New Approach to Letting Go of Fear and Finding Lasting Peace\, Corinne Zupko gives us a masterly outline of the best way to dissolve fear from our lives\, and allow the glowing love it was hiding into our awareness. Corinne’s clarity is impressive\, and she articulates the knowledge of an advanced teacher in a way that all can accept and understand. I can’t recommend this book highly enough.\n— GARY RENARD\, Best-selling author of The Disappearance of the Universe trilogy\, and The Lifetimes When Jesus and Buddha Knew Each Other \nI have known Corinne for many years\, first as a Course teacher and then as a dear friend. When she originally spoke to me of using A Course in Miracles to heal debilitating anxiety\, I didn’t have any idea of the depths from which she has risen. To see Corinne now is to see someone genuinely happy who regularly turns to her inner guidance versus getting trapped in fruitless guilt and rumination. I’m so thrilled A Course in Miracles has transformed Corinne’s anxiety into deep inner peace – and I’m equally thrilled she’s sharing this extraordinary path with you. — EMILY BENNINGTON\, Circle of Atonement\, Author of Miracles at Work: Turning Inner Guidance into Outer Wisdom \nCorinne Zupko\, EdS\, MA\, LPC\, is the author of From Anxiety to Love: A Radical New Approach for Letting Go of Fear and Finding Lasting Peace (New World Library\, 2018). She began her work with A Course in Miracles and mindfulness meditation after struggling with debilitating anxiety and panic attacks\, and now lives anxiety-free. Corinne is a keynote speaker\, Adjunct Professor of Counselor Education at The College of New Jersey\, licensed counselor\, Board Certified Coach and teaches weekly mindfulness meditation classes at a major U.S. financial institution. http://www.fromanxietytolove.com
URL:https://jp.crsny.org/index.php/event/make-shift-anxiety-love-author-corinne-zupko/
LOCATION:CRS (Center for Remembering & Sharing)\, 41 E 11st St. 11th Fl.\, New York\, NY\, 10003\, United States
CATEGORIES:CRS Presents
ATTACH;FMTTYPE=image/jpeg:https://jp.crsny.org/wp-content/uploads/2018/02/From-Anxiety-to-Love.jpeg
ORGANIZER;CN="CRS (Center for Remembering & Sharing)":MAILTO:info@crsny.org
GEO:40.733496;-73.989816
X-APPLE-STRUCTURED-LOCATION;VALUE=URI;X-ADDRESS=CRS (Center for Remembering & Sharing) 41 E 11st St. 11th Fl. New York NY 10003 United States;X-APPLE-RADIUS=500;X-TITLE=41 E 11st St. 11th Fl.:geo:-73.989816,40.733496
END:VEVENT
END:VCALENDAR