BEGIN:VCALENDAR
VERSION:2.0
PRODID:-//CRS (Center for Remembering &amp; Sharing) - ECPv6.15.20//NONSGML v1.0//EN
CALSCALE:GREGORIAN
METHOD:PUBLISH
X-ORIGINAL-URL:https://jp.crsny.org
X-WR-CALDESC:Events for CRS (Center for Remembering &amp; Sharing)
REFRESH-INTERVAL;VALUE=DURATION:PT1H
X-Robots-Tag:noindex
X-PUBLISHED-TTL:PT1H
BEGIN:VTIMEZONE
TZID:UTC
BEGIN:STANDARD
TZOFFSETFROM:+0000
TZOFFSETTO:+0000
TZNAME:UTC
DTSTART:20160101T000000
END:STANDARD
END:VTIMEZONE
BEGIN:VEVENT
DTSTART;TZID=UTC:20170906T130000
DTEND;TZID=UTC:20170906T145000
DTSTAMP:20260423T180736
CREATED:20170806T194509Z
LAST-MODIFIED:20170811T041736Z
UID:8879-1504702800-1504709400@jp.crsny.org
SUMMARY:初めてのお能 Fall 2017
DESCRIPTION:NYの慌ただし日常の中、お能で束の間の静寂な時を体験してみましょう。\n”動く座禅”とも言われるお能の舞で身体の軸をゆったりと下ろし、深い呼吸の謡（声楽）で意識を整え、長い歴史を持つお能の謡と舞で日本の美しい所作を学ぶ講座です。 \n日程: 9月6日、9月20日、 10月4日、10月18日\n初級クラス 1:00PM~1:50PM（定員８名）\n中級クラス 2:00PM~2:50PM（定員５名）\n代金：4回レッスン $140 (Noh Society members $120) \n初級クラス内容\n1、 歴史とお能の時空について\n2、謡(声楽): 能「熊野」より -発声法 節使い-\n3、お能の身体 -構え すり足 型 扇の扱い-\n4、仕舞(舞):能「熊野」より仕舞 -構え すり足 型 扇の扱い- \n中級クラス内容\n1、能面:依代としての面について\n2、謡 (声楽):能「羽衣」より – 発声法 節使い 呼吸について-\n3、仕舞(舞 前半):能「羽衣」より -構え すり足 型-\n4、謡 仕舞 :能「羽衣」より \n[必要なもの] 扇(初回貸出有。但し数に限りがある為、できれば購入して下さい。仕舞扇 $52) 白足袋、動きやすい服装 \nお能とは\n江戸時代までは猿楽と呼ばれて おり、室町時代に観阿弥、世阿 弥により大成された歌舞劇。6 50年以上の歴史を持つ日本伝 統芸能で、現在はユネスコ世界 無形遺産に指定されている。 \n謡とは\n能の舞などに添えらえる歌謡。舞台の状況描写や登場人物の深い心情を台詞や歌 で朗唱するもの。 \n仕舞とは\n能の舞の部分を装束をつけず紋付、袴で地謡(バックコーラス)と共に舞うもの。 \n講師：三輪万葉\n幼少より美術教育を受ける。東京藝術大学にて能楽専攻、能楽観世流シテ方 を学ぶ。渡米後、能の身体を探求しながら様々な分野のアーティストとコラ ボレーションを行う。現在、Noh Society Vice presidentとしてニューヨーク拠点 に日本在住の能、狂言師と共に能楽教育活動を行っている。
URL:https://jp.crsny.org/index.php/event/noh-class-fall-2017/
LOCATION:CRS (Center for Remembering & Sharing)\, 41 E 11st St. 11th Fl.\, New York\, NY\, 10003\, United States
CATEGORIES:Guest Event
ATTACH;FMTTYPE=image/png:https://jp.crsny.org/wp-content/uploads/2017/08/https-cdn.evbuc_.com-images-33566888-150395058277-1-original.jpg.png
GEO:40.733496;-73.989816
X-APPLE-STRUCTURED-LOCATION;VALUE=URI;X-ADDRESS=CRS (Center for Remembering & Sharing) 41 E 11st St. 11th Fl. New York NY 10003 United States;X-APPLE-RADIUS=500;X-TITLE=41 E 11st St. 11th Fl.:geo:-73.989816,40.733496
END:VEVENT
BEGIN:VEVENT
DTSTART;TZID=UTC:20170906T190000
DTEND;TZID=UTC:20170906T200000
DTSTAMP:20260423T180736
CREATED:20170730T003424Z
LAST-MODIFIED:20200117T000517Z
UID:8697-1504724400-1504728000@jp.crsny.org
SUMMARY:Chakra Balancing Meditation
DESCRIPTION:As a group\, we tone the sacred sounds of each chakra 7 times\, creating an energetic flow that loosens and removes blockages and releases negative energy stored within. The sound of the toning creates a vibrational reaction within the body\, which causes stillness and relaxation. We begin with a breathing exercise\, followed by toning\, and ending with an open circle to share the experience and/or ask questions. This is a meditation\, and a self-healing practice. Chakra balancing meditation is excellent for the beginner and the experienced.  \n We all have seven main chakras that sit along the center of the spinal column. The body is a vehicle of consciousness\, and the chakras are where consciousness and matter (the physical body) meet. Together the seven chakras form a profound formula for wholeness that integrates mind\, body and spirit. Making sure they are balanced is essential to our daily and long term lives. They house the consciousness around our survival and safety\, emotions\, sexulaity\, creativity\, self-esteem\, imagination\, our knowingness\, our ability to love and be loved. Emotions such as fear\, stress\, shame\, guilt\, grief\, lies and the ego all block the chakras creating an imbalanced system. Having an imbalanced chakra system can result in physical symptoms in their corresponding body parts and organs.  \nRSVP by email \n\nJoshua Dorfman is a metaphysical teacher and healer who uses his clairvoyant and empathic abilities to support others looking for more balance and deep spiritual healing. Born extrasensory\, he always had a gift enabling him to know things beyond the physical\, like feeling the energy of a person\, or situation\, knowing people’s true intentions and when something bad was going to happen. As he grew\, he came across various mentors who passed onto him\, great spiritual wisdom. For the last thirteen years\, Joshua has been self taught\, guided by an “inner voice” toward books and information around the subject of energy healing\, psychic ability and the power of sound\, to name a few. READ MORE >>
URL:https://jp.crsny.org/index.php/event/chakra-balancing-meditation-2/2017-09-06/
LOCATION:CRS (Center for Remembering & Sharing)\, 41 E 11st St. 11th Fl.\, New York\, NY\, 10003\, United States
CATEGORIES:Guest Event
ATTACH;FMTTYPE=image/jpeg:https://jp.crsny.org/wp-content/uploads/2017/07/Joshua-Dorfman.jpg
GEO:40.733496;-73.989816
X-APPLE-STRUCTURED-LOCATION;VALUE=URI;X-ADDRESS=CRS (Center for Remembering & Sharing) 41 E 11st St. 11th Fl. New York NY 10003 United States;X-APPLE-RADIUS=500;X-TITLE=41 E 11st St. 11th Fl.:geo:-73.989816,40.733496
END:VEVENT
END:VCALENDAR