BEGIN:VCALENDAR
VERSION:2.0
PRODID:-//CRS (Center for Remembering &amp; Sharing) - ECPv6.15.20//NONSGML v1.0//EN
CALSCALE:GREGORIAN
METHOD:PUBLISH
X-WR-CALNAME:CRS (Center for Remembering &amp; Sharing)
X-ORIGINAL-URL:https://jp.crsny.org
X-WR-CALDESC:Events for CRS (Center for Remembering &amp; Sharing)
REFRESH-INTERVAL;VALUE=DURATION:PT1H
X-Robots-Tag:noindex
X-PUBLISHED-TTL:PT1H
BEGIN:VTIMEZONE
TZID:UTC
BEGIN:STANDARD
TZOFFSETFROM:+0000
TZOFFSETTO:+0000
TZNAME:UTC
DTSTART:20160101T000000
END:STANDARD
END:VTIMEZONE
BEGIN:VEVENT
DTSTART;TZID=UTC:20170908T120000
DTEND;TZID=UTC:20170908T200000
DTSTAMP:20260423T180628
CREATED:20170805T025947Z
LAST-MODIFIED:20170831T010014Z
UID:8837-1504872000-1504900800@jp.crsny.org
SUMMARY:寺田のり子・真の光の癒しの塩絵展
DESCRIPTION:心理カラーセラピストであり、癒しの光の塩絵画家でもある寺田のり子先生。\n日本に人類発生時に神が作ったとされる超古代文字が全国各地の神社仏閣に残されている。そのご研究をされていらっしゃる白川鳳胤先生。\n両先生をお招きして、9月8\, 9\, 10日にイベントを開催いたします。 \n 「寺田のり子・真の光の癒しの塩絵展」 \n日時：9/8（金）12 – 8pm\n入場料：無料\n申込み/問い合わせ：ニシムラ千子（Facebook)にメッセージ又は、inoriforearth@gmail.com、914-703-8018 にご連絡ください。 \n20年以上の心理カラーセラピストとしての経験があり、その能力がかわれテレビや雑誌などでも引っ張りだこの寺田先生。色の力で自らの大病を2度も克服された先生の描かれる絵は、ご本人のみならず、日本全国あちこちで奇跡を起こし、難病、治癒不可能と言われた方達にも効果を発揮されていると報告が上っています。（森下自然医学会など）奇跡の絵とも言われ、全国から展示会の要望があるほどです。また、多くの医院や養老施設、もちろん個人からも絵の依頼があるそうです。 \n真に癒される絵を実際に観にいらして下さい。そして、その効果をご自身で確かめてみてください。\n人の魂を立ち上がらせ、根本的な所から癒す。そして、次の一歩を踏み出すパワーにする所まで持っていくのが「真の癒しの色」。\n今回は絵の販売も行います。絵の販売料金は$150～UP \n寺田のり子\nTerada式カラー心理セラピスト。カラーヒーリングアート作家。中国ハルピン生まれ。\n末期の大腸がんを抱えながらも、色の素晴らしさを伝えるべく、年間200もの講演会や執筆活動、雑誌やテレビにも多数取り上げられ、「おもいっきりテレビ」（日本テレビ系）の準レギュラーとして活躍。癌は消えたものの、数年後、今度は糖尿病の合併症により片目を失明。そして、奇跡的にも回復。いまでは、色の素晴らしさを自ら表現者として活動。浄化作用のある塩「カラーソルト」を使って描く絵画にも多くの反響がよせられている。 \n 
URL:https://jp.crsny.org/index.php/event/noriko-terada-art-exhibition/
LOCATION:CRS (Center for Remembering & Sharing)\, 41 E 11st St. 11th Fl.\, New York\, NY\, 10003\, United States
CATEGORIES:Guest Event
ATTACH;FMTTYPE=image/jpeg:https://jp.crsny.org/wp-content/uploads/2017/08/20369686_1422085921207596_6625767104548471625_o.jpg
GEO:40.733496;-73.989816
X-APPLE-STRUCTURED-LOCATION;VALUE=URI;X-ADDRESS=CRS (Center for Remembering & Sharing) 41 E 11st St. 11th Fl. New York NY 10003 United States;X-APPLE-RADIUS=500;X-TITLE=41 E 11st St. 11th Fl.:geo:-73.989816,40.733496
END:VEVENT
END:VCALENDAR