BEGIN:VCALENDAR
VERSION:2.0
PRODID:-//CRS (Center for Remembering &amp; Sharing) - ECPv6.15.20//NONSGML v1.0//EN
CALSCALE:GREGORIAN
METHOD:PUBLISH
X-ORIGINAL-URL:https://jp.crsny.org
X-WR-CALDESC:Events for CRS (Center for Remembering &amp; Sharing)
REFRESH-INTERVAL;VALUE=DURATION:PT1H
X-Robots-Tag:noindex
X-PUBLISHED-TTL:PT1H
BEGIN:VTIMEZONE
TZID:UTC
BEGIN:STANDARD
TZOFFSETFROM:+0000
TZOFFSETTO:+0000
TZNAME:UTC
DTSTART:20170101T000000
END:STANDARD
END:VTIMEZONE
BEGIN:VEVENT
DTSTART;TZID=UTC:20180430T200000
DTEND;TZID=UTC:20180430T213000
DTSTAMP:20260421T053231
CREATED:20180408T172427Z
LAST-MODIFIED:20180428T190515Z
UID:11828-1525118400-1525123800@jp.crsny.org
SUMMARY:ジャズで彩る歌謡ショー in NY with 落語
DESCRIPTION:東日本大震災支援チャリティーコンサート \n英国ロンドンで活躍中の日本人シンガー鈴木ナオミによる、初のニューヨーク公演。現在、鈴木ナオミは東京オリンピック2020に向け、世界中から日本の文化を発信中。多くの外国人に日本に目を向けてもらい、日本を訪れて頂く為のプロジェクト”Bridge Together Project” をたちあげました。\n今回のコンサートでは、昭和の古き良き歌謡曲をジャズ風にアレンジ、2019年のニューヨーク・ブロードウェイで公演予定のイベントのプロトタイプとも言えるコンサートで、コラボとして、俳優のKEN SAITOが落語パフォーマンスを披露します。ライブではニューヨーク拠点のジャズミュージシャンたちが伴奏を担当。なお、同公演の収益金は東日本大震災支援のチャリティー団体「虹の架け橋ワールドプロジェクト」に全て寄付されます。 \n日時：2018年4月30日(月)\n開場：7:30PM 開演：8:00PM\n入場料：20ドル（寄付） \nアーティスト：鈴木ナオミ (ボーカル)\nミュージシャン：小田村愁 (ギター)、ノア・マクニール (ピアノ)、永山洋輔 (ドラム)、山田吉輝 (ベース)\n落語：KEN SAITO \nSinger/Actress/Presenter Naomi Suzuki was scouted and brought to the UK by Polygram records in the late 90’s and since then has embarked on projects of both critical and commercial success. She reached number 12 in the UK singles charts and is active as a member of musical duo AJ Unity and solo songwriter as well as a prolific performer for charity events. Her single “Our Song”\, recorded for the victims of the 2011 Japanese tsunami was produced with Grammy award-winning Andy Wright\, who had previously worked with acts such as Bon Jovi and David Bowie. https://www.naomisuzuki.co.uk\nNaomi also has an impressive acting repertoire and has experience with acting in both British drama and European commercials\, one of her more notable roles alongside actor Hugh Grant. She also found herself the subject of a BBC documentary in the late 90’s and has been featured in numerous news and magazine articles.\nNaomi also became the first Japanese singer to perform at the Houses of Parliment where she gave a rousing performance on 5th March 2015 at the Memorial Concert for Japan Earthquake and Tsunami. The concert\, which marked the 4th anniversary of the disaster\, was a great success drawing attention from the Japanese press and media. \nOUR SONG Naomi Suzuki 鈴木ナオミ in 英国会議事堂(東日本大震災追悼コンサート \n\nHaving chaired the largest Japanese festival in the UK\, Japan Matsuri\, for 4 years\, Naomi is also a reputable events host and has worked with Matsutake Kabuki and NHK broadcasting amongst others. She is also part of the PR team for her hometown of Tagawa\, Fukuoka Prefecture alongside cartoon mascot Taga-tan.\nAs a presenter\, Naomi is most well known for her show “Naomi’s London Calling” where she mainly presents about life in London as well as broadcasting support for the Japan tsunami victims. She has also presented the London edition of the popular Japanese radio show “Grown Up European City Walks” alongside ex Fuji TV star Chinatsu Otsubo.\nAt the time of the Japanese tsunami disaster in 2011 Naomi was in very ill health but after hearing of the disaster victims’ plight she was able to overcome her condition and resume activities with renewed vigor. Not only did she release a new double A-side charity single\, whose proceeds went to the disaster area\, but also wrote the song “Home” together with disaster victims so that their feelings could be heard by the World.\nAs well as performing for charity at the Sendai Street Jazz Festival and Totteoki music festival\, both of which attract hundreds of thousands of visitors each\, Naomi also organised charity gigs alongside fellow performers and backing musicians from Japan. She is particularly concerned for the welfare of the scores of orphans and disadvantaged children left behind by the disaster and works with numerous NPO’s.­\nIn 2016 Naomi organised and performed at the 5th Japan Earthquake Memorial Concert held at the Islington Assemble Hall London and personally handed over all donations to affected areas in Japan. Following this Naomi toured Japan and donated all profits from ticket sales to the cause. This event was covered in all major newspapers in Japan and was also reported on NHK TV.
URL:https://jp.crsny.org/index.php/event/jazz-with-rakugo043018/
LOCATION:CRS (Center for Remembering & Sharing)\, 41 E 11st St. 11th Fl.\, New York\, NY\, 10003\, United States
CATEGORIES:Guest Event
ATTACH;FMTTYPE=image/jpeg:https://jp.crsny.org/wp-content/uploads/2018/04/naomi-0097-1-e1523194539667.jpg
GEO:40.733496;-73.989816
X-APPLE-STRUCTURED-LOCATION;VALUE=URI;X-ADDRESS=CRS (Center for Remembering & Sharing) 41 E 11st St. 11th Fl. New York NY 10003 United States;X-APPLE-RADIUS=500;X-TITLE=41 E 11st St. 11th Fl.:geo:-73.989816,40.733496
END:VEVENT
END:VCALENDAR