BEGIN:VCALENDAR
VERSION:2.0
PRODID:-//CRS (Center for Remembering &amp; Sharing) - ECPv6.15.20//NONSGML v1.0//EN
CALSCALE:GREGORIAN
METHOD:PUBLISH
X-ORIGINAL-URL:https://jp.crsny.org
X-WR-CALDESC:Events for CRS (Center for Remembering &amp; Sharing)
REFRESH-INTERVAL;VALUE=DURATION:PT1H
X-Robots-Tag:noindex
X-PUBLISHED-TTL:PT1H
BEGIN:VTIMEZONE
TZID:UTC
BEGIN:STANDARD
TZOFFSETFROM:+0000
TZOFFSETTO:+0000
TZNAME:UTC
DTSTART:20170101T000000
END:STANDARD
END:VTIMEZONE
BEGIN:VEVENT
DTSTART;TZID=UTC:20180512T190000
DTEND;TZID=UTC:20180512T213000
DTSTAMP:20260421T004925
CREATED:20180505T191448Z
LAST-MODIFIED:20180505T192630Z
UID:12257-1526151600-1526160600@jp.crsny.org
SUMMARY:Japanese Language Exchange Night by Origami
DESCRIPTION:Origami は2018年に発足した、日米異文化交流グループです。 \n第３回・日米異文化交流会を5月12日（土）午後7時より開催いたします。 \n英語、日本語での語学交流をアットホームな環境でお楽しみいただけます。\nそれに加え、２時間飲み放題です。食べ物、飲み物の持ち込み可。 \nマルチポッドNYCで国籍、人種、歳に関係なく、多くの人とつながりましょう。\n前回の交流会には５０人ものゲストにご参加頂きました。 \nどうぞお友達をお誘い合わせの上、お越しください。\n7時から7時半の間にお越しのゲストには、もれなく特別ギフトをプレセントいたします！お見逃しなく。 \nGet your ticket here\nhttps://www.eventbrite.com/e/nyc-japanese-language-exchange-tickets-45090694481 \nご質問等ございましたら、主催者（まさ）までご連絡ください。\nmasa.nybklyn090@gmail.com
URL:https://jp.crsny.org/index.php/event/japanese-language-exchange-night-by-origami/
LOCATION:CRS (Center for Remembering & Sharing)\, 41 E 11st St. 11th Fl.\, New York\, NY\, 10003\, United States
CATEGORIES:Guest Event
ATTACH;FMTTYPE=image/jpeg:https://jp.crsny.org/wp-content/uploads/2018/05/https-cdn.evbuc_.com-images-43455996-232120942737-1-original.jpg
ORGANIZER;CN="Origami":MAILTO:masa.nybklyn090@gmail.com
GEO:40.733496;-73.989816
X-APPLE-STRUCTURED-LOCATION;VALUE=URI;X-ADDRESS=CRS (Center for Remembering & Sharing) 41 E 11st St. 11th Fl. New York NY 10003 United States;X-APPLE-RADIUS=500;X-TITLE=41 E 11st St. 11th Fl.:geo:-73.989816,40.733496
END:VEVENT
END:VCALENDAR