BEGIN:VCALENDAR
VERSION:2.0
PRODID:-//CRS (Center for Remembering &amp; Sharing) - ECPv6.15.20//NONSGML v1.0//EN
CALSCALE:GREGORIAN
METHOD:PUBLISH
X-ORIGINAL-URL:https://jp.crsny.org
X-WR-CALDESC:Events for CRS (Center for Remembering &amp; Sharing)
REFRESH-INTERVAL;VALUE=DURATION:PT1H
X-Robots-Tag:noindex
X-PUBLISHED-TTL:PT1H
BEGIN:VTIMEZONE
TZID:UTC
BEGIN:STANDARD
TZOFFSETFROM:+0000
TZOFFSETTO:+0000
TZNAME:UTC
DTSTART:20170101T000000
END:STANDARD
END:VTIMEZONE
BEGIN:VEVENT
DTSTART;TZID=UTC:20180420T130000
DTEND;TZID=UTC:20180420T163000
DTSTAMP:20260424T052200
CREATED:20180214T203234Z
LAST-MODIFIED:20180214T203257Z
UID:11242-1524229200-1524241800@jp.crsny.org
SUMMARY:本来のあなたに還る為のお話会☆ver74.0inニューヨーク（エネルギー調整付き）※前回より時間増☆①
DESCRIPTION:本当にこのまま人生を終えてしまってもいいですか？\n死ぬ間際に後悔しない生き方をされていますか？\nいつまで自分に嘘をつき続け、逃げ続けますか？ \nあなたが生きる世界はこの日を境に大きく進化します。 \nなぜならよくある講師の話を、ただじっと聞いて終わる。というセミナーではなく、体感を通じて、身体と魂にアプローチを行い、あなたの深い部分へとつながっていきます。 \n＝＝＝＝＝＝＝＝＝＝＝＝＝＝＝＝＝＝＝＝＝＝＝＝＝＝\n・本来の自分を生き切る為には具体的に何をすべきか。\n・エネルギー調整によって、肉体メンタル共にリセットする。\n・この世界の法則を知る事で、人生が楽しく、自由自在となる。\n＝＝＝＝＝＝＝＝＝＝＝＝＝＝＝＝＝＝＝＝＝＝＝＝＝＝ \n思考（頭）でばかり考えてしまい、知識は沢山あるにも関わらず、実践せず、現実は満たされず、豊かにならない。良くあるケースです。\n頭で理解できた時ではなく、身体で腑に落ちた時が本当の理解の始まりです。\n多くのセミナーで語られる言葉を実際に身体を使って、理解して頂きます。\n目で見て、身体で感じる事だからこそ否定できない。逃げる事ができない。\n本当の意味で理解し、体感する。\nこの日お伝えすることが、 あなたの底の底の、底辺の部分へと 落ち、 今までにない気づきを得る事でしょう。また本来のあなたの力がどれぐらい凄いものであるのかを思い出すでしょう。\n単に見て、聞いて、理解した気になる、そんな程度のセミナーではありません。あなたのブロック、ワク、限界を越え、 本来のあなた自身と出逢えるお話会です。\n人生を変える特別な一日となるはずです。\nこの世に対して疑問があるならばお越しください。 \nもし、いま\n・今の現状に満足できていない。\n・このままの人生で終わりたくない。\n・何をやっていいのか分からない。\n・人生が苦しい、上手く行かない。\n・自分を愛することが出来ない。\n・他者や周りを愛する事が出来ない。\n・自分一人で苦しみ、悩んでいる。\n・周りが気になり、周りに振り回されている。\n・同じパターンを繰り返してしまっている。\n・打開策、解決策を探し続けている。\n・いつまで経っても満たされない、豊かにならない。\n・知識は豊富、口癖は「それはもう知っている 」 \nなど、一つでも当てはまる場合は是非お越し下さい♪ \n＝＝＝＝＝＝＝＝＝＝＝＝＝＝＝＝＝＝＝＝＝＝＝＝＝＝\n【講師】Sora Fol\n【定員】16名限定\n【参加費】初回6\,500縁（６０＄）(2回目以降5\,500縁）（５０＄）\n(中学生まで1\,500縁、高校大学生3\,000縁、３歳以下無料）\n※前回より時間を増やしてありますのでゆったりお受けいただけます☆\n※通訳は入りません。基本的には日本語にて行います。\n＝＝＝＝＝＝＝＝＝＝＝＝＝＝＝＝＝＝＝＝＝＝＝＝＝＝\n①今回ファースト伝授を初めてお受けの方（無料/free)\n②御友人とご参加の場合（お一人500縁引き/５＄discount）\n③御家族にてご参加の場合（ご家族全員で10\,000縁/100＄)\n④当日、お話会、古武術会両方にご参加の場合、10\,000縁/110＄）\n⑤フォル定額適用可（これを含む、全ての講座が月10\,000縁/110＄）\n＝＝＝＝＝＝＝＝＝＝＝＝＝＝＝＝＝＝＝＝＝＝＝＝＝＝\n※①〜⑤のどれかお一つ適用させて頂けます☆\n※内容は中学生以上向けです（小学生以下の方は御相談下さい☆） \nお申込みはこちらのオンラインフォームからお受けいたします。https://goo.gl/XqQUaC\n＝＝＝＝＝＝＝＝＝＝＝＝＝＝＝＝＝＝＝＝＝＝＝＝＝＝ \nエネルギー調整とは・・・\n・筋肉、骨格、内臓など肉体レベルの問題解決から\n・氣、経絡、チャクラ、オーラ、メンタルの改善はもちろん\n・マイナスエネルギー（霊障など）改善から\n・過去のトラウマ、カルマ解消まで全てを含みます。\n是非、最新のエネルギーをご体感ください☆ \n今までポケベルを使っていた方がスマートフォンを知るように、従来のエネルギーを知る方は、その進化に驚かれるでしょう。\n過去のエネルギーが成し得なかったことが実にシンプルに楽しみながら瞬時に改善可能です。 \n＝＝＝＝＝＝＝＝＝＝＝＝＝＝＝＝＝＝＝＝＝＝＝＝＝＝\n※エネルギー調整ご希望の場合は、当日お伝え下さいませ☆\n＝＝＝＝＝＝＝＝＝＝＝＝＝＝＝＝＝＝＝＝＝＝＝＝＝＝ \nこの世界を「知り・理解する」ことにより、人生が急加速します。早い段階で知る事で人生を１３０％生き切ることが可能となります。\nご自身が来れなかったとしても、 あなたが大切だと思う方、ご家族にご紹介してあげてください。\n必ず感謝されることと思います☆ \n＝＝＝＝＝＝＝＝＝＝＝＝＝＝＝＝＝＝＝＝＝＝＝＝＝＝\n皆様から頂戴しましたご感想はこちら☆\n→http://ameblo.jp/fol-method/entry-12088018485.html\n＝＝＝＝＝＝＝＝＝＝＝＝＝＝＝＝＝＝＝＝＝＝＝＝＝＝
URL:https://jp.crsny.org/index.php/event/042018/
LOCATION:CRS (Center for Remembering & Sharing)\, 41 E 11st St. 11th Fl.\, New York\, NY\, 10003\, United States
CATEGORIES:Guest Event
ATTACH;FMTTYPE=image/jpeg:https://jp.crsny.org/wp-content/uploads/2017/07/20139676_1303124246477785_1650802440229407086_n.jpg
GEO:40.733496;-73.989816
X-APPLE-STRUCTURED-LOCATION;VALUE=URI;X-ADDRESS=CRS (Center for Remembering & Sharing) 41 E 11st St. 11th Fl. New York NY 10003 United States;X-APPLE-RADIUS=500;X-TITLE=41 E 11st St. 11th Fl.:geo:-73.989816,40.733496
END:VEVENT
BEGIN:VEVENT
DTSTART;TZID=UTC:20180421T140000
DTEND;TZID=UTC:20180421T170000
DTSTAMP:20260424T052200
CREATED:20180214T204321Z
LAST-MODIFIED:20180214T204321Z
UID:11245-1524319200-1524330000@jp.crsny.org
SUMMARY:人生を劇的に深化させる為の古武術体験会ver74.0☆inニューヨーク（愛と調和の実践会）※前回より時間増☆②
DESCRIPTION:その昔、生死をかけたやり取りの中で、世界でも類を見ない無駄を省いた動きや意識の使い方が生まれました。\n現代スポーツや武道では失われたエッセンスが古武術にはあります。\n現在の日本はあまりに平和な為に、実際に戦うことはほぼありませんが、どのように動くと身体と心が楽となり、周りとぶつからず調和し、大自然と一体化するのか。\nその一端をこの古武術体験会ではお伝えいたします。\n通常、数年～10年以上かかっても到達できない内容を、たった数時間で会得していただきます。\n実際道場に行くとほとんど教えて頂くことはありませんが、いきなり秘伝級の内容を出来る限り、無駄を省き、古武術の理念でもある、最短、最速、最大化を目的としてお伝えすることで数時間で量子レベルの気づきとエネルギーの変化が可能です。\nしかも、身体で覚えたことは 頭で覚えたことと違い、10年経っても忘れません。 一度自転車に乗れてしまうと 10年後も乗れるのと同じです。\nですから、繰り返す度に進化（深化）が留まることがありません。 \n古武術体験会では・・・ \n==================================== \n・武道家でも知らない礼法の重要性。\n・空間をいかに動かし、コントロールするか。\n・意識のみで筋肉を越えるパワーと動きを身につける。\n・氣の出し方、扱い方とは。\n・相手とどうすれば調和し、融合するのか。\n・ブレない自分になるためにはどうすれば良いのか。\n・愛が自然と湧いてきて、誰もが笑って笑顔になるには。\n・全力で人生を生き切る、内なる自分を発揮する為には。\n・物とこの宇宙と繋がり、自由自在に生きる方法とは。 \n==================================== \nその他、まだまだ語り尽くせませんが、ビジネス、人間関係、あらゆるものが根底から覆り、 劇的に、間違いなく変化する一日となります。\nもしそのようなものが本当にあるとしたら、どのようなものか、 知ってみたいとは思いませんか？\nこのエッセンスを 知らずして、体感せぬまま、死ぬことは大変もったいないと感じます。\n一人でも多くの武道家の方や、一般の方に知っていただきたいです。\n今まで皆さんがご存知の古武道とは かなり違っているかもしれません。 初回はあまりに現実離れしているで驚かれてしまい、混乱される方も多々おります（笑）\nしかしそれは 普段のあなたが如何に無駄な動き、思考が多く、世界に対して制限をかけていただけということ。\n本来のあなたがどれほどの能力を秘めているのか。\nそれにいち早く気づいて頂き、最大限に活かすにはどうすればいいのかをお伝え致します。\nまた静かであまり大きな動きを必要としないので、 老若男女どなたでも習得可能です。\n就学未満から、学生、ビジネスマン、武道家、アスリート、プロ選手、治療家から、８０歳を越えた方もご参加頂いております。\n武道をやった事が無い初心者の方から 経験者まで発見のあり、驚くべき内容です。 \n単純に\n・古武術やってみたい。\n・久しぶりに身体を動かしてみたい。\n・なんとなく面白そう。 \nまずはピンと来られましたら、お気軽にお越し下さいませ☆\n服装は動きやすい格好でしたらなんでも大丈夫です。\nストレッチの時間があまりありませんので、ゆったりとした屈伸を事前に行っておいてくださいね☆ \n＝＝＝＝＝＝＝＝＝＝＝＝＝＝＝＝＝＝＝＝＝＝＝＝＝＝ \n【講師】Sora Fol\n【定員】16名限定\n【参加費】初回6\,500縁（６０＄）(2回目以降5\,500縁）（５０＄）\n(中学生まで1\,500縁、高校大学生3\,000縁、３歳以下無料）\n※前回より時間を増やしてありますのでゆったりお受けいただけます☆\n※通訳は入りません。基本的には日本語にて行います。 \n＝＝＝＝＝＝＝＝＝＝＝＝＝＝＝＝＝＝＝＝＝＝＝＝＝＝ \n①今回ファースト伝授を初めてお受けの方（無料/free)\n②御友人とご参加の場合（お一人500縁引き/５＄discount）\n③御家族にてご参加の場合（ご家族全員で10\,000縁/100＄)\n④当日、お話会、古武術会両方にご参加の場合、10\,000縁/110＄）\n⑤フォル定額適用可（これを含む、全ての講座が月10\,000縁/110＄） \n＝＝＝＝＝＝＝＝＝＝＝＝＝＝＝＝＝＝＝＝＝＝＝＝＝＝ \n※①～⑤のどれかお一つ適用させて頂けます☆\n※内容は中学生以上向けです（小学生以下の方は御相談下さい☆）\nお申込みはこちらのオンラインフォームからお受けいたします。https://goo.gl/XqQUaC \n＝＝＝＝＝＝＝＝＝＝＝＝＝＝＝＝＝＝＝＝＝＝＝＝＝＝ \nあなたは自分自身の身体を理解し、使いこなせていますか？\n自分自身の身体、氣の流れを「知り・理解する」ことにより、人生が急加速します。早い段階で知る事で人生を１３０％生き切ることが可能となります。\nご自身が来れなかったとしても、 あなたが大切だと思う方、ご家族にご紹介してあげてください。\n必ず感謝されることと思います☆ \n＝＝＝＝＝＝＝＝＝＝＝＝＝＝＝＝＝＝＝＝＝＝＝＝＝＝ \n皆様から頂戴しましたご感想はこちら☆→http://ameblo.jp/fol-method/entry-12088018485.html \n＝＝＝＝＝＝＝＝＝＝＝＝＝＝＝＝＝＝＝＝＝＝＝＝＝＝
URL:https://jp.crsny.org/index.php/event/042118/
LOCATION:CRS (Center for Remembering & Sharing)\, 41 E 11st St. 11th Fl.\, New York\, NY\, 10003\, United States
CATEGORIES:Guest Event
ATTACH;FMTTYPE=image/jpeg:https://jp.crsny.org/wp-content/uploads/2017/07/20139609_1303125526477657_7709983852770330852_n.jpg
GEO:40.733496;-73.989816
X-APPLE-STRUCTURED-LOCATION;VALUE=URI;X-ADDRESS=CRS (Center for Remembering & Sharing) 41 E 11st St. 11th Fl. New York NY 10003 United States;X-APPLE-RADIUS=500;X-TITLE=41 E 11st St. 11th Fl.:geo:-73.989816,40.733496
END:VEVENT
END:VCALENDAR