BEGIN:VCALENDAR
VERSION:2.0
PRODID:-//CRS (Center for Remembering &amp; Sharing) - ECPv6.15.20//NONSGML v1.0//EN
CALSCALE:GREGORIAN
METHOD:PUBLISH
X-ORIGINAL-URL:https://jp.crsny.org
X-WR-CALDESC:Events for CRS (Center for Remembering &amp; Sharing)
REFRESH-INTERVAL;VALUE=DURATION:PT1H
X-Robots-Tag:noindex
X-PUBLISHED-TTL:PT1H
BEGIN:VTIMEZONE
TZID:UTC
BEGIN:STANDARD
TZOFFSETFROM:+0000
TZOFFSETTO:+0000
TZNAME:UTC
DTSTART:20170101T000000
END:STANDARD
END:VTIMEZONE
BEGIN:VEVENT
DTSTART;TZID=UTC:20180422T130000
DTEND;TZID=UTC:20180422T150000
DTSTAMP:20260421T040508
CREATED:20180404T003957Z
LAST-MODIFIED:20180404T004056Z
UID:11823-1524402000-1524409200@jp.crsny.org
SUMMARY:エイトエレメンツ・パートナーシップ講座
DESCRIPTION:風水インテリアコンサルタントAiとジュエリーデザイナーMegumiが共同開発した新しいメソッド「エイトエレメンツメソッド」。 \nこれは、快適空間を作るためのツールの一つとして愛風水インテリアコンサルティングが使用している「陰陽五行サイクル」を、Megumiがわかりやすくイラストでキャラクター化し、どなたにでも応用・活用ができるようにつくられた画期的メソッドです。 \n気学と占星術を織り交ぜたエイトエレメンツメソッドで、あらゆるパートナーシップー家族・恋人・友人・会社の同僚や上司などとの関係をより良いものにする「術」を学びませんか。もっとお互いのエネルギーを上手に活かしあい、愛を循環させていきましょう。 \n料金：＄８８（カップル・ご家族でご参加の場合はお二人目より＄４４・お子様は＄２２、６歳以下のお子様は無料） \n日時：4月22日（日曜日）午後1時~3時\n定員：１６名様（参加者数が予想以上に早く定員に達したので、急遽定員枠を当初の８名様から１６名様に増やしました。）\nご予約ご希望の方は、info@aimjohnson.com OR mogmin@gmail.com、あるいはメッセンジャーまでご連絡ください。 \n\n愛の循環術を共に学びましょう\n \n■プロフィール■ \nAi Johnson\n愛風水インテリアコンサルティング代表\nNew York Institute Art + Design所属、NY州認定風水インテリアデザイン講師\n日本で風水インテリアコーディネーター＆カラーセラピストの資格を取得後、２００６年より活動を開始。２００８年にニューヨークへ引越して以来、夫と猫２匹（ゼクシー＆うずき）と共にブルックリンに住む。\nモットーは、「お家に愛を、自分に愛を。」風水、インテリアコーディネート、カラーセラピー、そして空間心理学の知識を取り入れた、 独自の愛風水インテリアコーディネートメソッドを開発。「生活スペースはそこに住む人の思考パターンや生き方を反映している」という考えの元、クライアントとコンサルタントが一緒になって理想のお部屋作り・自分作りに取り組む…空間と心の両方にアプローチするコンサルテーションは、お部屋が素敵にコーディネートされるだけでなく、自分自身を見つめ直すきっかけや深い気づき・癒やしがもたらされるとクライアントから高く評価されている。現在New York Institute of Art + Designの風水インテリアデザインコースの講師も務めている。 \nMegumi Haruna\nMegumi Haruna Jewelry オーナー\nホリスティック・ジュエリー・デザイナー、ジョーティシャ（インド占星術師）\nIT系スタートアップベンチャー企業で起業にまつわる様々な経験を得た後単身自転車と共にヨーロッパ周遊〜その後、インドに渡る。インドのモラルジ・デザイ国立ヨーガ研究所にてヨガの基礎を学び、リシケシでの修行中に宝石に呼び止められたことで、ジュエリーの世界へ。その後、２年間のインド生活を経て日本へ帰国後、本格的にインド占星術を学び、２０１２年にジュエリーブランドMEGUMI HARUNAを立ち上げる。「ただ飾るためのアクセサリーではなく　生きる上でのパートナーとなるジュエリーを」という思いの元、メッセージ性の強いデザインと宝石処方を組み合わせた、唯一無二のジュエリーを一人一人の持つ星の配置やエネルギーを見て、ホリスティックなパーソナル・ジュエリーを提案している。
URL:https://jp.crsny.org/index.php/event/042218/
LOCATION:CRS (Center for Remembering & Sharing)\, 41 E 11st St. 11th Fl.\, New York\, NY\, 10003\, United States
CATEGORIES:Guest Event
ATTACH;FMTTYPE=image/jpeg:https://jp.crsny.org/wp-content/uploads/2018/04/profile.jpg
ORGANIZER;CN="Ai Johnson":MAILTO:info@aimjohnson.com
GEO:40.733496;-73.989816
X-APPLE-STRUCTURED-LOCATION;VALUE=URI;X-ADDRESS=CRS (Center for Remembering & Sharing) 41 E 11st St. 11th Fl. New York NY 10003 United States;X-APPLE-RADIUS=500;X-TITLE=41 E 11st St. 11th Fl.:geo:-73.989816,40.733496
END:VEVENT
BEGIN:VEVENT
DTSTART;TZID=UTC:20180422T151500
DTEND;TZID=UTC:20180422T170000
DTSTAMP:20260421T040508
CREATED:20180326T181731Z
LAST-MODIFIED:20180327T191816Z
UID:11733-1524410100-1524416400@jp.crsny.org
SUMMARY:「ワクワク右脳開発」ワークショップ
DESCRIPTION:１月にスタートして以来、大好評の「ワクワク右脳開発」のワークショップのご案内\n七田の右脳トレーニング暦３０年の重行忠則による、膜宇宙トレーニングを取り入れる事で、七田の波動速読法の５つのトレーニングがより効率良く、より早く学べるように工夫されています。\n4月のテーマも引き続き波動速読トレーニングで、「膜宇宙で５次元の膜をつくりＤＮＡに波動速読ができるように誘導」します。\nさらに膜宇宙でＤＮＡに「黒髪が蘇る」とプログラムします。 \n \n波動速読の原理とは: \n\n本のページをビビッとはじいて波動で内容を受け取り理解\n波動速読が可能になると、すべての右脳能力が開ける\n右脳には波動系の暗在系に対応する作業回路がある。\n右脳には波動情報をイメージに変える変換機能がある。\n右脳は速いスピードの視聴覚刺激に反応する。\n\n膜宇宙とは: \n宇宙の磁場を封じ込め人体の原子に共鳴共振を起こす。 \n特にお子様に右脳トレーニングを行うと、学習力、協調性、思いやりに優れた人間に育つと言う絶大な効果があります。１０歳以上のお子様から参加できます。 \nワークショップ内容 \n1.膜宇宙で５次元の膜を作り、ＤＮＡにお願いする。\n*宇宙意識と一体になる瞑想\n*第三の目を開き波動速読ができる暗示を入れる\n*その他、「指の組み合わせで黒髪が蘇る」\n2.イメージトレーニング（瞑想、呼吸、暗示、視覚化）\n左脳から右脳へ導く自己催眠、棒のイメージトレーニング、\n色想像イメージトレーニングなど\n3.右脳記憶トレーニング\n4.アイトレーニング\n ３Dカードトレーニング、眼筋トレーニング、\nオレンジカードトレーニング、マンダラカードトレーニングなど\n5.ESPカードトレーニング\n6.波動速読、高速視聴トレーニング\n7.高速視聴トレーニング \n日時 : 4月22日3:15~5:00　お部屋は3:00から開いております。\n場所：CRS 123 4th Ave 3F. (White Room)　NY\,NY 10003\n会費：$25（会員登録された方は$20 ）\n申し込み：nyshichida@gmail.com   電話914-562-9329 \n※メンバー登録費は$10 (一年有効)で、メンバー登録をすると、一回のクラスの参加費が20ドル、毎月の右脳開発情報と教材はメンバー価格でお分けいたします。\n※準備するもの：波動速読練習用に、まだ読んでない本を何でもいいですので、1冊持参してください。\n※ご注意：当日は横になるトレーニングがありますので、女性の方はパンツ、ジーンズ、レギンス等でお越しください。
URL:https://jp.crsny.org/index.php/event/brain-training-20180422/
LOCATION:CRS (Center for Remembering & Sharing)\, 41 E 11st St. 11th Fl.\, New York\, NY\, 10003\, United States
CATEGORIES:Guest Event
ATTACH;FMTTYPE=image/jpeg:https://jp.crsny.org/wp-content/uploads/2018/01/img_about_08_01.jpg
GEO:40.733496;-73.989816
X-APPLE-STRUCTURED-LOCATION;VALUE=URI;X-ADDRESS=CRS (Center for Remembering & Sharing) 41 E 11st St. 11th Fl. New York NY 10003 United States;X-APPLE-RADIUS=500;X-TITLE=41 E 11st St. 11th Fl.:geo:-73.989816,40.733496
END:VEVENT
END:VCALENDAR