BEGIN:VCALENDAR
VERSION:2.0
PRODID:-//CRS (Center for Remembering &amp; Sharing) - ECPv6.15.20//NONSGML v1.0//EN
CALSCALE:GREGORIAN
METHOD:PUBLISH
X-ORIGINAL-URL:https://jp.crsny.org
X-WR-CALDESC:Events for CRS (Center for Remembering &amp; Sharing)
REFRESH-INTERVAL;VALUE=DURATION:PT1H
X-Robots-Tag:noindex
X-PUBLISHED-TTL:PT1H
BEGIN:VTIMEZONE
TZID:America/New_York
BEGIN:DAYLIGHT
TZOFFSETFROM:-0500
TZOFFSETTO:-0400
TZNAME:EDT
DTSTART:20170312T070000
END:DAYLIGHT
BEGIN:STANDARD
TZOFFSETFROM:-0400
TZOFFSETTO:-0500
TZNAME:EST
DTSTART:20171105T060000
END:STANDARD
BEGIN:DAYLIGHT
TZOFFSETFROM:-0500
TZOFFSETTO:-0400
TZNAME:EDT
DTSTART:20180311T070000
END:DAYLIGHT
BEGIN:STANDARD
TZOFFSETFROM:-0400
TZOFFSETTO:-0500
TZNAME:EST
DTSTART:20181104T060000
END:STANDARD
BEGIN:DAYLIGHT
TZOFFSETFROM:-0500
TZOFFSETTO:-0400
TZNAME:EDT
DTSTART:20190310T070000
END:DAYLIGHT
BEGIN:STANDARD
TZOFFSETFROM:-0400
TZOFFSETTO:-0500
TZNAME:EST
DTSTART:20191103T060000
END:STANDARD
END:VTIMEZONE
BEGIN:VTIMEZONE
TZID:UTC
BEGIN:STANDARD
TZOFFSETFROM:+0000
TZOFFSETTO:+0000
TZNAME:UTC
DTSTART:20170101T000000
END:STANDARD
END:VTIMEZONE
BEGIN:VEVENT
DTSTART;TZID=America/New_York:20180617T130000
DTEND;TZID=America/New_York:20180617T150000
DTSTAMP:20260421T111819
CREATED:20180503T212205Z
LAST-MODIFIED:20180617T193843Z
UID:12236-1529240400-1529247600@jp.crsny.org
SUMMARY:合唱団『ワンドロップ聖歌隊ニューヨーク』メンバー募集と練習のご案内
DESCRIPTION:ベートーベンの「第九」が世界中でドイツ語で歌われているように、国境を超えて日本語で歌われる曲を広めようとの趣旨で、2年前に東京で結成され、現在は日本全国に300名近くの人々が集う政府認定NPO法人「ワンドロップ聖歌隊」。\n日本各地だけなく、アメリカ西海岸やハワイ、イスタンブールでの活動も広まりつつあります。 \nそのワンドロップ聖歌隊の初海外支部として、先月ニューヨークで発足した、ワンドロップ聖歌隊NYがメンバーを募集しています♪ \nこの合唱団のために作られ、オーケストラの伴奏もついた大作「生命交響曲」（宮川昭夫作曲・清水浦安＆愛宕なみ作詞）というメインソングがあり、設立趣旨のように日本語で世界へ広めていくという理想のもとに作曲された、生命・愛・母なる地球など２１世紀に人間が共有すべきテーマが歌われています。\nレッスンは基本的に毎週行われますが、オンラインでの練習音源を使うことでご自分のペースで参加が可能です。一緒に楽しく歌って、生命の尊さを伝えていける仲間がたくさん集まることを願っております。 \n＜合唱指導：伊藤玲阿奈氏＞ \nニューヨーク支部の目玉は、米国で活躍する優秀な音楽家に与えられるアメリカ賞のプロオーケストラ指揮部門を日本人指揮者として初めて受賞した伊藤玲阿奈氏による合唱指導。\n2013年に日本とクロアチアの国交樹立20周年記念コンサートを企画してクロアチア大統領にも高く評価されるなど、国際平和活動にも力を入れる伊藤氏は、ワンドロップ聖歌隊の活動に共感し、アマチュアの指導に反対するエージェントの意向を押し切って、今回、指導に踏み切ることになりました。\n「合唱未経験でも楽譜を読めなくても、平和コンサートなどで大オーケストラと一緒に歌えるようになるまで懇切丁寧に指導しますので、一緒に楽しく歌える仲間を増やしていきたい。」とのことです。 \n練習スケジュール：　毎週日曜日午後１時から３時 \n6月17日から９・１１追悼行事で歌うための練習を開始します！\nCRS代表・香咲も6/17は参加します。\n未経験者の方も大丈夫です。ぜひ見学にお越しください！ \nお申込：　nyonedrop@gmail.com　（ウォークインも可）\nワンドロップNY支部のFBページはこちら \n持参物\n・水など喉を潤すためのお飲み物​\n・参加費：各回払いで＄２０（初回のみ、上記に加えて、事務手数料、楽譜代、音源使用料として$40）*現金にてお支払いください。 \nまずは単発のお試しでという場合は、楽譜は無料貸し出しで、参加費の$20のみでご参加できますので、お気軽にどうぞ。 \n＊＊＊＊＊＊＊＊＊＊＊＊＊＊＊＊＊＊＊＊＊＊＊＊＊＊＊＊ \n合唱により親しんで頂き、様々な経験を重ねていくために、練習ではクラシック音楽も取り入れています。\nその第１弾は、モーツァルト作曲の「アヴェ・ヴェルム・コルプス」です。モーツァルトが死の直前に書いたカトリック典礼音楽の傑作で、合唱曲中の合唱曲です。たった３分の間に、キリストの生涯、キリスト教の真髄が、美しくも儚いメロディーの中で語られます。伊藤玲阿奈先生がレッスンで行う解説を聞くと、もっとお好きになられると思います。 \nもう一曲クラシック第２弾練習曲として、\nパブロ・カザルス作曲「ニグラ・スム」をご用意しています。やはり、カトリック典礼曲で「私は黒くとも美しい」という意味。「黒い聖母像」はスペインを中心に多数ありますが、そのマリア様による感謝の歌です。「冬は過ぎ、雨の季節は終わった。花は咲き乱れ、収穫の時は来た」という内容で、特に女性に歌って頂きたい美しい歌です。 \n＊＊＊＊＊＊＊＊＊＊＊＊＊＊＊＊＊＊＊＊＊＊＊＊＊＊＊＊ \n～見学や単発での参加も歓迎しています～ \n興味をもたれそうな方にメールをシェアして頂ければ幸甚です。\nその際、申し込みやお問い合わせはnyonedrop@gmail.comまでメールにてご連絡を♪ \n♪ワンドロップ聖歌隊NY♪\n事務局　中村
URL:https://jp.crsny.org/index.php/event/onedropny06172018/
LOCATION:CRS (Center for Remembering & Sharing)\, 41 E 11st St. 11th Fl.\, New York\, NY\, 10003\, United States
CATEGORIES:Guest Event
ATTACH;FMTTYPE=image/jpeg:https://jp.crsny.org/wp-content/uploads/2018/02/Headshot.jpg
ORGANIZER;CN="One Drop Choir New York":MAILTO:nyonedrop@gmail.com
GEO:40.733496;-73.989816
X-APPLE-STRUCTURED-LOCATION;VALUE=URI;X-ADDRESS=CRS (Center for Remembering & Sharing) 41 E 11st St. 11th Fl. New York NY 10003 United States;X-APPLE-RADIUS=500;X-TITLE=41 E 11st St. 11th Fl.:geo:-73.989816,40.733496
END:VEVENT
BEGIN:VEVENT
DTSTART;TZID=UTC:20180617T153000
DTEND;TZID=UTC:20180617T182000
DTSTAMP:20260421T111819
CREATED:20180613T184258Z
LAST-MODIFIED:20180613T184258Z
UID:12745-1529249400-1529259600@jp.crsny.org
SUMMARY:夏に向けて　Bisei Oil 開発者: 信澤美帆さんの『セルフ整形セミナー』
DESCRIPTION:東京の芸能人専用サロンROJENでゴッドハンドと呼ばれていた信澤美帆さんの施術を、ご自身の手で、ご自宅で再現できる商品として開発されたBisei Oil。\nかつて彼女が施術をしていたお客様には、整形疑惑が出る程でした。わずかな時間で目の前の方達のお顔や体の変化を参加者の皆様が目にされるセミナー。\n驚きの連続で、あっという間に終わってしまうビセイオイルのセミナーですが、今回はさらなるBisei Oilの魅力と情報を、開発者である信澤美帆さんご本人からご紹介します。\nナチュラルな原材料だけで作られるBisei Oilは、美容面だけにとどまらず健康面への働きかけも愛用者の方々から注目されています。　そのため、プロのマッサージセラピスト、整体師、ヘアースタイリストを始め、ピアニスト、歌手、ダンサー等のプロのパフォーマーの方にも支持されています。その他、細胞を元ある正常の状態へ導く”ということから得られる変化を経験される方の声もあります。 \n＊＊＊＊＊＊＊＊＊＊＊＊＊＊＊＊＊＊＊＊＊＊＊＊＊＊＊＊＊＊＊＊＊＊＊＊＊ \n＜６月１６日（土）＞　『意識筋呼吸法と美整オイルで変身っ！』\n13:15PM-15:50PM　(受付開始予定時刻：1:00PM)\n参加費：＄６５（当日現金にて） \n雑誌『美ST』編集チーム一同が驚いた、意識筋エクササイズ とその要となる『意識筋ブレス（呼吸法）』と取り入れ、自分の体格の骨に注目し、自分で体内から整え、ご自身の内臓に合ったあるべき状態へと導き、体と顔を真っ直ぐに美しくセルフ整形していくクラス。”セルフ整形”。実際に美整オイルをご自分のお顔や体に使いながら進めていくクラス方式です。 \n＊＊＊＊＊＊＊＊＊＊＊＊＊＊＊＊＊＊＊＊＊＊＊＊＊＊＊＊＊＊＊＊＊＊＊＊＊＊ \n＜６月１７日（日）＞　『美整オイルを使って指一本でセルフ整形術！』\n3:30PM-6:20PM\n参加費：＄６５（当日現金にて） \n毎日鏡を見ながら自分史上最高に美しい『黄金比率美顔』を作り出す『めざせ！毎日美人顔』\n自分の指を使ってセルフ整形していける、セルフ美容整形術のクラスです。 \n＊＊＊＊＊＊＊＊＊＊＊＊＊＊＊＊＊＊＊＊＊＊＊＊＊＊＊＊＊＊＊＊＊＊＊＊＊＊ \n＜お問い合わせ、参加お申し込み＞\n表題に”ビセイセミナー”とお書きの上、biseiny@gmail.comまで\n1 お名前　2 メールアドレス　3 お電話番号　4 参加日（16日、17日、または両方）を明記の上、メールにてお申し込みください。 \nセミナーでは、購入ご希望の方にBisei Oilの販売もいたします。通常、$125＋税のところ、セミナー時のご購入に限り$125でご購入頂けます。（当日現金にて）\n主催：ROJEN USA
URL:https://jp.crsny.org/index.php/event/biseioil061718/
LOCATION:CRS (Center for Remembering & Sharing)\, 41 E 11st St. 11th Fl.\, New York\, NY\, 10003\, United States
CATEGORIES:Guest Event
ATTACH;FMTTYPE=image/jpeg:https://jp.crsny.org/wp-content/uploads/2018/06/Picture1.jpg
ORGANIZER;CN="ROJEN USA":MAILTO:biseiny@gmail.com
GEO:40.733496;-73.989816
X-APPLE-STRUCTURED-LOCATION;VALUE=URI;X-ADDRESS=CRS (Center for Remembering & Sharing) 41 E 11st St. 11th Fl. New York NY 10003 United States;X-APPLE-RADIUS=500;X-TITLE=41 E 11st St. 11th Fl.:geo:-73.989816,40.733496
END:VEVENT
BEGIN:VEVENT
DTSTART;TZID=UTC:20180623T130000
DTEND;TZID=UTC:20180623T144500
DTSTAMP:20260421T111819
CREATED:20180530T214450Z
LAST-MODIFIED:20180530T214620Z
UID:12677-1529758800-1529765100@jp.crsny.org
SUMMARY:天城流湯治法 天息法&セラピューティックヨガとメディテーションのワークショップ
DESCRIPTION:日時：6/23/18 土曜日 1 pm ~ 2:45 pm\n料金：$40\n申込：kaytaira@gmail.com  \n天城流湯治法創始者 杉本錬堂師より学んだ呼吸法を紹介します。  \n自分で身体の滞りをほぐす、セルフケアの方法です。身体の滞りをほぐしてからヨガ、瞑想をす ると効果的な呼吸が出来ます。例えば、鼻呼吸をしやすくするために、頭の前の髪の毛のはえぎわを解します。すると、鼻からの呼吸がしやすくなります。そもそも何故鼻呼吸を意識するので しょうか?そんなお話もさせていただきたいなと思っております。\n深い呼吸は横隔膜を活性化させ血流をよくします。 \n (休憩)  \n呼吸がしやすくなってからセラピューティックとPrimordial Sound 瞑想です。 プリモディアルサウンドメディテーションと、リストラティブヨガ、ヨガニードラを取り入れた、 セラピューティックヨガとメディテーションを行い、心身を緩やかに整えます。  \n講師: \nKay Taira\nB.V.T / パーソナルトレーナー/ 天城流湯治法 湯治士\n1985 LA スタジオワークアウトにてエアロビクスエクササイズを学ぶ。 1985-1992 エグザススポーツクラブにて指導\n1998− 米海軍厚木基地にて グループエクササイズを指導。\n2001より同施設でパーソナルトレーナーとして、運動の個人セ ッションを指導。現在に至る。\n2015.4天城流湯治法に出会い、セルフケアを取り入れたセッションを指導。\n2016.3.17電車の事故に遭い左脚と右眼を負傷。左脚下腿義足となる。\n2016.8パーソナルトレー ナーの仕事に復帰、現在に至る。  \nSEIKO NISHIDA\nチョプラセンター認定講師 (PRIMORDIAL SOUND MEDITAION certified instructor\, PERFECT HEALTH AYURVEDIC LIFE STYLE certified instructor\, Seven Spiritual Laws of Yoga certified instructor)\n過去の病気で、バランスを失い、身体不自由で鬱状態から、メディテーション、ヨガ、アーユル ヴェーダの生活様式講師取得中と、その後の日常生活で、身体を現状態まで戻すことに、成功し た。 その数年後、経験と、体の自然治癒力を取り戻す、リストラティブヨガインストラクター資格取 得。セラピューティックヨガインストラクター資格取得。 メディテーションの中にも全てのエッセンスを取り入れる。 
URL:https://jp.crsny.org/index.php/event/062318/
LOCATION:CRS (Center for Remembering & Sharing)\, 41 E 11st St. 11th Fl.\, New York\, NY\, 10003\, United States
CATEGORIES:Guest Event
ATTACH;FMTTYPE=image/jpeg:https://jp.crsny.org/wp-content/uploads/2018/05/33841575_1817215438317896_3679131460347887616_n.jpg
ORGANIZER;CN="Seiko Nishida":MAILTO:adg.wellbeing@gmail.com
GEO:40.733496;-73.989816
X-APPLE-STRUCTURED-LOCATION;VALUE=URI;X-ADDRESS=CRS (Center for Remembering & Sharing) 41 E 11st St. 11th Fl. New York NY 10003 United States;X-APPLE-RADIUS=500;X-TITLE=41 E 11st St. 11th Fl.:geo:-73.989816,40.733496
END:VEVENT
END:VCALENDAR