BEGIN:VCALENDAR
VERSION:2.0
PRODID:-//CRS (Center for Remembering &amp; Sharing) - ECPv6.15.20//NONSGML v1.0//EN
CALSCALE:GREGORIAN
METHOD:PUBLISH
X-ORIGINAL-URL:https://jp.crsny.org
X-WR-CALDESC:Events for CRS (Center for Remembering &amp; Sharing)
REFRESH-INTERVAL;VALUE=DURATION:PT1H
X-Robots-Tag:noindex
X-PUBLISHED-TTL:PT1H
BEGIN:VTIMEZONE
TZID:UTC
BEGIN:STANDARD
TZOFFSETFROM:+0000
TZOFFSETTO:+0000
TZNAME:UTC
DTSTART:20150101T000000
END:STANDARD
END:VTIMEZONE
BEGIN:VEVENT
DTSTART;TZID=UTC:20161114T120000
DTEND;TZID=UTC:20161114T150000
DTSTAMP:20260422T114247
CREATED:20160726T235455Z
LAST-MODIFIED:20160912T192640Z
UID:6177-1479124800-1479135600@jp.crsny.org
SUMMARY:香咲弥須子 秋のインテンシブ・クラス
DESCRIPTION:香咲弥須子CRSセミナー事務局主催、東京セミナー受講者対象、インテンシブ・クラスは限定50名、ヒーリング・クラスの新規募集は行っていません。 \n.:*・゜インテンシブクラスのご案内 .:*・゜ \npodcast テキスト精読を使って学習していらっしゃり、ワークブックのレッスンを行なっている方を対象としています。\nこのインテンシブクラスでは、テキストの1節を一文一文 丁寧に読み、コース特有の語彙を知ることはもちろんのこと、一文一文から放つメッセージにじっくり、忠実に添っていきます。文章に添うことで、私たちの心の静かな部分が、受けとり、深まり、安らいだ心の広がりを皆で一緒に経験できます。また、その経験が、日頃 テキストを読む方法(姿勢)のヒントにもなることでしょう。\n2日間のセミナー話題の流れを更に深く考察していく少人数制クラス(50人限定)です。今回は、テキスト第十章「病という偶像」を中心に、クラスを進める予定です。\n受講資格としまして、テキスト精読 https://www.acimclassroom.org/acim-textbook-podcast を聴き、学んでいる方のためのクラスですので、未購入の方は、お申込みの前に購入手続きをとってくださるようお願いいたします。\n先立つ2日間のセミナーへのご参加を条件とさせていただきます。受講資格につきましてのご質問等は、seminar@crsny.org までお問い合わせください。\nなお、教材は当日、香咲よりお配りいたします。テキストご持参の必要はありません。\n《日　時》 11月14日（月）12:00 – 15:00\n《開催場所》中野サンプラザ　15F リーフルーム\n東京都中野区中野4-1-1 　http://www.sunplaza.jp/access/\n《参加費用》15\,000円\n＊お申込受付完了順となりますので、お早めにお手続き下さい。予約フォームのチェックボックスにてお申し込みください。精読の購入日、および、お申し込みに使用されましたクレジットカードのお名前をローマ字でご記入もお願いいたします。 \n゜.:*・゜ヒーリング・クラスのご案内 .:*・゜ \n奇跡講座マニュアル編「精神療法のプロセス」の精読は、前回の流れを受けまして、ヒーリングの際に、ヒーラーと受ける側が共に、そのゴールをホーリースピリットに捧げることが唯一の手段であることを明確にし、読解の後に、より深く明確なヒーリングの実践と実感をご一緒したいと思います。実践を通して大きな手応えを確認し合いましょう。\n精読箇所のプリントは、当日お配りいたしますので、書籍のご持参は不要です。事前に目を通していただいてからご参加くださると、より学びが深まることでしょう。\n(マニュアル編 精神療法P12〜P15を中心に)\n《日　時》　 11月 14日（月）15:15 – 17:15\n《開催場所》　中野サンプラザ　15F リーフルーム\n東京都中野区中野4-1-1 　http://www.sunplaza.jp/access/\n《参加費用》　6\,000円\n＊予約フォームのチェックボックスにてお申し込みください。\n＊ヒーリングクラス終了後に、テストを希望される方は、予約フォームの通信欄にて、お知らせください。 \n～～～　お申込方法　～～～\n＊こちら www.y-s-inn.com/お申込み/ をクリックして、予約フォームからお申し込みください。\n＊予約フォームからの入力ができない方は、ysinn@y-s-inn.com メールにて直接お申し込み下さい。（お名前、フリガナ、お電話番号、参加日をご記入下さい）\n会場に人数制限がございますので、お早めのお申し込みをお薦めいたします。\nご不明な点がございましたら、香咲弥須子CRSセミナー事務局 seminar@crsny.org   までご連絡をお願いいたします。\n＊締切日＊\n11月11日(金)までにお申し込み、お手続きをお願いいたします。\n＊キャンセルにつきまして＊\nキャンセルの場合は、お早めにご連絡をください。\nご入金後のキャンセルにつきましては、セミナー前日のお昼12時までにメールでご連絡いただいた場合に限り、振込手数料及び事務手続料¥1\,000を差し引いた金額を、連絡いただいた日より一週間以内にご返金致します。\nお振込み金額の全てを次回のセミナーの振替に充てる為にお預かりすることは可能です。\nなお、ご入金前のキャンセルの場合でも必ずご連絡下さいますようお願いいたします。
URL:https://jp.crsny.org/index.php/event/intensive_111416/
LOCATION:中野サンプラザ\, 東京都中野区中野4-1-1\, 東京\, 1648512\, Japan
CATEGORIES:In Japan
ATTACH;FMTTYPE=image/jpeg:https://jp.crsny.org/wp-content/uploads/2016/03/Yasuko-Kasaki-seminar-120303-2.jpg
ORGANIZER;CN="%E9%A6%99%E5%92%B2%E5%BC%A5%E9%A0%88%E5%AD%90CRS%E3%82%BB%E3%83%9F%E3%83%8A%E3%83%BC%E4%BA%8B%E5%8B%99%E5%B1%80":MAILTO:seminar@crsny.org
GEO:35.7075813;139.6647403
X-APPLE-STRUCTURED-LOCATION;VALUE=URI;X-ADDRESS=中野サンプラザ 東京都中野区中野4-1-1 東京 1648512 Japan;X-APPLE-RADIUS=500;X-TITLE=東京都中野区中野4-1-1:geo:139.6647403,35.7075813
END:VEVENT
BEGIN:VEVENT
DTSTART;TZID=UTC:20161114T151500
DTEND;TZID=UTC:20161114T171500
DTSTAMP:20260422T114247
CREATED:20160726T235906Z
LAST-MODIFIED:20160825T234851Z
UID:6178-1479136500-1479143700@jp.crsny.org
SUMMARY:香咲弥須子 秋のヒーリング・クラス
DESCRIPTION:香咲弥須子CRSセミナー事務局主催、東京セミナー受講者対象、インテンシブ・クラスは限定50名、ヒーリング・クラスの新規募集は行っていません。 \n.:*・゜インテンシブクラスのご案内 .:*・゜ \npodcast テキスト精読を使って学習していらっしゃり、ワークブックのレッスンを行なっている方を対象としています。\nこのインテンシブクラスでは、テキストの1節を一文一文 丁寧に読み、コース特有の語彙を知ることはもちろんのこと、一文一文から放つメッセージにじっくり、忠実に添っていきます。文章に添うことで、私たちの心の静かな部分が、受けとり、深まり、安らいだ心の広がりを皆で一緒に経験できます。また、その経験が、日頃 テキストを読む方法(姿勢)のヒントにもなることでしょう。\n2日間のセミナー話題の流れを更に深く考察していく少人数制クラス(50人限定)です。今回は、テキスト第十章「病という偶像」を中心に、クラスを進める予定です。\n受講資格としまして、テキスト精読 https://www.acimclassroom.org/acim-textbook-podcast を聴き、学んでいる方のためのクラスですので、未購入の方は、お申込みの前に購入手続きをとってくださるようお願いいたします。\n先立つ2日間のセミナーへのご参加を条件とさせていただきます。受講資格につきましてのご質問等は、seminar@crsny.org までお問い合わせください。\nなお、教材は当日、香咲よりお配りいたします。テキストご持参の必要はありません。\n《日　時》 11月14日（月）12:00 – 15:00\n《開催場所》中野サンプラザ　15F リーフルーム\n東京都中野区中野4-1-1 　http://www.sunplaza.jp/access/\n《参加費用》15\,000円\n＊お申込受付完了順となりますので、お早めにお手続き下さい。予約フォームのチェックボックスにてお申し込みください。精読の購入日、および、お申し込みに使用されましたクレジットカードのお名前をローマ字でご記入もお願いいたします。 \n゜.:*・゜ヒーリング・クラスのご案内 .:*・゜ \n奇跡講座マニュアル編「精神療法のプロセス」の精読は、前回の流れを受けまして、ヒーリングの際に、ヒーラーと受ける側が共に、そのゴールをホーリースピリットに捧げることが唯一の手段であることを明確にし、読解の後に、より深く明確なヒーリングの実践と実感をご一緒したいと思います。実践を通して大きな手応えを確認し合いましょう。\n精読箇所のプリントは、当日お配りいたしますので、書籍のご持参は不要です。事前に目を通していただいてからご参加くださると、より学びが深まることでしょう。\n(マニュアル編 精神療法P12〜P15を中心に)\n《日　時》　 11月 14日（月）15:15 – 17:15\n《開催場所》　中野サンプラザ　15F リーフルーム\n東京都中野区中野4-1-1 　http://www.sunplaza.jp/access/\n《参加費用》　6\,000円\n＊予約フォームのチェックボックスにてお申し込みください。\n＊ヒーリングクラス終了後に、テストを希望される方は、予約フォームの通信欄にて、お知らせください。\n～～～　お申込方法　～～～\n＊こちら http://www.y-s-inn.com をクリックして、予約フォームからお申し込みください。\n＊予約フォームからの入力ができない方は、ysinn@y-s-inn.com メールにて直接お申し込み下さい。（お名前、フリガナ、お電話番号、参加日をご記入下さい）\n会場に人数制限がございますので、お早めのお申し込みをお薦めいたします。\nご不明な点がございましたら、香咲弥須子CRSセミナー事務局 seminar@crsny.org   までご連絡をお願いいたします。\n＊締切日＊\n11月11日(金)までにお申し込み、お手続きをお願いいたします。\n＊キャンセルにつきまして＊\nキャンセルの場合は、お早めにご連絡をください。\nご入金後のキャンセルにつきましては、セミナー前日のお昼12時までにメールでご連絡いただいた場合に限り、振込手数料及び事務手続料¥1\,000を差し引いた金額を、連絡いただいた日より一週間以内にご返金致します。\nお振込み金額の全てを次回のセミナーの振替に充てる為にお預かりすることは可能です。\nなお、ご入金前のキャンセルの場合でも必ずご連絡下さいますようお願いいたします。
URL:https://jp.crsny.org/index.php/event/healing_111416/
LOCATION:中野サンプラザ\, 東京都中野区中野4-1-1\, 東京\, 1648512\, Japan
CATEGORIES:In Japan
ATTACH;FMTTYPE=image/jpeg:https://jp.crsny.org/wp-content/uploads/2016/03/Yasuko-Kasaki-seminar-120303-2.jpg
ORGANIZER;CN="%E9%A6%99%E5%92%B2%E5%BC%A5%E9%A0%88%E5%AD%90CRS%E3%82%BB%E3%83%9F%E3%83%8A%E3%83%BC%E4%BA%8B%E5%8B%99%E5%B1%80":MAILTO:seminar@crsny.org
GEO:35.7075813;139.6647403
X-APPLE-STRUCTURED-LOCATION;VALUE=URI;X-ADDRESS=中野サンプラザ 東京都中野区中野4-1-1 東京 1648512 Japan;X-APPLE-RADIUS=500;X-TITLE=東京都中野区中野4-1-1:geo:139.6647403,35.7075813
END:VEVENT
BEGIN:VEVENT
DTSTART;TZID=UTC:20161116T130000
DTEND;TZID=UTC:20161116T163000
DTSTAMP:20260422T114247
CREATED:20160914T203110Z
LAST-MODIFIED:20160914T203241Z
UID:6310-1479301200-1479313800@jp.crsny.org
SUMMARY:「願いを叶える」香咲弥須子来日特別セミナー
DESCRIPTION:https://www.facebook.com/20161116yasukokasaki/
URL:https://jp.crsny.org/index.php/event/ibf_111616/
LOCATION:池袋自由学園明日館\, 西池袋2-31-3\, 豊島区\, 東京都\, 171-0021\, Japan
CATEGORIES:In Japan
ATTACH;FMTTYPE=image/jpeg:https://jp.crsny.org/wp-content/uploads/2016/04/Yasuko-Kasaki-seminar-120303-2-1.jpg
GEO:35.7266895;139.707253
X-APPLE-STRUCTURED-LOCATION;VALUE=URI;X-ADDRESS=池袋自由学園明日館 西池袋2-31-3 豊島区 東京都 171-0021 Japan;X-APPLE-RADIUS=500;X-TITLE=西池袋2-31-3:geo:139.707253,35.7266895
END:VEVENT
BEGIN:VEVENT
DTSTART;TZID=UTC:20161119T133000
DTEND;TZID=UTC:20161119T164000
DTSTAMP:20260422T114247
CREATED:20160726T231134Z
LAST-MODIFIED:20160726T231134Z
UID:6171-1479562200-1479573600@jp.crsny.org
SUMMARY:香咲弥須子 鳥取講演会
DESCRIPTION:【鳥取講演会のご案内】\n心の底から「奇跡のコース」を生き抜きたいと思い実践しておられる香咲弥須子さんをこの山陰の地にお招きし、講演会を開催できることを心より嬉しく思います。米子での講演に至るまでのご縁に深く感謝しております。\n今回の講演会では、香咲弥須子さん及び奇跡のコースをご存知ない方、奇跡のコースの学びの入り口にいらっしゃる方にもご理解いただけるよう『奇跡のコース』の概略を噛み砕いてお話ししていただきます。\n本来の自分を思い出すために・・・満たされない人間関係、豊かさへの飽くなき追求、生老病死への不安…。 \nこれらはすべて私たちが見ている幻想の世界であることを私たちは分かっていません。\n真実だと思っている現実から本来の自分を思い出すことで抜け出すという奇跡をぜひ一緒に目撃しましょう。 \n《ジョイントセッション》\n第1章「この世界とは何でしょうか」\n第2章「奇跡とは何でしょうか」\n第3章「救いとは何でしょうか」 \n香咲弥須子さんと戸田嵩人による奇跡の対談！奇跡のコースを生きるとはどういうことなのか、何が違うのか。魂同士の語り合いに注目です。 \n◆日時：2016年11月19日(土)  13:00開場\n13:30～15:30講演会\n15:40～16:40ジョイントセッション\n◆参加費用　4\,500円\n◆定員　100名\n◆会場　米子市公会堂２Ｆ　集会室6\,7\n鳥取県米子市角盤町2丁目61番地\ntel　0859-22-3236\nhttp://www.yonagobunka.net/p/yonagobunka/publichall/access/ \n◆ご予約は、８月５日(金)10:00より開始いたします。\n予約方法：電話・ＦＡＸ・メールのいずれかにてお申し込みください。 \nお申し込み方法：①お名前(フリガナ)②住所③電話番号・FAX番号をお知らせください。折り返し参加費の振込先をお知らせしますので１週間以内にお振り込みください。お振り込みの確認をもってご予約確定となります。 \n受付電話番号：０９０－４６５６－３９３２\n受付FAX番号：０８５９－３２－０８８２\nメールアドレス：masuda-n@sea.chukai.ne.jp \n＊キャンセルについて＊\nキャンセルの場合は、お早めにご連絡をください。\nご入金後のキャンセルにつきましては、11/17(木)までにご連絡いただいた場合に限り、振込手数料及び事務手続料 1\,000円を差し引いた金額を、連絡いただいた日より一週間以内にご返金致します。\nなお、ご入金前のキャンセルの場合でも必ずご連絡下さいますようお願いいたします。 \nみなさまのご参加を心よりお待ちしております。 \n鳥取講演会主催　リーディングセラピスト 戸田嵩人
URL:https://jp.crsny.org/index.php/event/tottori111916/
LOCATION:米子市公会堂\, 鳥取県米子市角盤町2丁目61番地\, 米子市\, 鳥取県\, 683-0812\, Japan
CATEGORIES:In Japan
ATTACH;FMTTYPE=image/jpeg:https://jp.crsny.org/wp-content/uploads/2016/03/Yasuko-Kasaki-seminar-120303-2.jpg
ORGANIZER;CN="%E6%88%B8%E7%94%B0%E5%B5%A9%E4%BA%BA":MAILTO:masuda-n@sea.chukai.ne.jp
GEO:35.4332052;133.3328232
X-APPLE-STRUCTURED-LOCATION;VALUE=URI;X-ADDRESS=米子市公会堂 鳥取県米子市角盤町2丁目61番地 米子市 鳥取県 683-0812 Japan;X-APPLE-RADIUS=500;X-TITLE=鳥取県米子市角盤町2丁目61番地:geo:133.3328232,35.4332052
END:VEVENT
END:VCALENDAR