BEGIN:VCALENDAR
VERSION:2.0
PRODID:-//CRS (Center for Remembering &amp; Sharing) - ECPv6.15.20//NONSGML v1.0//EN
CALSCALE:GREGORIAN
METHOD:PUBLISH
X-ORIGINAL-URL:https://jp.crsny.org
X-WR-CALDESC:Events for CRS (Center for Remembering &amp; Sharing)
REFRESH-INTERVAL;VALUE=DURATION:PT1H
X-Robots-Tag:noindex
X-PUBLISHED-TTL:PT1H
BEGIN:VTIMEZONE
TZID:UTC
BEGIN:STANDARD
TZOFFSETFROM:+0000
TZOFFSETTO:+0000
TZNAME:UTC
DTSTART:20180101T000000
END:STANDARD
END:VTIMEZONE
BEGIN:VEVENT
DTSTART;TZID=UTC:20190714T160000
DTEND;TZID=UTC:20190714T173000
DTSTAMP:20260421T152730
CREATED:20190327T222721Z
LAST-MODIFIED:20190514T222129Z
UID:16788-1563120000-1563125400@jp.crsny.org
SUMMARY:香咲弥須子　夏の東京セミナー
DESCRIPTION:2019夏の香咲弥須子東京セミナーのご案内 \n新たな時代の幕開けと共に、2019年夏の『奇跡のコース』『奇跡講座』東京セミナーのご案内です。あなたの“愛”を拡散できますように、お仲間の“光”を受け取れますように、2日間に凝縮・充実した内容となっています。一日目は、ACIMの基礎を深く理解し実感していきます。初めての方や学び始めてまだ日の浅い方、少し学びから離れていた方にとってもわかり易く、本来わたしの使命であるホーリースピリットに委ねるということ、そしてそのメッセージを受け取るワークの時間も経験します。 \n二日目には、『奇跡講座』の「テキスト」を中心に「精神療法」「祈りの歌」も含めて、ヒーリングの理解と実践につなげます。日々の学びをより深めていく手がかりが掴めます。\nそして三日目は、10名限定のintensiveなクラスをご用意します。二日間のセミナーにもう一歩踏み込んだグループセッションです。 \nご参加を心よりお待ちしております。 \n香咲弥須子セミナー事務局 久保田智子　佐藤直子 \n・・・・・・・・・・・・・・・・・・・・・・・・・ \n以下、最後まで目をお通しください。 \n予約開始日時： 5月 11日 (土) 午前 9 時 \n＜二日間セミナーご案内＞ \n＊2日間の開催時間が、異なります。必ず確認してください。 \n《日時》2019年 7月 13 日（土） 13:00～17:30\n2019年 7月 14 日（日） 12:30～16:00\n《開催場所》中野サンプラザ 11階アネモルーム 東京都中野区中野4-1-1    http://www.sunplaza.jp/access/ \n《参加費用》\n・両日受講：33\,000円\n・7/13(土)1日目のみ受講：20\,000円\n・7/14(日)2日目のみ受講：25\,000円 \n※《割引参加費用》\n香咲弥須子podcast『テキスト精読』 https://www.acimclassroom.org/acim-textbook-podcast\n一年間自動引落もしくは一年間アクセス可能にて購読して学んでいらっしゃる方は、参加費が割引となります。\n・両日受講：28\,000円\n・7/14(日)2日目のみ受講：20\,000円\n予約フォームにて精読の購入日、および、お申し込みに使用なさったクレジットカードのお名前をローマ字でお知らせください。 \nご夫婦割引／親子割引：両日参加の場合は2割引、その他は1割引です。\n親子割引は、大学生以下のお子様が対象です。お申込みフォームより、ご一緒にお申し込みください。 \n＜ヒーリングクラス＞\n＊新規募集はありません。\nホーリースピリットからのメッセージを受け取ります。\n2日に渡り確認したことを存分に使ったスピリチュアル・ヒーリングを学び練習します。\n内容をご確認ください　→　https://www.y-s-inn.com/ヒーリングクラスについて/ \n《日　時》2019年 7月 14日（日）16:30～18:00\n《開催場所》　中野サンプラザ　11階アネモルーム\n《参加費用》15\,000円 \n今春より参加の方は、7月14 日 (日) 10:00-11:30  15階リーフルームにてヒーリングの手法についてお伝えする時間があります。\n《参加費用》10\,000円 \n＜︎Intensiveなクラス＞　《定員10名》\n東京セミナー両日参加及びテキスト精読を購読している方が対象となります。\nセミナー二日間を受講して、日々の学びの中で、そしてシェア会や勉強会など開催している中で、わからないことや疑問に思ったことを少人数だからこそできるディスカッションをしていきます。 \n《日　時》 2019年 7月 15 日 (月) 13:00～15:00\n《開催場所》　東京都新宿区神楽坂\n《参加費用》20\,000円 \n＊セミナー予約フォームのチェックボックスにてお申し込みください。https://www.y-s-inn.com/お申込み/ \n＜出版記念トークイベント&握手会＞ \n《日　時》 2019年 7月 21 日 (日) 13:00～15:30\n《開催場所》　中野サンプラザ　15階エトワールルーム\n《参加費用》6\,000円\n東京セミナー両日参加と一緒にお申し込みされる場合は、4\,000円 \n＊セミナー予約フォームのチェックボックスにてお申し込みください。https://www.y-s-inn.com/お申込み/ \n＜個人セッション＞\nhttps://jp.crsny.org/index.php/session/ \n夏の東京セミナー二日間共に参加申し込みされ、6月17日（月）までにセミナー代金のお振込みが完了した方が対象です。対面でセッションを受けていただけます。人数に限りがあり、ご希望の方の中からの抽選となります。 \n《日　時》2019年 7月12日 (金)\n《開催場所》　新宿区\n《セッション料金》31\,000円／1時間 \n＊セミナー予約フォームのチェックボックスにてお申し込みください。https://www.y-s-inn.com/お申込み/ \n◇ボランティアスタッフ募集◇\nセミナー両日をボランティアでお手伝いしてくださる有志の方を募集します。参加者のみなさまにできるだけ気持ちよく学んでいただくためのサポート活動を通して、与えることと受け取ることの豊かさをさらに経験なさってみませんか。 \n・両日11:30に集合可能で、かつ、初参加以外の方が対象です。\n・ <内容>開始前準備・受付・物販・会場内外の誘導・終了後の片づけ等\n・参加費用は、すべてご負担をお願いいたします。\n講話中のお手伝いはありません。他のみなさまと同様、着席してご参加してください。 \n6月 17日(月)までに、セミナーのお申し込みをしていただき、その際、予約フォームの“ボランティアスタッフ希望“にもチェックを入れてください。\nhttps://www.y-s-inn.com/お申込み/  \nご応募をお待ちしています。 \n～～～　お申込方法　～～～ \n*予約フォームhttps://www.y-s-inn.com/お申込み/ をクリックしてお申し込みください。\n24時間以内に返信がない場合は、まずは迷惑メールフォルダーをご確認ください。確認できない場合は、お手数ですが、　ysinn@y-s-inn.com　宛にメッセージをお願いいたします。\n*予約フォームからの入力ができない方は、ysinn@y-s-inn.com 宛、メールにてお申し込み下さい。（お名前、フリガナ、お電話番号、参加日をご記入下さい） \n＊キャンセルについて＊\nお振り込み手続きの前のキャンセルであっても必ず連絡をお願いします。\nご入金後のキャンセルは、セミナー前日のお昼12時までにメールで連絡をいただいた場合に限り、振込手数料及び事務手続料¥1\,000を差し引いた金額を、一週間以内にご返金いたします。\nお振込み金額の全てを次回のセミナーの振替に充てる為にお預かりすることもできます。 \n＊お問い合わせ先＊\nご予約・変更・お取消につては、ysinn@y-s-inn.com\nセミナー参加についてのご質問は、seminar@crsny.org \n香咲弥須子セミナー事務局 \n+ GOOGLE カレンダー+ ICA
URL:https://jp.crsny.org/index.php/event/summer-seminar-2019-07-14/
LOCATION:中野サンプラザ\, 東京都中野区中野4-1-1\, 東京\, 1648512\, Japan
CATEGORIES:In Japan
ATTACH;FMTTYPE=image/jpeg:https://jp.crsny.org/wp-content/uploads/2016/03/Yasuko-Kasaki-seminar-120303-2.jpg
ORGANIZER;CN="%E9%A6%99%E5%92%B2%E5%BC%A5%E9%A0%88%E5%AD%90CRS%E3%82%BB%E3%83%9F%E3%83%8A%E3%83%BC%E4%BA%8B%E5%8B%99%E5%B1%80":MAILTO:seminar@crsny.org
GEO:35.7075813;139.6647403
X-APPLE-STRUCTURED-LOCATION;VALUE=URI;X-ADDRESS=中野サンプラザ 東京都中野区中野4-1-1 東京 1648512 Japan;X-APPLE-RADIUS=500;X-TITLE=東京都中野区中野4-1-1:geo:139.6647403,35.7075813
END:VEVENT
BEGIN:VEVENT
DTSTART;TZID=UTC:20190714T163000
DTEND;TZID=UTC:20190714T180000
DTSTAMP:20260421T152730
CREATED:20190327T223332Z
LAST-MODIFIED:20190427T184055Z
UID:16790-1563121800-1563127200@jp.crsny.org
SUMMARY:香咲弥須子 ヒーリング・クラス
DESCRIPTION:＜ヒーリングクラス＞ \n＊新規募集はありません。 \nホーリースピリットからのメッセージを受け取ります。\n2日に渡り確認したことを存分に使ったスピリチュアル・ヒーリングを学び練習します。\n内容をご確認ください　→　https://www.y-s-inn.com/ヒーリングクラスについて/ \n《日　時》2019年 7月 14日（日）16:30～18:00\n《開催場所》　中野サンプラザ　11階アネモルーム\n《参加費用》15\,000円 \n今春より参加の方は、7月14 日 (日) 10:00-11:30  15階リーフルームにてヒーリングの手法についてお伝えする時間があります。 \n《参加費用》10\,000円 \n～～～　お申込方法　～～～ \n*予約フォームhttps://www.y-s-inn.com/セミナーお申込フォーム/をクリックしてお申し込みください。\n24時間以内に返信がない場合は、まずは迷惑メールフォルダーをご確認ください。確認できない場合は、お手数ですが、　ysinn@y-s-inn.com　宛にメッセージをお願いいたします。\n*予約フォームからの入力ができない方は、ysinn@y-s-inn.com 宛、メールにてお申し込み下さい。（お名前、フリガナ、お電話番号、参加日をご記入下さい） \n＊キャンセルについて＊ \nお振り込み手続きの前のキャンセルであっても必ず連絡をお願いします。\nご入金後のキャンセルは、セミナー前日のお昼12時までにメールで連絡をいただいた場合に限り、振込手数料及び事務手続料¥1\,000を差し引いた金額を、一週間以内にご返金いたします。\nお振込み金額の全てを次回のセミナーの振替に充てる為にお預かりすることもできます。 \n＊お問い合わせ先＊\nご予約・変更・お取消につては、ysinn@y-s-inn.com\nセミナー参加についてのご質問は、seminar@crsny.org \n香咲弥須子セミナー事務局
URL:https://jp.crsny.org/index.php/event/healing-class-20190714/
LOCATION:中野サンプラザ\, 東京都中野区中野4-1-1\, 東京\, 1648512\, Japan
CATEGORIES:In Japan
ATTACH;FMTTYPE=image/jpeg:https://jp.crsny.org/wp-content/uploads/2017/03/2015summer16.jpg
ORGANIZER;CN="%E9%A6%99%E5%92%B2%E5%BC%A5%E9%A0%88%E5%AD%90CRS%E3%82%BB%E3%83%9F%E3%83%8A%E3%83%BC%E4%BA%8B%E5%8B%99%E5%B1%80":MAILTO:seminar@crsny.org
GEO:35.7075813;139.6647403
X-APPLE-STRUCTURED-LOCATION;VALUE=URI;X-ADDRESS=中野サンプラザ 東京都中野区中野4-1-1 東京 1648512 Japan;X-APPLE-RADIUS=500;X-TITLE=東京都中野区中野4-1-1:geo:139.6647403,35.7075813
END:VEVENT
BEGIN:VEVENT
DTSTART;TZID=UTC:20190715T130000
DTEND;TZID=UTC:20190715T150000
DTSTAMP:20260421T152730
CREATED:20190327T223605Z
LAST-MODIFIED:20190427T184253Z
UID:16792-1563195600-1563202800@jp.crsny.org
SUMMARY:香咲弥須子 インテンシブなクラス（東京）
DESCRIPTION:＜︎Intensiveなクラス＞　《定員10名》 \n東京セミナー両日参加及びテキスト精読を購読している方が対象となります。 \nセミナー二日間を受講して、日々の学びの中で、そしてシェア会や勉強会など開催している中で、わからないことや疑問に思ったことを少人数だからこそできるディスカッションをしていきます。 \n《日　時》 2019年 7月 15 日 (月) 13:00～15:00\n《開催場所》東京都新宿区神楽坂\n《参加費用》20\,000円 \n＊セミナー予約フォームのチェックボックスにてお申し込みください。\nhttps://www.y-s-inn.com/セミナーお申込フォーム/ \n～～～　お申込方法　～～～ \n*予約フォームhttps://www.y-s-inn.com/セミナーお申込フォーム/ をクリックしてお申し込みください。\n24時間以内に返信がない場合は、まずは迷惑メールフォルダーをご確認ください。確認できない場合は、お手数ですが、　ysinn@y-s-inn.com　宛にメッセージをお願いいたします。\n*予約フォームからの入力ができない方は、ysinn@y-s-inn.com 宛、メールにてお申し込み下さい。（お名前、フリガナ、お電話番号、参加日をご記入下さい） \n＊キャンセルについて＊ \nお振り込み手続きの前のキャンセルであっても必ず連絡をお願いします。\nご入金後のキャンセルは、セミナー前日のお昼12時までにメールで連絡をいただいた場合に限り、振込手数料及び事務手続料¥1\,000を差し引いた金額を、一週間以内にご返金いたします。\nお振込み金額の全てを次回のセミナーの振替に充てる為にお預かりすることもできます。 \n＊お問い合わせ先＊\nご予約・変更・お取消につては、ysinn@y-s-inn.com\nセミナー参加についてのご質問は、seminar@crsny.org \n香咲弥須子セミナー事務局 \n 
URL:https://jp.crsny.org/index.php/event/class20190715/
LOCATION:Tokyo
CATEGORIES:In Japan
ATTACH;FMTTYPE=image/jpeg:https://jp.crsny.org/wp-content/uploads/2016/02/20170317-e1490643687566.jpg
ORGANIZER;CN="%E9%A6%99%E5%92%B2%E5%BC%A5%E9%A0%88%E5%AD%90CRS%E3%82%BB%E3%83%9F%E3%83%8A%E3%83%BC%E4%BA%8B%E5%8B%99%E5%B1%80":MAILTO:seminar@crsny.org
END:VEVENT
BEGIN:VEVENT
DTSTART;TZID=UTC:20190720T140000
DTEND;TZID=UTC:20190720T163000
DTSTAMP:20260421T152730
CREATED:20190325T231534Z
LAST-MODIFIED:20190606T175152Z
UID:16776-1563631200-1563640200@jp.crsny.org
SUMMARY:香咲弥須子静岡セミナー
DESCRIPTION:奇跡のコース・奇跡講座に学ぶ「人生にミラクルを起こす生き方」 \n『あなたが世界に見るものは全て心の投影です』 ふらりと立ち寄った、香咲弥須子先生の「奇跡のコース」のクラスで聞いたひとこと。 「こんなに本当のこと、私はかつて聞いたことがない!」と衝撃を受けました。「奇跡のコース」も「香咲弥須子先生」の名前も知らずに、ただ、「面白いクラスがあるから行ってみれば?」という、 ほんの数回あっただけの人からのお誘い。  \n今思えば、それ自体がすでに「ミラクル」だったのですね。   \n先生のクラスに通い、奇跡のコースを学んでいく過程で、わたしも何度もミラクルを経験しました。 「ビザ」の奇跡、「キャリア」の奇跡、「出会い」の奇跡。それらの奇跡がなかったら、ニューヨークで16年間生活を立てることはできなかっただろうと思います。   \n日々、なぜ世界はこんなにも複雑で、不公平で、辛いことの連続で、、、と感じて生きている私たちですが、 たった一つの真実に戻る時、世界がひっくりかえります。\nその「一つの真実」を学ぶ、それが奇跡のコースです。 この「真実」を、奇跡のコースの第1人者である「香咲弥須子先生」からぜひ皆様と共に学んでいきたいと思います。  \n静岡セミナー・オーガナイザー「ミラクル静岡」主宰者・やまざき けいこ \n日時: 2019年7月20日(土) 受付開始13:30\, 14:00 ～16:30\n会場: 静岡県男女共同参画センター「あざれあ」5階 第3会議室\n参加費: 12000円 (早割あり)\n*受付開始4月11日～、4 月11日～5月17日に振込を完了していただいた場合 11\,000円\n5月18日～6月17日に振込を完了していただいた場合 11\,500円 、それ以降は12\,000円 \n詳細はこちらのページに記載しております、ご参照ください\nhttps://resast.jp/events/327227 \nお問い合わせ: info@miracle-shizuoka.com、またはmiracle.shizuoka@gmail.com  \nアメーバブログ:https://ameblo.jp/miracle-shizuoka/ \nホームページ  https://miracle-shizuoka.com \n 
URL:https://jp.crsny.org/index.php/event/sizuoka20190720/
LOCATION:静岡県男女共同参画センター
CATEGORIES:In Japan
ATTACH;FMTTYPE=image/jpeg:https://jp.crsny.org/wp-content/uploads/2019/03/dc9cc76fd7ec56bf583751e1cb63d164.jpg
ORGANIZER;CN="Keiko Yamazaki":MAILTO:miracle.shizuoka@gmail.com
END:VEVENT
END:VCALENDAR