BEGIN:VCALENDAR
VERSION:2.0
PRODID:-//CRS (Center for Remembering &amp; Sharing) - ECPv6.15.20//NONSGML v1.0//EN
CALSCALE:GREGORIAN
METHOD:PUBLISH
X-WR-CALNAME:CRS (Center for Remembering &amp; Sharing)
X-ORIGINAL-URL:https://jp.crsny.org
X-WR-CALDESC:Events for CRS (Center for Remembering &amp; Sharing)
REFRESH-INTERVAL;VALUE=DURATION:PT1H
X-Robots-Tag:noindex
X-PUBLISHED-TTL:PT1H
BEGIN:VTIMEZONE
TZID:UTC
BEGIN:STANDARD
TZOFFSETFROM:+0000
TZOFFSETTO:+0000
TZNAME:UTC
DTSTART:20210101T000000
END:STANDARD
END:VTIMEZONE
BEGIN:VEVENT
DTSTART;TZID=UTC:20220819T214500
DTEND;TZID=UTC:20220819T221500
DTSTAMP:20260424T115351
CREATED:20220801T191907Z
LAST-MODIFIED:20220802T142913Z
UID:21610-1660945500-1660947300@jp.crsny.org
SUMMARY:テキスト精読のためのクラス
DESCRIPTION:テキスト精読のためのクラス \n  \n香咲弥須子podcast『テキスト精読』https://acimclassroom.org/ 　を、長年購読している方、最近始められた方、 \nこれから始めようかと考え中の方、精読のための大事なポイントなど、レクチャーを受けることができます。 \nワークブックとテキストの両方があって『奇跡のコース』『奇跡講座』の学びは進んでいきます。 \n今後のモチベーションを持続させるためにも、この機会をご利用ください。 \nこのテキスト精読を購読していなくても、『テキスト』って？と気になっている方も、是非ご参加ください。 \n＊ このクラスは不定期に開催されていますが、継続参加していなくても、安心して受けていただけます。 \n  \n《日　　時》　\n8月 20日（土） 　午前 10:45 – 11:15 終了（日本時間）\n8月 19日（金） 　午後 9:45 – 10 :15 終了（ニューヨーク時間） \n  \n＊＊ 1ヶ月の録画配信付き ＊＊ \n《参 加 費》 \n①5\,000円 　＊米ドル建＄40 \n②オンラインコース第三期に登録している方は、 3\,000円 税込　＊米ドル建　＄25　 \n③テキスト精読年間購読中(一年間自動引落または一年間アクセス可能)の方は、 1\,000円 税込　＊米ドル建＄10　 \n④テキスト精読年間購読中(一年間自動引落または一年間アクセス可能)で、第三期に登録している方は、無料 \n【予約フォーム】 \nhttps://www.acim-yasukokasaki.net/イベント予約/テキスト精読のためのクラス/
URL:https://jp.crsny.org/index.php/event/textreadingclass20220820/
LOCATION:Kyoto
ORGANIZER;CN="%E9%A6%99%E5%92%B2%E5%BC%A5%E9%A0%88%E5%AD%90%E4%BA%8B%E5%8B%99%E5%B1%80":MAILTO:info@acim-yasukokasaki.net　
END:VEVENT
BEGIN:VEVENT
DTSTART;TZID=UTC:20220828T160000
DTEND;TZID=UTC:20220828T170000
DTSTAMP:20260424T115351
CREATED:20220801T140717Z
LAST-MODIFIED:20220801T140944Z
UID:21601-1661702400-1661706000@jp.crsny.org
SUMMARY:第24回　ニューヨークの四季 -日本音楽の彩り-
DESCRIPTION:Four Seasons in New York – Gems of Japanese Music – Vol. 24\n第24回　ニューヨークの四季 –日本音楽の彩り–\n\n共催：Center for Remembering and Sharing\, 木村伶香能 後援：（有）邦楽ジャーナル、Mar Creation\, Inc. \n【Date】 Sunday\, August 28\, 2022\, 4:00 pm (EST)\n*当公演は、ライブコンサートのみです。 \n【Venue】 Center for Remembering and Sharing\, White Room\n(123 4th Ave #3\, New York\, NY) \n【Details of the Event】\n《第24回公演について》 \n第24回公演は、夏らしく古典の人気作品「千鳥曲」（吉沢検校作曲）、アメリカ初演となる「千鳥を主題とせる三弦曲」（中能島欣一作曲）他を演奏。ゲストに、エリザベス・ブラウン氏（琴古流尺八）を迎えます。\n箏・三味線演奏家の木村伶香能による日本音楽コンサートシリーズ。2015年以来、これまで四季折々に山田流箏曲・地歌を主体に50曲以上の作品をお届けしています。 \n《木村伶香能 (きむられいかの) 略歴》\n 箏・三味線の「古典から現代へ」をテーマに世界各国にて演奏。ニューヨークタイムズ紙から「傑出した演奏と歌声」と高評を得る。第10回賢順全国箏曲コンクールにて第一位を受賞。ソリストとして、カルテット、オーケストラと多数共演、玉木光とのデュオ夢乃でも活躍。 \n【Tickets】\nライブコンサート：$30\n●ご予約受付：info@yokoreikanokimura.com\n＊ご氏名、希望枚数を明記の上、上記アドレスまでご送信下さい。\n＊コロナ感染防止対策の都合上、お席が限られておりますので、お早めのご予約を お勧め致します。要マスク、ワクチン証明書、ブースターショットの確認をさせて 頂きます。ご理解ご協力のほど、宜しくお願い申しあげます。\n＊ご精算は当日CRSにて承ります。（キャッシュのみ） \n【Event website】 木村伶香能ウェブサイトhttps://www.yokoreikanokimura.com/calendar/ \n【Contact】 info@yokoreikanokimura.com
URL:https://jp.crsny.org/index.php/event/fourseasons20220828/
LOCATION:CRS (Center for Remembering & Sharing)\, 41 E 11st St. 11th Fl.\, New York\, NY\, 10003\, United States
CATEGORIES:CRS Presents
ATTACH;FMTTYPE=image/jpeg:https://jp.crsny.org/wp-content/uploads/2022/08/24-square.jpg
ORGANIZER;CN="CRS (Center for Remembering & Sharing)":MAILTO:info@crsny.org
GEO:40.733496;-73.989816
X-APPLE-STRUCTURED-LOCATION;VALUE=URI;X-ADDRESS=CRS (Center for Remembering & Sharing) 41 E 11st St. 11th Fl. New York NY 10003 United States;X-APPLE-RADIUS=500;X-TITLE=41 E 11st St. 11th Fl.:geo:-73.989816,40.733496
END:VEVENT
END:VCALENDAR