BEGIN:VCALENDAR
VERSION:2.0
PRODID:-//CRS (Center for Remembering &amp; Sharing) - ECPv6.15.20//NONSGML v1.0//EN
CALSCALE:GREGORIAN
METHOD:PUBLISH
X-ORIGINAL-URL:https://jp.crsny.org
X-WR-CALDESC:Events for CRS (Center for Remembering &amp; Sharing)
REFRESH-INTERVAL;VALUE=DURATION:PT1H
X-Robots-Tag:noindex
X-PUBLISHED-TTL:PT1H
BEGIN:VTIMEZONE
TZID:America/New_York
BEGIN:DAYLIGHT
TZOFFSETFROM:-0500
TZOFFSETTO:-0400
TZNAME:EDT
DTSTART:20220313T070000
END:DAYLIGHT
BEGIN:STANDARD
TZOFFSETFROM:-0400
TZOFFSETTO:-0500
TZNAME:EST
DTSTART:20221106T060000
END:STANDARD
BEGIN:DAYLIGHT
TZOFFSETFROM:-0500
TZOFFSETTO:-0400
TZNAME:EDT
DTSTART:20230312T070000
END:DAYLIGHT
BEGIN:STANDARD
TZOFFSETFROM:-0400
TZOFFSETTO:-0500
TZNAME:EST
DTSTART:20231105T060000
END:STANDARD
BEGIN:DAYLIGHT
TZOFFSETFROM:-0500
TZOFFSETTO:-0400
TZNAME:EDT
DTSTART:20240310T070000
END:DAYLIGHT
BEGIN:STANDARD
TZOFFSETFROM:-0400
TZOFFSETTO:-0500
TZNAME:EST
DTSTART:20241103T060000
END:STANDARD
END:VTIMEZONE
BEGIN:VEVENT
DTSTART;TZID=America/New_York:20230604T130000
DTEND;TZID=America/New_York:20230604T183000
DTSTAMP:20260423T183630
CREATED:20230515T205252Z
LAST-MODIFIED:20230529T030041Z
UID:22445-1685883600-1685903400@jp.crsny.org
SUMMARY:CRS Presents 禅を見つけよう | 瞑想の科学
DESCRIPTION:CRSでは、倉島隆行禅師と著名な音楽プロデューサー中脇雅裕氏（坂本龍一、Perfume、きゃりーぱみゅぱみゅなど）による日本発の最先端のサウンド瞑想体験をお楽しみいただけます。このイベントは、 2023 年 6 月 4 日の午後 1 時、 3 時、 5 時の３回、 CRS のホワイト ルームにて開催します。 \n  \n【イベントについて】\n日常生活の喧騒の中で、私たちは十分にリラックスして自分自身と調和する時間を作るのが難しいと感じることがよくあります。 しかし、忙しいスケジュールの合間をぬって、セルフケアの方法として瞑想を行うことは有効です。\n日本の伝統的な禅瞑想のテクニックを使用した「Real Zen Mind（禅脳）」は、シンギングボウルの生演奏と共に心身のリラックスに効果的な音楽を聞きながら瞑想セッションを行います。このプログラムは、四天王寺第54世住職である倉島隆行氏と日本を代表する音楽プロデューサー中脇雅裕氏という、それぞれの分野の専門家2名がプロデュースしています。\nこのイベントでは、倉島氏と中脇氏が、このプログラムの説明をし、その後の瞑想つまり「Real Zen Mind（禅脳）」を体験します。 説明の中では、皆さんは「Real Zen Mind（禅脳）」の科学的また医療的な効果について学び、その後、専門家のリードによる瞑想体験に浸ります。\nそしてこのプログラムは、日頃から瞑想に取り組んでいる経験者だけでなく、まったくの初心者も歓迎しています。誰もが「「Real Zen Mind（禅脳）」の素晴らしさを理解し、自宅では体験できない「場」に導かれることでしょう。 \n【プログラム】\n「禅マインド」メソッド紹介（25～30分）\n「禅マインド」瞑想（20分）\n休憩+質疑応答（15～20分）\n※全プログラムの所要時間は約1～1時間15分となります。\n**体験中は床に座りやすい服装でお越しください。 動きやすいパンツがおすすめです。\n***床に座りたくないお客様のために椅子をご用意しております。 \nこのプログラムは日本語と英語で行われます。\n各回、定員がありますので、こちらのリンクから必ずご参加希望の回をお選びの上、お申し込みください。eventbrite.com:\nhttps://bit.ly/3MdczX3\n当日、空きがある場合はご参加いただけますので、その場合は会場にて現金$25をお支払いください。（クレジットカードでのお支払いの場合は、必ず上記のEventbrite.comから手続きをお願いします）\nお問合せ先： aloha88hula@gmail.com (Yoshiko） \n  \n【講師について】\n・倉島隆行氏 \n\n三重県津市四天王寺曹洞宗第54代住職 | 元全日本曹洞宗青年僧侶協会会長 | 世界仏教青少年連盟顧問。\n倉島氏は大本山永平寺での2年間の修行を終えた後、ヨーロッパで禅の修行を続けた。 帰国後、宗教の垣根を越えて宗教間の対話を促進する活動を開始し、伊勢国際宗教フォーラムでの世話人を務めました。\nまた、人々の心の健康のために20年以上にわたり毎週日曜日に座禅教室を開催し、一般向けに禅体験講座も開催しています。\n自立生活支援介護施設「四天王庵」を設立し、身体活動だけでなく「Real Zen Mind（禅脳）」と呼ばれる座禅法も取り入れ、介護体制の向上を目指しています。\nまた、この四天王寺は、推古天皇の命により聖徳太子が建立した千年以上の歴史を持つ禅寺です。 \n・中脇雅裕氏 \n\n中脇氏は大学時代からCM音楽の制作を始め、数々の企業に楽曲を提供してきました。 大学卒業後、財団法人ヤマハ音楽振興会にて音楽教育研究および講師のトレーナーとして活動。 その後、音楽プロデューサーとしてPerfume、きゃりーぱみゅぱみゅ、CAPSULE、手嶌葵、SMAP、坂本龍一など様々なアーティストの制作に携わりました。また 教育心理学研究の経歴を活かし、独自の自己啓発メソッドを開発、企業や教育機関で講演を行っています。その他に、東京大学とのAIによる音楽生成の共同研究プロジェクトに参加。南カリフォルニア大学では「日本のエンターテインメント・ビジネス」についての講演などを行っています。\n近年は統合医療の一環として音楽の効果について研究しており、四天王寺住職の倉島氏とも音楽を使って瞑想の効果を更に深める「Real Zen Mind（禅脳）」の開発にも力を注いでいる。 \n  \n 
URL:https://jp.crsny.org/index.php/event/230604/
LOCATION:CRS (Center for Remembering & Sharing)\, 41 E 11st St. 11th Fl.\, New York\, NY\, 10003\, United States
CATEGORIES:CRS Presents
ATTACH;FMTTYPE=image/jpeg:https://jp.crsny.org/wp-content/uploads/2023/05/image.jpeg
ORGANIZER;CN="CRS (Center for Remembering & Sharing)":MAILTO:info@crsny.org
GEO:40.733496;-73.989816
X-APPLE-STRUCTURED-LOCATION;VALUE=URI;X-ADDRESS=CRS (Center for Remembering & Sharing) 41 E 11st St. 11th Fl. New York NY 10003 United States;X-APPLE-RADIUS=500;X-TITLE=41 E 11st St. 11th Fl.:geo:-73.989816,40.733496
END:VEVENT
BEGIN:VEVENT
DTSTART;TZID=America/New_York:20230618T170000
DTEND;TZID=America/New_York:20230618T183000
DTSTAMP:20260423T183630
CREATED:20230512T132843Z
LAST-MODIFIED:20230512T132843Z
UID:22437-1687107600-1687113000@jp.crsny.org
SUMMARY:CRS Presents Jessica Ackerley\, Sarah Manning\, and Alma Laprida in Concert
DESCRIPTION:CRS is delighted to present M³ (Mutual Mentorship for Musicians)’ Winter Solstice 2021 Cohort member Jessica Ackerley (guitar) with Sarah Manning (saxophone) and Alma Laprida (tromba marina) on June 18\, 2023 at 5pm in the award-winning White Room at CRS. An audience Q&A will take place following the concert.  \nThis trio’s music is mostly centered around improvisation with a melding of modern jazz and ambient music. But the ensemble is highly unique with the addition of the string instrument tromba marina\, especially in this context because it was originally an instrument for Rennaissance music. \nA tromba marina\, marine trumpet or nuns’ fiddle\, (Fr. trompette marine; Ger. Marientrompete\, Trompetengeige\, Nonnengeige or Trumscheit\, Pol. tubmaryna) is a triangular bowed string instrument used in medieval and Renaissance Europe that was highly popular in the 15th century in England and survived into the 18th century. The tromba marina consists of a body and neck in the shape of a truncated cone resting on a triangular base. It is usually four to seven feet long\, and is a monochord (although some versions have sympathetically-vibrating strings). It is played without stopping the string\, but playing natural harmonics by lightly touching the string with the thumb at nodal points. Its name comes from its trumpet like sound due to the unusual construction of the bridge\, and the resemblance of its contour to the marine speaking-trumpet of the Middle Ages. — from Wikipedia\, the free encyclopedia \nTickets are $20 general admission and $10 for students and are available in advance on eventbrite.com. If not sold out\, tickets will also be available at the door for cash only. Some seating may be on blankets on the floor.  \nThe concert will take place in the award-winning White Room at CRS. Please note that the venue is accessible only via a flight of stairs and is not wheelchair accessible. Proof of vaccination is not required but the wearing of masks is encouraged. \nThe White Room at CRS is located between 12th & 13th streets\, above Think Coffee\, in Manhattan. The nearest subway station is 14th St / Union Square (4/5/6\, N/R/Q/W\, L). \nABOUT THE ARTISTS \nSarah Manning is a saxophonist and composer. She has released four critically acclaimed albums. Harmonious Creature (Posi-Tone 2014) received 4 stars in Down Beat Magazine\, and was on multiple jazz top ten lists including the Los Angeles Times. She is a recipient of a 2021 NYSCA composer commission and a MAP Fund 2020 and 2021 grantee for We Will Not Be Composed\, a new multimedia work with author and activist Soraya Chemaly to challenge perceptions of women’s anger in America. In addition to being a MacDowell Fellow in composition (2012\, 2021)\, she can most recently be heard on William Hooker’s 2021 release Big Moon. \nhttps://www.sarahmanningmusic.com \nAlma Laprida explores the territories among composition\, improvisation\, performance and installation. She works with trumpet marine\, field recordings\, synthesizers\, lyre and other non- conventional instruments and objects. Her work was presented in Argentina\, Brazil\, Colombia\, Chile\, Italy\, Mexico and the United States. \nAlma released three solo albums\, two collaboration albums and several pieces in compilations. She’s currently part of Hypnotized Chickens\, the Bureau of Sensory Affairs and GEXLAT. After living and working in Buenos Aires for ten years\, she’s been based in Maryland\, USA\, since 2021. \nhttps://almalaprida.wordpress.com \nJessica Ackerley is a Canadian guitarist\, improviser and composer based in Hawai’i and a current PhD candidate at University of Hawai’i after a decade of living in New York City. Ackerley continually develops a hybrid musical language drawing on the influences of Black American Music and avant-garde improvisers\, as well as the culture of the thriving New York City and Toronto rock and noise scenes. Since 2017\, Ackerley has released thirteen albums to much critical acclaim with features in Wire Magazine\, Pitchfork\, BBC Radio\, and Bandcamp. They has been commissioned by Adult Swim\, M³ (Mutual Mentorship for Musicians\, and New Music USA as well as received funding from Canada Council for the Arts and Foundation for Contemporary Arts. \nhttps://www.jessicaackerley.com \nABOUT THE PRESENTER \nCRS (CENTER FOR REMEMBERING & SHARING) is a spiritual healing and art center founded in 2004 by the writer/lecturer/spiritual counselor Yasuko Kasaki and artist Christopher Pelham. Our mission is guided by A Course in Miracles (ACIM). ACIM says that recognizing that you and your brother are actually one is the only way to experience peace. The mission of CRS is to promote the awareness that limitless creativity lives within each of us. We train minds to recognize the light in themselves and others and provide them opportunities to share their inner vision through the healing and creative arts. Since its founding CRS has provided numerous residencies and performance and exhibition opportunities to artists from all over the world.  \nCurrently\, CRS is a multi-year sponsor of M³ (Mutual Mentorship for Musicians)\, a platform created to empower\, elevate\, normalize and give visibility to women\, non-binary musicians and those of other historically underrepresented gender identities in intersection with race\, sexuality\, or ability across generations in the US and worldwide\, through a radical model of mentorship and musical collaborative commissions. \nhttps://crsny.org
URL:https://jp.crsny.org/index.php/event/concert20230618/
LOCATION:CRS (Center for Remembering & Sharing)\, 41 E 11st St. 11th Fl.\, New York\, NY\, 10003\, United States
ATTACH;FMTTYPE=image/jpeg:https://jp.crsny.org/wp-content/uploads/2023/05/230618-concert-image-for-Eventbrite.jpg
ORGANIZER;CN="CRS (Center for Remembering & Sharing)":MAILTO:info@crsny.org
GEO:40.733496;-73.989816
X-APPLE-STRUCTURED-LOCATION;VALUE=URI;X-ADDRESS=CRS (Center for Remembering & Sharing) 41 E 11st St. 11th Fl. New York NY 10003 United States;X-APPLE-RADIUS=500;X-TITLE=41 E 11st St. 11th Fl.:geo:-73.989816,40.733496
END:VEVENT
BEGIN:VEVENT
DTSTART;TZID=America/New_York:20230624T183000
DTEND;TZID=America/New_York:20230624T220000
DTSTAMP:20260423T183630
CREATED:20230524T143729Z
LAST-MODIFIED:20230524T143729Z
UID:22461-1687631400-1687644000@jp.crsny.org
SUMMARY:An Ecstatic Solstice Celebration
DESCRIPTION:Please join us in celebrating the Summer Solstice with NOoSPHERE Arts as they kick off their WE ARE NATURE: Rising and Falling annual rooftop series. Held in the spectacular\, one-of-a-kind setting of wildflower meadows stretching across the roofs of an industrial plant against the iconic backdrop of the NYC skyline\, the event will be centered around a Sufi opening ritual honoring nature’s cycles\, performed by Whirling Dervish Farima Berenji. Farima—a Sufi Master and Magi from the bloodline of Iranian Zoroastrian Magi—and her sacred dancers will be accompanied by the klezmer music and Sephardic folk melodies of The Shul Band. The ceremony has been designed as a unique blend of Muslim and Jewish elements— epitomizing the possibility of interfaith collaboration. Join us at Sunset to mark this special occasion! \nThe main event will involve solo acts\, duets and a whirling performance in which several participants— including Cyr wheelers—will interpret the movements of individual planets around a star. The show will also feature poetry readings and storytelling by Master Farima and be accompanied by the live music of the Shul Band. Following the whirlers’ performances\, The Shul Band will continue playing against the darkening night sky. \nCRS is one of the supporters of the event. \nTickets are available via Eventbrite:\nhttps://www.eventbrite.com/e/rooftop-season-opening-event-an-ecstatic-solstice-celebration-tickets-640904210747 \nA Sema Gathering (free) and two Whirling workshops (Basic and advanced Whirling practices) will be offered on the day following the event (Sun\, Jun 25: Beginner: 12-1:30 pm\, Advanced: 2-3:30 pm).\nhttps://www.eventbrite.com/e/soul-of-the-sema-whirling-workshops-tickets-638797419277 \nFarima Berenji is an internationally acclaimed dance artist\, ethnologist\, choreographer\, instructor\, and archaeologist specializing in ancient\, sacred\, classical\, and folk dances spanning the millenniums of Persian civilization\, the Silk Road\, and the Near East.\nhttp://farimadance.com/ \n  \nThe Shul Band\, led by Adam Feder\, plays music rooted in Jewish folk music but drawing on the musical wellsprings of New York City and of the whole world. It is equally prayerful and raucous\, meditative and joyful. The band has performed at major venues such as Carnegie Hall.\nhttps://www.theshulband.com/ \nThis is the fourth iteration of the NOoSPHERE Art’s annual rooftop series. Each season’s theme references an aspect of systems thinking\, an approach to environmental sustainability spearheaded by leading thinker Fritjof Capra\, a longtime NOoSPHERE Arts collaborator. This view considers all the major problems of our time—including energy\, economics\, climate change\, and inequality—as interconnected and interdependent. In 2023\, the summer series explores the theme of Nature’s Cycles. A cycle is an interval of time during which a characteristic event occurs\, often repeated regularly or in a sequence of events. There are cycles in everything—seasons\, circadian rhythms\, cellular life\, planetary systems\, politics\, and economics—and cycles in one realm affect cycles in others. Thinking about cycles can help us to discern structure\, order\, and patterns in the world around us\, and to realize that everything in life will ebb and flow—an encouraging thought in times of darkness. \nNOoSPHERE Arts is a 501c3 organization and cultural center led by a team of international creatives whose backgrounds blend the arts and sciences. Its freewheeling\, multidisciplinary approach engages diverse audiences and builds community through a range of vibrant public events in its indoor-outdoor home in Brooklyn\, NYC. The only multidisciplinary arts center in the Greenpoint neighborhood\, it is a welcoming platform where resident and migrant artists alike connect with locals. Uniting music\, dance\, visual arts\, theater\, film\, poetry & prose\, its collaborative productions at the nexus of art and eco-awareness harness the power of art to drive action towards green living\, fair play\, and oneness.\nhttps://www.noosphere-arts.nyc/
URL:https://jp.crsny.org/index.php/event/an-ecstatic-solstice-celebration230624/
LOCATION:NOoSPHERE Arts\, 520 Kingsland Ave\, Brooklyn\, NY\, 11222\, United States
ATTACH;FMTTYPE=image/jpeg:https://jp.crsny.org/wp-content/uploads/2023/05/Image-5-22-23-at-3.51-PM.jpg
GEO:40.734369;-73.9433754
X-APPLE-STRUCTURED-LOCATION;VALUE=URI;X-ADDRESS=NOoSPHERE Arts 520 Kingsland Ave Brooklyn NY 11222 United States;X-APPLE-RADIUS=500;X-TITLE=520 Kingsland Ave:geo:-73.9433754,40.734369
END:VEVENT
BEGIN:VEVENT
DTSTART;TZID=America/New_York:20230625T203000
DTEND;TZID=America/New_York:20230625T213000
DTSTAMP:20260423T183630
CREATED:20230620T143010Z
LAST-MODIFIED:20230620T143010Z
UID:22501-1687725000-1687728600@jp.crsny.org
SUMMARY:Paradise Laboratory: Hell in Paradise — Li-Chin Li & Jeonghyeon Joo
DESCRIPTION:CRSでは、パラダイス・ラボラトリーのコンサートシリーズ「Hell in Paradise」の次回作として、伝統と実験の境界線を超えた音楽を、アジアン・カルチュラル・カウンシル2023ウィンターフェローのLi-Chin Li（中国語笙とエレクトロニクス）と、特別ゲストのカリフォルニア芸術大学教授Jeonghyeon Joo（韓国のヘグム）によってお届けします。コンサートは2023年6月25日午後8時から、CRSのホワイトルームで開催される予定です。 \nThe program will include the US premieres of three compositions for sheng performed solo with electronics\, composed by Francisco Uberto\, Heng Chen\, and Jialin Liu and first performed in Li-Chin’s “Rencontre autour du Sheng à Paris” concert in 2022 at the Italian Cultural Centre in Paris\, as well as a solo by Jeonghyeon and an improvised duet. \nTickets are $10 for students/seniors and $20 general admission and are available through eventbrite.com and at the door for cash only\, if not sold out. \nTICKET LINK:\nhttps://www.eventbrite.com/e/paradise-laboratory-hell-in-paradise-li-chin-li-jeonghyeon-joo-tickets-655914185987 \nVENUE LOCATION:\nThe White Room at CRS\n123 4th Ave FL3\nNew York\, NY 10003\n212-677-8621 \nDIRECTIONS:\nCRS is located on the 3rd floor of a walk-up building above Think Coffee\, between 12th & 13th streets\, one block east of The Strand Bookstore. There is no elevator or wheelchair access. \nNEAREST SUBWAY STATIONS:  \n4/5/6\, N/R/Q\, L trains to 14th St / Union Square \nPARADISE LABORATORY is a playground for sonic and visual experimentation. Conceived of during the pandemic by the renowned Korean traditional multi-instrumentalist\, curator\, and scholar gamin\, Paradise Laboratory provides musical artists with opportunities to rehearse\, record\, film\, and perform with other musical\, visual\, and dance artists in an experimental\, process-oriented\, and artist-centered fashion. \nABOUT THE ARTISTS \nBorn in Taichung\, Taiwan\, Li-Chin Li is a Sheng soloist\, composer\, and performer. Majored in Chinese Music at the Tainan National University of the Arts\, Li-Chin received solid training in traditional music education. After graduation\, she worked for the most selective and prestige Orchestra\, Hong Kong Chinese Orchestra as a Sheng performer. Li-chin soon figured a nine-to-five job doesn’t’ suit her for making her own music and performing. Li-chin is known for her ability to apply Sheng to various art forms and music genres. Through her work\, she is committed to exploring musicians’ subjectivity and diversity of roles in the performing arts. \nIn October 2021\, Li-Chin took part in a six-month residency program at the esteemed Cité internationale des arts in Paris. Handpicked by the Ministry of Culture\, Taiwan\, she seized this opportunity to collaborate with a diverse group of talented composers and musicians residing in France\, culminating with her performance in the concert “Rencontre autour du Sheng à Paris” co-presented by the Italian Cultural Centre and Taiwan Cultiral Centre in Paris at the end of her residency there. The concert garnered praise from the French national radio program\, “Journal de la Création\,” making a significant impact on the exchange of contemporary music between Taiwan and France\, as well as elevating Taiwan’s sheng music to an international stage. \nRecently\, she has been selected as a member of IRCAM concert de l’atelier d’improvisation\, ManiFeste-2022\, and she has been guested with Ensemble LINEA and Ensemble CAIRN in 2022. Last but not least\, she is a grantee of Asian Culture Council in New York 2023. \nhttps://lichinli.art/ \nJeonghyeon Joo is an award-winning haegeum performer\, composer\, improviser\, and researcher who is an ardent advocate for new and experimental music. Joo’s work explores the somatic\, corporeal relationship between musical instrument and body\, frequently collaborating with composers\, performers\, visual artists\, choreographers\, film directors\, and dancers. Her recent projects have been supported by Arts Council Korea and Seoul Foundation for Arts and Culture. She is currently pursuing a DMA at the California Institute of the Arts and is on faculty at the California Institute of the Arts and Seoul Institute of the Arts. \nhttps://www.joowork.com \nABOUT THE PRESENTER \nCRS (CENTER FOR REMEMBERING & SHARING) is a spiritual healing and art center founded in 2004 by the writer/lecturer/spiritual counselor Yasuko Kasaki and artist Christopher Pelham. Our mission is guided by A Course in Miracles (ACIM). ACIM says that recognizing that you and your brother are actually one is the only way to experience peace. The mission of CRS is to promote the awareness that limitless creativity lives within each of us. We train minds to recognize the light in themselves and others and provide them opportunities to share their inner vision through the healing and creative arts. Since its founding CRS has provided numerous residencies and performance and exhibition opportunities to artists from all over the world. Currently\, CRS is a multi-year sponsor of M³ (Mutual Mentorship for Musicians)\, a platform created to empower\, elevate\, normalize and give visibility to women\, non-binary musicians and those of other historically underrepresented gender identities in intersection with race\, sexuality\, or ability across generations in the US and worldwide\, through a radical model of mentorship and musical collaborative commissions. \nhttps://crsny.org
URL:https://jp.crsny.org/index.php/event/paradise-laboratory20230625/
LOCATION:CRS (Center for Remembering & Sharing)\, 41 E 11st St. 11th Fl.\, New York\, NY\, 10003\, United States
CATEGORIES:CRS Presents
ATTACH;FMTTYPE=image/jpeg:https://jp.crsny.org/wp-content/uploads/2023/06/image.jpeg
ORGANIZER;CN="CRS (Center for Remembering & Sharing)":MAILTO:info@crsny.org
GEO:40.733496;-73.989816
X-APPLE-STRUCTURED-LOCATION;VALUE=URI;X-ADDRESS=DESCRIPTION:CRSでは、パラダイス・ラボラトリーのコンサートシリーズ「Hell in Paradise」の次回作として、伝統と実験の境界線を超えた音楽を、アジアン・カルチュラル・カウンシル2023ウィンターフェローのLi-Chin Li（中国語笙とエレクトロニクス）と、特別ゲストのカリフォルニア芸術大学教授Jeonghyeon Joo（韓国のヘグム）によってお届けします。コンサートは2023年6月25日午後8時から、CRSのホワイトルームで開催される予定です。 \nThe program will include the US premieres of three compositions for sheng performed solo with electronics composed by Francisco Uberto Heng Chen and Jialin Liu and first performed in Li-Chin’s “Rencontre autour du Sheng à Paris” concert in 2022 at the Italian Cultural Centre in Paris as well as a solo by Jeonghyeon and an improvised duet. \nTickets are $10 for students/seniors and $20 general admission and are available through eventbrite.com and at the door for cash only if not sold out. \nTICKET LINK:\nhttps://www.eventbrite.com/e/paradise-laboratory-hell-in-paradise-li-chin-li-jeonghyeon-joo-tickets-655914185987 \nVENUE \nThe White Room at CRS\n123 4th Ave FL3\nNew York NY 10003\n212-677-8621 \nDIRECTIONS:\nCRS is located on the 3rd floor of a walk-up building above Think Coffee between 12th & 13th streets one block east of The Strand Bookstore. There is no elevator or wheelchair access. \nNEAREST SUBWAY STATIONS:  \n4/5/6 N/R/Q L trains to 14th St / Union Square \nPARADISE LABORATORY is a playground for sonic and visual experimentation. Conceived of during the pandemic by the renowned Korean traditional multi-instrumentalist curator and scholar gamin Paradise Laboratory provides musical artists with opportunities to rehearse record film and perform with other musical visual and dance artists in an experimental process-oriented and artist-centered fashion. \nABOUT THE ARTISTS \nBorn in Taichung Taiwan Li-Chin Li is a Sheng soloist composer and performer. Majored in Chinese Music at the Tainan National University of the Arts Li-Chin received solid training in traditional music education. After graduation she worked for the most selective and prestige Orchestra Hong Kong Chinese Orchestra as a Sheng performer. Li-chin soon figured a nine-to-five job doesn’t’ suit her for making her own music and performing. Li-chin is known for her ability to apply Sheng to various art forms and music genres. Through her work she is committed to exploring musicians’ subjectivity and diversity of roles in the performing arts. \nIn October 2021 Li-Chin took part in a six-month residency program at the esteemed Cité internationale des arts in Paris. Handpicked by the Ministry of Culture Taiwan she seized this opportunity to collaborate with a diverse group of talented composers and musicians residing in France culminating with her performance in the concert “Rencontre autour du Sheng à Paris” co-presented by the Italian Cultural Centre and Taiwan Cultiral Centre in Paris at the end of her residency there. The concert garnered praise from the French national radio program “Journal de la Création” making a significant impact on the exchange of contemporary music between Taiwan and France as well as elevating Taiwan’s sheng music to an international stage. \nRecently she has been selected as a member of IRCAM concert de l’atelier d’improvisation ManiFeste-2022 and she has been guested with Ensemble LINEA and Ensemble CAIRN in 2022. Last but not least she is a grantee of Asian Culture Council in New York 2023. \nhttps://lichinli.art/ \nJeonghyeon Joo is an award-winning haegeum performer composer improviser and researcher who is an ardent advocate for new and experimental music. Joo’s work explores the somatic corporeal relationship between musical instrument and body frequently collaborating with composers performers visual artists choreographers film directors and dancers. Her recent projects have been supported by Arts Council Korea and Seoul Foundation for Arts and Culture. She is currently pursuing a DMA at the California Institute of the Arts and is on faculty at the California Institute of the Arts and Seoul Institute of the Arts. \nhttps://www.joowork.com \nABOUT THE PRESENTER \nCRS (CENTER FOR REMEMBERING & SHARING) is a spiritual healing and art center founded in 2004 by the writer/lecturer/spiritual counselor Yasuko Kasaki and artist Christopher Pelham. Our mission is guided by A Course in Miracles (ACIM). ACIM says that recognizing that you and your brother are actually one is the only way to experience peace. The mission of CRS is to promote the awareness that limitless creativity lives within each of us. We train minds to recognize the light in themselves and others and provide them opportunities to share their inner vision through the healing and creative arts. Since its founding CRS has provided numerous residencies and performance and exhibition opportunities to artists from all over the world. Currently CRS is a multi-year sponsor of M³ (Mutual Mentorship for Musicians) a platform created to empower elevate normalize and give visibility to women non-binary musicians and those of other historically underrepresented gender identities in intersection with race sexuality or ability across generations in the US and worldwide through a radical model of mentorship and musical collaborative commissions. \nhttps://crsny.org;X-APPLE-RADIUS=500;X-TITLE=41 E 11st St. 11th Fl.:geo:-73.989816,40.733496
END:VEVENT
END:VCALENDAR