BEGIN:VCALENDAR
VERSION:2.0
PRODID:-//CRS (Center for Remembering &amp; Sharing) - ECPv6.15.20//NONSGML v1.0//EN
CALSCALE:GREGORIAN
METHOD:PUBLISH
X-ORIGINAL-URL:https://jp.crsny.org
X-WR-CALDESC:Events for CRS (Center for Remembering &amp; Sharing)
REFRESH-INTERVAL;VALUE=DURATION:PT1H
X-Robots-Tag:noindex
X-PUBLISHED-TTL:PT1H
BEGIN:VTIMEZONE
TZID:UTC
BEGIN:STANDARD
TZOFFSETFROM:+0000
TZOFFSETTO:+0000
TZNAME:UTC
DTSTART:20150101T000000
END:STANDARD
END:VTIMEZONE
BEGIN:VEVENT
DTSTART;VALUE=DATE:20160223
DTEND;VALUE=DATE:20160426
DTSTAMP:20260421T182810
CREATED:20161007T011543Z
LAST-MODIFIED:20161022T222713Z
UID:6484-1456185600-1461628799@jp.crsny.org
SUMMARY:Exhibition: Regeneration — Works by Tomoko Abe
DESCRIPTION:CRS (Center for Remembering & Sharing) announces an exhibition of collaged works by Tomoko Abe. The exhibition opens on Feb 23 and will remain on view through April 25\, 2016. There will be an opening reception with the artist on Feb 27\, 2016 from 6- 8 pm. \nAbe fastens together found objects and ceramic\, glass and paper structures into bubbling 3D canvases\, evoking the paradox of beauty found in the scattering and accumulation of waste and debris in natural environments touched by human society. Her reclamation\, re-use and re-contextualization of objects echoes the way things degrade\, transform and linger in the world. First encounters with these constellations of disparate bubbles protruding unexpectedly from otherworldly sun scorched canvases steal one’s breath. Wonder compels one to linger and look closely\, experience the “thingness” of these things anew and contemplate our complex and bittersweet relationship to our environment. \nRegeneration \nI saw bubbles today at the wave front during my usual walk on the beach. Fine bubbles that usually disappear into the sand foamed up like fluffy clouds. I always feel a mysterious sense of comfort to see countless bubbles\, being born and disappearing simultaneously without me knowing when or how. But today\, the bubbles did not disappear. When I scooped some foam into my palm it smelled like washing detergent. The inspiration for this show comes from this kind of daily landscape in which a little bit of sadness co-exists with beauty. I would be pleased\, if I could create works that convey a sense of regeneration and power of healing present in this ephemeral world of ours. â€_Tomoko Abe \nArtist Statement \nI have been inspired by unnoticeable elements of nature\, such as wind\, soil and bubbles\, as well as man-made artifacts such as industrial wastes and debris. I use such seemingly trivial objects in my installations to bring them back to life\, using the power of clay as a universal and embracing medium. Many of these objects are being consumed and thrown out as daily wastes in our culture of mass production and consumption. I incorporate them as cast objects\, along with metal\, glass\, rubber\, tree-bark\, pieces of shellfish and other non-essentials.  In some of my works\, I install them against a backdrop paper with cyanotype print of the pieces. The white shadows\, displaced from the pieces\, may suggest the passage of time or may be seen as spiritual footsteps seeking a connection to their original pieces. Ceramic and glass pieces spread over a wall may seem like small particles in the universe lost in time. Viewing them\, one may get the feeling that the wastes we once threw out as undesired objects are regenerated. At the same time\, it may make us realize how small we are as compared to the cosmos they depict. \nBio \nTomoko Abe graduated from the Edinburgh College of Art and obtained BA in painting with First Class Honour\, during which she also spent half a year at Escuela de Bellas Artes in Salamanca\, Spain\, on the ERASMUS scholarship. She has shown her works in many exhibitions both domestically and internationally and has received various awards\, including First Class Honour Prize for distinguished work and Helen A. Rose Request at Royal Scottish Academy (Edinburgh\, UK). Her works have been featured in the media\, including 500 Raku\, New York Times and Ceramics Art and Perception. Her work ranges from painting\, ceramics and sculpture\, but recently most of her work has centered around ceramic installations.  Tomoko draws on inspirations from evolving and decaying elements of nature and their spiritual imprints. \nhttp://tomokoabe.com \n 
URL:https://jp.crsny.org/index.php/event/exhibition-regeneration-works-by-tomoko-abe/
LOCATION:Kyoto
CATEGORIES:Exhibition
ATTACH;FMTTYPE=image/jpeg:https://jp.crsny.org/wp-content/uploads/2016/02/160123-flyer-Tomoko-Abe.jpg
ORGANIZER;CN="CRS (Center for Remembering & Sharing)":MAILTO:info@crsny.org
END:VEVENT
BEGIN:VEVENT
DTSTART;VALUE=DATE:20160223
DTEND;VALUE=DATE:20160426
DTSTAMP:20260421T182810
CREATED:20160226T205647Z
LAST-MODIFIED:20160310T220442Z
UID:5243-1456185600-1461628799@jp.crsny.org
SUMMARY:個展【REGENERATION】安倍知子
DESCRIPTION:REGENERATION\n安倍知子　　２月２３日－４月２５日\nオープニングレセプション　２月２７日（土）　６ｐｍー８ｐｍ \nCRS (Center for Remembering & Sharing)  では、安倍知子氏によるコラージュ作品の展示を２月２３日から４月２５日までの期間、開催いたします。\nアーティストを迎えてのオープニングレセプションは、２月２７日の６時から８時まで。 \n作品は、オブジェや セラミックス、ガラス、そして紙を使い、キャンパスの上を３Dのようにたくさんの泡たちが溢れるように構成されています。キャンパスに散らばったものの中には、わたしたち人間社会が放り出した自然環境の中に残骸となるものなど、美しさとは対極のようにあるものを思い起こし、その矛盾さえも定義しているように感じます。\n彼女が再生しているものは、朽ちていくであろうオブジェたちの声を再び聞き取り、変容してもなおかつ、この世界の中で長く生き残るもののようです。\n最初に直面するのは、不釣り合いな突き出した星座のように見えるバブルたち。空想的で太陽が一つの命をこっそり盗んだようにキャンバスが焦げていたりします。不思議に思うのは、残存するものを近くによって覗きこんでみると、これらのものの思考状態を改めて体験しているように感じること。そしてこの複雑な考えに思いを巡らせてみると、わたしたちと環境とのほろ苦い関係性に気づかずにはいられません。 \nリジェネレーションー再生\nいつもの海岸での散歩道、波打ち際が泡立っている。\n砂の上で消えていく細かい泡が今日はどんどん雲のように膨らんでいる。\nいつ生まれたか消えていったか分からない無数の泡を見ていると、不思議な安心感を感じるのだが、今日の泡は消えない。手にとってみると洗剤の香りがした。\nこんな風に少し美しくて悲しい風景が今回の展覧会のインスピレーションになっている。\n儚い自然の中に再生や治癒力を感じられる、そんな作品ができたら嬉しい。 \nアーティストステイトメント\nここ数年、風や泡などつかみどころのない自然の要素をインスタレーションに表現している。大量生産によって廃棄されるゴミを土で型取り、窯で焼成する。その型をもとにガラスやセラミックの作品を作ったり、道で拾った金属やゴム、木片や貝などを合わせてインスタレーションを作ったりもする。\n背景にそれらの影を映したCyanotype print（青写真）を使うこともあるが、白く抜けた影が時の経過を表しているようでもあり、また一人歩きしているスピリットのようにも見える。\n壁面に散りばめられた陶片やガラスは時を忘れた宇宙のちりのようだ。眺めていると一時我々から必要もなくなって捨てられたものが、またこのインスタレーションによって息吹を取り戻すようにも感じられるが、同時にいかに人間が小さい存在かを感じるのかもしれない。 \n安倍　知子\nEdinburgh College of Art 絵画科を卒業（BA\, First class Honour)、在学中ERASMUS奨学金を受けスペイン、サラマンカ大学のEscuela de Bellas Artesで絵画を学ぶ。\nその後国内外での展示を続け、Royal Scottish Academy (First class Honor Prize)を含む数々の賞を受賞する。500 Raku 、ニューヨークタイムズ、Ceramic Art and Perceptionなどのメディアに掲載される。現在は絵画の他、陶芸やガラスのインスタレーションを中心に活動している。
URL:https://jp.crsny.org/index.php/event/tomoko_abe/
LOCATION:CRS (Center for Remembering & Sharing)\, 41 E 11st St. 11th Fl.\, New York\, NY\, 10003\, United States
CATEGORIES:CRS Presents
ATTACH;FMTTYPE=image/jpeg:https://jp.crsny.org/wp-content/uploads/2016/02/160123-flyer-Tomoko-Abe.jpg
GEO:40.733496;-73.989816
X-APPLE-STRUCTURED-LOCATION;VALUE=URI;X-ADDRESS=CRS (Center for Remembering & Sharing) 41 E 11st St. 11th Fl. New York NY 10003 United States;X-APPLE-RADIUS=500;X-TITLE=41 E 11st St. 11th Fl.:geo:-73.989816,40.733496
END:VEVENT
BEGIN:VEVENT
DTSTART;TZID=UTC:20160416T100000
DTEND;TZID=UTC:20160417T170000
DTSTAMP:20260421T182810
CREATED:20160211T021732Z
LAST-MODIFIED:20160401T015448Z
UID:4949-1460800800-1460912400@jp.crsny.org
SUMMARY:子宮から感情と身体の構造を整えるセルフヒーリング with 滝口いず美
DESCRIPTION:日時:　4月16日(土)、4月17日(日)の2日間 両日とも10:00～17:00\n場所:　CRS、123 4th Avenue\, New York\, NY\n定員:　14名\n料金:　通常料金＄520（クラス指定のボールを持参できる方は＄480）\n早割料金＄440（クラス指定のボールを持参できる方は＄400）\n早割期限：　2月29日（同日までにデポジットをお支払い頂いた場合有効）\nお申し込み連絡先：　主催の宇都宮までEメール（norie898@gmail.com）にてご連絡ください。 \n注１:　クラスではヤムナボディーローリングのパールボールを使用します。前回購入され、クラスにご持参頂ける方は参加料金より上述の割引がございます。\n注２：料金支払いの前にオンラインの登録フォームへのご入力が必要となります。早割をご希望の方はお申し込みのタイミングにお気をつけ下さい。\n======================================= \nLAとサンディエゴにベースを持つ講師の滝口いず美さんは、若かりしころ異性問題で心身のバランスを著しく崩し、それをきっかけに自分の心と体のしくみをいろんな角度から、ありとあらゆるメソッドを通じ探求し続けて来ました。\n彼女が学んだ数あるメソッドのなかでもユニークなのが「マヤ文明腹部マッサージ」。\n彼女は中米の国、ベリーズのジャングルまでこのマッサージを学びに出かけ、マヤのシャーマンが代々現地の女性に伝えてきた女性の体やその付き合い方に関する智慧を学ぶや「私、こんなの習ったことない！」と衝撃を受けます。\nそれまで自身のことも含め女性性の問題やそれらの体との関係に着目してきた彼女は\n「もしも子宮がバランスを崩しているのなら、 彼女の人生もまた同様にバランスを失っている事だろう」\nというシャーマンの言葉に動かされ、この教えを現代の女性たちに伝えていこうと決意しました。\nその彼女の熱意とこれまで学んできた女性の心と体のケアの情報ががぎっしり濃縮されたのが今回の「子宮から感情と身体の構造を整えるセルフヒーリング」クラスです。 \n全部で4日間のコースのうち、今回はDay 1とDay 2の内容を学んでいきます。\nDay 1は「子宮の仕組みや機能と子宮ケア」\nDay2は「グラウンディング」\nがメインのテーマです。 \nこのクラスで学べることは、\n1) ホルモンと感情の仕組み\n2) 子宮の気持ちになってみよう\n3) 子宮と女性性の関係\n4) 感情と栄養とホルモンバランスの関係\n5) グラウンディングにまつわる筋肉\n6) 筋肉と信念体系\n7) 筋肉一つ一つ丁寧にほぐすことで見えてくる自分の思考グセ\n8) グラウンディングの感覚\n9) 女性性と子宮のチャクラとの関係\n10) 膣環境の向き合い方 \nまた、前回のイントロ編で体験頂いた腹部のセルフケアの方法を更にじっくり学び、日々のエクササイズに取り入れることが出来るようになるでしょう。\n体の部位と感情の結びつきについて学び、子宮以外の部位もケアすることで、心と身体を揺らぎ無く安定した状態に整える方法を覚えましょう。\n前回のイントロ編に参加されていない方も今回の本編からご参加頂けます。\nイントロ編では昼と夜の2部開催にもかかわらず、満員御礼でキャンセル待ちが出た人気のクラスです。\nお申し込みはどうぞお早めに！！
URL:https://jp.crsny.org/index.php/event/izumi_takiguchi/
LOCATION:CRS (Center for Remembering & Sharing)\, 41 E 11st St. 11th Fl.\, New York\, NY\, 10003\, United States
CATEGORIES:Guest Event
ATTACH;FMTTYPE=image/jpeg:https://jp.crsny.org/wp-content/uploads/2016/02/unnamed.jpg
ORGANIZER;CN="Norie Utsunomiya":MAILTO:norie898@gmail.com
GEO:40.733496;-73.989816
X-APPLE-STRUCTURED-LOCATION;VALUE=URI;X-ADDRESS=CRS (Center for Remembering & Sharing) 41 E 11st St. 11th Fl. New York NY 10003 United States;X-APPLE-RADIUS=500;X-TITLE=41 E 11st St. 11th Fl.:geo:-73.989816,40.733496
END:VEVENT
BEGIN:VEVENT
DTSTART;TZID=UTC:20160417T120000
DTEND;TZID=UTC:20160417T163000
DTSTAMP:20260421T182810
CREATED:20160325T025720Z
LAST-MODIFIED:20160325T025720Z
UID:5587-1460894400-1460910600@jp.crsny.org
SUMMARY:ジョン・マンディ氏 マンスリーレクチャー
DESCRIPTION:ヒーリングクリニック 12 – 1 pm\, サジェステッドドネーション $20 \nリクエスト用紙に知りたいこと、迷っていること、解決したいこと、それが心の問題であれ、体の問題であれ、そのままお書きください。勿論、何も書かなくても結構です。そして目を閉じてお座りください。　ヒーラーはリクエスト用紙に目を通したうえで、あなたのチャクラやオーラを含むエナジーフィールドに存在している情報を受け取ってゆきます。ヒーラーの手が軽く頭、肩、手などお体に触れることもあります。あなたのスピリットが最大限に発揮されることをブロックしていたものが取り除かれ、自由で、限界のない本来のご自分をそのまま表現していただくためのエナジーワークはほぼ10分ほどです。 \n1:30 – 4:30 pm レクチャー by Jon Mundy\n第32回：テキスト第29章 目覚め \n『奇跡のコース』のもっとも古くからの教師のひとり、Jon Mundy 先生によるクラスです。毎月「奇跡のコース」のテキストから、全31章を、一章ずつ学んでいきます。約3年にわたるカリキュラムです。全回参加できない方でもまったく心配いりません。このシリーズは2013年5月からスタートしましたが、途中からの参加も歓迎しています。 \n～事前のお申し込みの場合は、お一人様 $20となります～\n～受付にてご購入の場合は、お一人様 $25となります～\n事前のお申し込みは、以下まで。\n電話番号: 212-866-3795\nEmail: Fran@miraclesmagazine.org \n受付にて、事前にご登録頂いた方の名簿をご用意しております。クレジットカードでのお支払いの場合は、必ず事前のご登録をして頂けますようお願い致します。現金、または、チェックでのお支払いの場合は、受付にて承ります。スペースがゆるす限り、どなたでもご参加頂けます。また、寄付の方も承っております。毎月一度、次回のクラスの日時と内容をお知らせするメールをお送りする予定です。スケジュールに関しては、www.miraclesmagazine.org にていつでもご覧ください。 \nクレジットカードでのお支払いをご希望の方は必ず事前にお手続きをお済ませください。\n当日のお支払いは現金もしくはチェックのみです。\nスペースがある限り予約無しでもお入りいただけますが、毎回ほぼ満席になります。 \nジョン・マンディ\n１９４３年米国ミズーリ州に生まれる。神学博士。司祭。『奇跡のコース』教師。１９６７年より哲学と宗教、主に神秘主義の歴史において大学で教鞭を執るなか、１９７３年に『奇跡のコース』を書き取ったヘレン・シャックマン博士に出会う。以降、ヘレン博士が病に倒れる１９８０年まで、息子のようにかわいがられながら教え導かれた。最も古くからのコースの教師として、全米、ヨーロッパ、南米各地にて講演、ワークショップをおこなっている。ニューヨークの「All Faiths Seminary-International」のエグゼクティブ・ディレクター、雑誌「Miracle Magazine」の発行者。著書多数。
URL:https://jp.crsny.org/index.php/event/jon_mundy0416/
LOCATION:CRS (Center for Remembering & Sharing)\, 41 E 11st St. 11th Fl.\, New York\, NY\, 10003\, United States
CATEGORIES:ACIM-Related Event,Miracles in Manhattan
ATTACH;FMTTYPE=image/jpeg:https://jp.crsny.org/wp-content/uploads/2016/03/160417-Miracles-in-Manhattan.jpg
GEO:40.733496;-73.989816
X-APPLE-STRUCTURED-LOCATION;VALUE=URI;X-ADDRESS=CRS (Center for Remembering & Sharing) 41 E 11st St. 11th Fl. New York NY 10003 United States;X-APPLE-RADIUS=500;X-TITLE=41 E 11st St. 11th Fl.:geo:-73.989816,40.733496
END:VEVENT
BEGIN:VEVENT
DTSTART;TZID=UTC:20160423T130000
DTEND;TZID=UTC:20160423T160000
DTSTAMP:20260421T182810
CREATED:20160324T195710Z
LAST-MODIFIED:20160324T195710Z
UID:5578-1461416400-1461427200@jp.crsny.org
SUMMARY:映画上映会「ナオトひとりっきり Alone in Fukushima」-4/23
DESCRIPTION:Learn From 3.11 とCRS (Center for Remembering & Sharing) 共催による中村真夕監督「ナオトひとりっきり Alone in Fukushima」２０１４年/日本語/英語字幕/98分）映画上映会を4月23日（土）１時より再度開催いたします。\n３月のニューヨーク初上映会では、たくさんの方にお越しいただきました。前回お見逃された方、どうぞこの機会にお越しください。\n原発事故による全町避難で無人地帯になった町で、残されたいきものたちと生きる松村直登さんの生活を追ったドキュメンタリーです。映画上映後、中村監督からのビデオメッセージをお届けします。\n原発から12キロの町に生まれた桃源郷！？　  ダチョウ、牛、猫、犬、イノシシ、ポニーそして男がひとり。緑は生いしげり、いきものたちがのびのびと暮らしてる。ここは福島第一原発から12キロにある福島県富岡町。原発事故による全町避難で無人地帯になった。高度経済成長の裏側で、カネに翻弄される人生を送ってきた松村直登５５歳は、目に見えない放射線のリスクの中、町に残されたいきものたちとようやく自分の居場所を見つけた。季節は巡り、いのちが生まれ、また消えていく。地図から消されようとしている町に続くいのちを意念誓う見つめ続けたドキュメンタリー。運命に翻弄されながらも、自分の居場所を探し続ける人々を描き、穢れなきいのちを見つめ、本当の幸せはなにかを問う作品です。http://aloneinfukushima.com\n「Learn From 3.11」は、2011年より被災者、被害者の方々、支援を続ける方たち、エネルギー問題に真剣に取り組もうとする方たちに向けて、「相互サポート」「学びの機会」「交流・連携」の３つを提供することを基軸に、東北支援と脱原発に長期にわたり貢献しています。
URL:https://jp.crsny.org/index.php/event/alone-fukushima-qa-423/
LOCATION:CRS (Center for Remembering & Sharing)\, 41 E 11st St. 11th Fl.\, New York\, NY\, 10003\, United States
CATEGORIES:CRS Presents
ATTACH;FMTTYPE=image/jpeg:https://jp.crsny.org/wp-content/uploads/2016/03/160423-Alone-in-Fukushima-poster.jpg
ORGANIZER;CN="CRS (Center for Remembering & Sharing)":MAILTO:info@crsny.org
GEO:40.733496;-73.989816
X-APPLE-STRUCTURED-LOCATION;VALUE=URI;X-ADDRESS=CRS (Center for Remembering & Sharing) 41 E 11st St. 11th Fl. New York NY 10003 United States;X-APPLE-RADIUS=500;X-TITLE=41 E 11st St. 11th Fl.:geo:-73.989816,40.733496
END:VEVENT
BEGIN:VEVENT
DTSTART;TZID=UTC:20160423T160000
DTEND;TZID=UTC:20160423T180000
DTSTAMP:20260421T182810
CREATED:20160312T042510Z
LAST-MODIFIED:20160407T200416Z
UID:5517-1461427200-1461434400@jp.crsny.org
SUMMARY:ニューヨークの四季ー日本古典音楽の秀麗-Four seasons in New York -Gems of Japanese Music 04/23
DESCRIPTION:Mar Creation\, Inc & CRS (Center for Remembering & Sharing) 共催、『ニューヨークの四季ー日本古典音楽の秀麗-Four seasons in New York -Gems of Japanese Music 』と題しまして、季節ごとに木村伶香能が、箏と三味線のコンサートを開催いたします。第三回目は「春～卯月～」桜の季節にちなんだ３曲お届けします。はるかな年月をかけて現代に伝えられた日本音楽のきらめき。箏•三味線の音色を聴きながら、四季折々の季節感を、このNYで体感しませんか？\n\n\n \n\n\nこのコンサートシリーズでは、それぞれの季節にふさわしい古典作品をとりあげ、彩り豊かな和菓子と共に、お楽しみ頂きます。\n\n\n \n\n\n4月23日（土）午後4時～\n\n\n場所：CRS　3FL White Room http://www.crsny.org/ja\n\n\n出演：木村伶香能（箏•三味線）\n\n\n和菓子：Mochi Rin http://www.rin-nyc.com/\n\n\n料金：前売り＄20　当日＄25 (和菓子込み）※席、和菓子に限りがあるため、要予約\n\n\nご予約/お問い合わせ: www.crsny.org/212-677-8621\n\n\n \n\n\n[プログラム]\n\n\n \n\n\n都の春（三世山勢松韻作曲）三絃\n\n\n \n\n\n桜狩　（山田検校作曲）箏\n\n\n \n\n\n陽炎の踊り（中能島欣一作曲）箏独奏\n\n\n \n\n\n[出演者プロフィール]\n\n\n \n\n\n木村伶香能（きむられいかの）\n\n\n \n\n\n箏・三味線・唄の古典作品から現代作品まで、日本とニューヨークを拠点に世界各地で演奏を行う。東京芸術大学音楽学部邦楽科卒業。NHK邦楽技能者育成会、現代邦楽研究所研究科（三味線専攻）修了。平成14年度文化庁インターンシップ研修員。第10回賢順記念全国箏曲コンクールにて第一位（賢順賞）を受賞。第４回万里の長城杯国際音楽コンクールにて第一位。現在、洗足学園音楽大学内・現代邦楽研究所講師。NYタイムズ紙、読売新聞、Chamber Music Magazineなど各メディアでその活動が紹介されている。チェリストの玉木光との「Duo YUMENO 夢乃」の演奏にも力を入れ、2015年、アメリカ室内楽協会主催”New Music in Bryant Park”に出演。第24回青山音楽賞バロックザール賞を受賞。”花鳥風月”(Marty Regan作曲)をCDリリース。現在、アメリカを代表するオペラ作曲家Daron A. Hagenに”平家物語”をテーマとする連作を委嘱、コンサートシリーズを行っている。http://reikano.yamadaryu.com/\n\n\n \n\n\nmochi Rin\n\n\n \n\n\nマンハッタンのソーホースタジオをベースにオーダーメードのみで販売している和菓子ショップ。オーガニック餡子、NYで取れた季節の果物や花を使い丁寧に作り上げれる一口サイズの和菓子は、まるで宝石のようと絶賛されている。日本の伝統菓子をNYテイストと混合させ、そこに凛・落ち着きのある優美さを加える事で新しい和菓子の世界を作り上げている。http://www.rin-nyc.com/
URL:https://jp.crsny.org/index.php/event/5517/
LOCATION:CRS (Center for Remembering & Sharing)\, 41 E 11st St. 11th Fl.\, New York\, NY\, 10003\, United States
CATEGORIES:CRS Presents
ATTACH;FMTTYPE=image/jpeg:https://jp.crsny.org/wp-content/uploads/2016/03/yoko-crs_front.jpeg
ORGANIZER;CN="CRS (Center for Remembering & Sharing)":MAILTO:info@crsny.org
GEO:40.733496;-73.989816
X-APPLE-STRUCTURED-LOCATION;VALUE=URI;X-ADDRESS=CRS (Center for Remembering & Sharing) 41 E 11st St. 11th Fl. New York NY 10003 United States;X-APPLE-RADIUS=500;X-TITLE=41 E 11st St. 11th Fl.:geo:-73.989816,40.733496
END:VEVENT
END:VCALENDAR