BEGIN:VCALENDAR
VERSION:2.0
PRODID:-//CRS (Center for Remembering &amp; Sharing) - ECPv6.15.20//NONSGML v1.0//EN
CALSCALE:GREGORIAN
METHOD:PUBLISH
X-WR-CALNAME:CRS (Center for Remembering &amp; Sharing)
X-ORIGINAL-URL:https://jp.crsny.org
X-WR-CALDESC:Events for CRS (Center for Remembering &amp; Sharing)
REFRESH-INTERVAL;VALUE=DURATION:PT1H
X-Robots-Tag:noindex
X-PUBLISHED-TTL:PT1H
BEGIN:VTIMEZONE
TZID:UTC
BEGIN:STANDARD
TZOFFSETFROM:+0000
TZOFFSETTO:+0000
TZNAME:UTC
DTSTART:20160101T000000
END:STANDARD
END:VTIMEZONE
BEGIN:VEVENT
DTSTART;VALUE=DATE:20170713
DTEND;VALUE=DATE:20170914
DTSTAMP:20260422T023349
CREATED:20170706T035550Z
LAST-MODIFIED:20170706T060126Z
UID:8278-1499904000-1505347199@jp.crsny.org
SUMMARY:個展：Philippe Halaburda「Imaginary mindscapes」
DESCRIPTION:この夏のCRSギャラリーでは、2016年11月にフランスからブルックリンに活動拠点を移したばかりのアーティスト、Philippe Halaburdaの抽象画展「Imaginary mindscapes」を7月13日から9月13日まで開催します。\n今回の展示は、Philippeのニューヨークで初めてのソロショーとなります。彼が探求してきたテーマ「人類と環境に関わる無意識の情緒的景観」をご紹介します。 \nアーティストステイトメント：\nPhilippe Halaburda is a multidisciplinary artist who engages with the urban surroundings environment and emotions\, feelings or memories from his direct experiences mainly though colors.\nHis work delves into the complex undercurrents of intimate and collective relationships. Paintings\, abstracted photos and digital artworks try to address broader the emotional structures within ourselves in the attempt to examine our world.\nHe is interested in the randomness of cities and their relationship to human experience by creating a new language.\nHe keeps focusing on the quest of his own unlimited and unconscious psychological territories. Visit www.halaburda.com the different medium of his artworld. \n経歴：\nPhilippe Halaburda was born in France in 1972. He received his Diploma in 1995\, Superior Degree Graphic Art School from the EDTA Sornas School\, Paris.\nHaving lived and exhibited from Paris (France) to Zurich and Berne (Switzerland)\, Philippe Halaburda has spent 15 years in Aix-en-Provence developing his graphic art director activity as his personal artist career.\nHalaburda’s paintings and drawings have been exhibited throughout the US\, in Canada\, Europe (France\, Italy\, Spain\, Ger- many\, Austria\, Belgium) and Australia.\nHe was a guest resident of the Villa Baulieu Workshop in Aix-en-Provence between 2008. His work is in the collection of many corporate and non-profit institutions including the Radar (Bayeux\, France)\, Draguignan permanent Art Collection (Draguignan\, France) and the Villa Baulieu Art Collection (Aix-en-Provence\, France). His work is in private collections in the United States\, France\, Belgium\, Spain\, Italy\, Switzerland\, Canada\, The Netherlands and China.\nHis work attempts to reflect the ongoing exploration of the abstract in human nature\, moving between the accidental and the consciously structured\, juxtaposing spontaneous or geometric forms.\nHe strives for a sense of order with feelings and emotions. One layer influences the next\, one color brings the next\, one shape creates the next. An ambiguous notion may often appear in the work\, leaving the viewer to be engaged in the decoding the meaning of the work.\nHe’s now represented by several galleries in the USA and France.\nPhilippe Halaburda lives in Williamsburg\, Brooklyn and works in the artists community of Bushwick at 56 Bogart Street\, Brooklyn USA.
URL:https://jp.crsny.org/index.php/event/philippehalaburda/
LOCATION:CRS (Center for Remembering & Sharing)\, 41 E 11st St. 11th Fl.\, New York\, NY\, 10003\, United States
CATEGORIES:CRS Presents,Exhibition
ATTACH;FMTTYPE=image/jpeg:https://jp.crsny.org/wp-content/uploads/2017/07/image001.jpg
ORGANIZER;CN="CRS (Center for Remembering & Sharing)":MAILTO:info@crsny.org
GEO:40.733496;-73.989816
X-APPLE-STRUCTURED-LOCATION;VALUE=URI;X-ADDRESS=CRS (Center for Remembering & Sharing) 41 E 11st St. 11th Fl. New York NY 10003 United States;X-APPLE-RADIUS=500;X-TITLE=41 E 11st St. 11th Fl.:geo:-73.989816,40.733496
END:VEVENT
BEGIN:VEVENT
DTSTART;VALUE=DATE:20170803
DTEND;VALUE=DATE:20170830
DTSTAMP:20260422T023349
CREATED:20170213T205002Z
LAST-MODIFIED:20170515T225932Z
UID:6900-1501718400-1504051199@jp.crsny.org
SUMMARY:Studio-Yoggy　短期集中全米ヨガアライアンス200時間コース
DESCRIPTION:ニューヨーク短期ヨガ留学NYでヨガインストラクターの資格を取ろう！\n短期集中全米ヨガアライアンス200時間コース \nスタジオ・ヨギーエグゼクティブディレクターのヤスシ先生が、\nニューヨークで200時間ティーチャートレーニングコースを開催いたします！\n2017年8月3日～29日の4週間、ニューヨークに滞在しながらヨガの学びを深めます。\nヨガの基礎からティーチャー・トレーニング（指導法）まで、一から集中的に取り組める4週間です。\nこの夏はNYでどっぷりヨガライフを送りませんか？\n現地のスタッフがしっかりサポートさせて頂きます。 \n期間：2017年8月3日～29日　 \nインプットターム（8月3日～14日）早割1900ドル（定価2100ドル）\nアウトプットターム（8月15日～29日）早割2300ドル　（定価2600ドル） \nこんな方におすすめ \n①　短期集中でヨガの資格を取得したい、ヨガインストラクターを目指したい\n②　海外留学を大好きなヨガで挑戦したい\n③　自分自身を見つめ直すきっかけにしたい \n詳しくはこちらのリンク先をご覧ください。
URL:https://jp.crsny.org/index.php/event/studio-yoggyrty200ny/
LOCATION:CRS (Center for Remembering & Sharing)\, 41 E 11st St. 11th Fl.\, New York\, NY\, 10003\, United States
CATEGORIES:Guest Event
ATTACH;FMTTYPE=image/jpeg:https://jp.crsny.org/wp-content/uploads/2017/02/ryt200ny.jpg
ORGANIZER;CN="LOHAS Tri-State%2C Inc.":MAILTO:newyork@studio-yoggy.com
GEO:40.733496;-73.989816
X-APPLE-STRUCTURED-LOCATION;VALUE=URI;X-ADDRESS=CRS (Center for Remembering & Sharing) 41 E 11st St. 11th Fl. New York NY 10003 United States;X-APPLE-RADIUS=500;X-TITLE=41 E 11st St. 11th Fl.:geo:-73.989816,40.733496
END:VEVENT
BEGIN:VEVENT
DTSTART;TZID=UTC:20170813T130000
DTEND;TZID=UTC:20170813T160000
DTSTAMP:20260422T023349
CREATED:20170728T224043Z
LAST-MODIFIED:20170728T224043Z
UID:8666-1502629200-1502640000@jp.crsny.org
SUMMARY:今から始める 資産形成セミナー + ミラクルタッピング 体験会
DESCRIPTION:～心のブレーキを外すと人生が加速する ～ \n資産形成セミナー\n・ 近い未来に紙幣がなくなる?\n世界の銀行の動きと日銀の対応とは\n・ フィンテックの仕組み\n紙幣からどのようなものに変わるのか\n・ 何故今、 仮想通貨なのか? \nミラクルタッピング体験会\nツボを軽くトントンたたくだけ! 何年も外せなかった 「心のブレーキ」 を たった数分で外す方法です。\n怒り、 恐怖、 不安 (高所 ・ 閉所 ・ 先端 恐怖症、 緊張等)、 悲しみ、 痛み、 トラウマを取り去ります。\n医療現場で使われる科学的セラピー技法 \nスピーカー ・ セラピスト : KAZ\, MICCO\n参加費 10ドル\n連絡先 : layotsuba@yahoo.co.jp \n8月12日 (土)\n3 ~ 5 PM 資産形成セミナー【ホワイトルーム】\n5 ~ 6 PM ミラクルタッピング体験会【3階セラピールーム】 5:00~、 5:15~、 5:30~、 5:45~、 事前予約可 \n8月13日 (日)\n1 ~ 3 PM 資産形成セミナー 【ヒーリングルーム】\n3 ~ 4 PM ミラクルタッピング体験会 【2階セラピールーム】 3:00~、 3:15~、 3:30~、 3:45~、 事前予約可
URL:https://jp.crsny.org/index.php/event/081317/
LOCATION:CRS (Center for Remembering & Sharing)\, 41 E 11st St. 11th Fl.\, New York\, NY\, 10003\, United States
CATEGORIES:Guest Event
ATTACH;FMTTYPE=image/jpeg:https://jp.crsny.org/wp-content/uploads/2017/07/nyseminar_flyer.jpg
GEO:40.733496;-73.989816
X-APPLE-STRUCTURED-LOCATION;VALUE=URI;X-ADDRESS=CRS (Center for Remembering & Sharing) 41 E 11st St. 11th Fl. New York NY 10003 United States;X-APPLE-RADIUS=500;X-TITLE=41 E 11st St. 11th Fl.:geo:-73.989816,40.733496
END:VEVENT
BEGIN:VEVENT
DTSTART;TZID=UTC:20170813T133000
DTEND;TZID=UTC:20170813T163000
DTSTAMP:20260422T023349
CREATED:20170627T220126Z
LAST-MODIFIED:20170811T230641Z
UID:8253-1502631000-1502641800@jp.crsny.org
SUMMARY:ジョン・マンディ氏 マンスリーレクチャー
DESCRIPTION:６月から８月にかけて、ジョン・マンディ氏のレクチャーでは『奇跡のコース（奇跡講座）』の第一章に書かれてある５０の奇跡の本質についてカバーしていきます。また、the Circle of Atonement から新たに出版されたバージョン『Complete and Annotated Edition of A Course in Miracles』 で、同じ箇所を確認していきます。 \n1:30 – 4:30pm  レクチャー by Jon Mundy\n『奇跡のコース』のもっとも古くからの教師のひとり、Jon Mundy 先生によるクラスです。 ～事前のお申し込みの場合は、お一人様 $20となります～\n～受付にてご購入の場合は、お一人様 $25となります～\n事前のお申し込みは、以下まで。\n電話番号: 212-866-3795 Eileen@Miraclesmagazine.org\n受付にて、事前にご登録頂いた方の名簿をご用意しております。クレジットカードでのお支払いの場合は、必ず事前のご登録をして頂けますようお願い致します。現金、または、チェックでのお支払いの場合は、受付にて承ります。スペースがゆるす限り、どなたでもご参加頂けます。また、寄付の方も承っております。毎月一度、次回のクラスの日時と内容をお知らせするメールをお送りする予定です。スケジュールに関しては、www.miraclesmagazine.org をご覧ください。\nクレジットカードでのお支払いをご希望の方は必ず事前にお手続きをお済ませください。当日のお支払いは現金もしくはチェックのみです。スペースがある限り予約無しでもお入りいただけますが、毎回ほぼ満席になります。 \nクラスにご参加いただけない方のために、レクチャーの様子をビデオストリーミング配信しています。こちらのサイトで live-streaming ボタンを押して、ご視聴ください。\nhttps://www.youtube.com/channel/UCwxH3nWSMFDGA1SiR9kAbeg\n\nジョン・マンディ\n１９４３年米国ミズーリ州に生まれる。神学博士。司祭。『奇跡のコース』教師。１９６７年より哲学と宗教、主に神秘主義の歴史において大学で教鞭を執るなか、１９７３年に『奇跡のコース』を書き取ったヘレン・シャックマン博士に出会う。以降、ヘレン博士が病に倒れる１９８０年まで、息子のようにかわいがられながら教え導かれた。最も古くからのコースの教師として、全米、ヨーロッパ、南米各地にて講演、ワークショップをおこなっている。ニューヨークの「All Faiths Seminary-International」のエグゼクティブ・ディレクター、雑誌「Miracle Magazine」の発行者。著書多数。
URL:https://jp.crsny.org/index.php/event/jon_mundy0817/
LOCATION:CRS (Center for Remembering & Sharing)\, 41 E 11st St. 11th Fl.\, New York\, NY\, 10003\, United States
CATEGORIES:ACIM-Related Event,Guest Event,Miracles in Manhattan
GEO:40.733496;-73.989816
X-APPLE-STRUCTURED-LOCATION;VALUE=URI;X-ADDRESS=CRS (Center for Remembering & Sharing) 41 E 11st St. 11th Fl. New York NY 10003 United States;X-APPLE-RADIUS=500;X-TITLE=41 E 11st St. 11th Fl.:geo:-73.989816,40.733496
END:VEVENT
BEGIN:VEVENT
DTSTART;TZID=UTC:20170817T200000
DTEND;TZID=UTC:20170817T213000
DTSTAMP:20260422T023349
CREATED:20170727T060717Z
LAST-MODIFIED:20170802T035516Z
UID:8603-1503000000-1503005400@jp.crsny.org
SUMMARY:Prayer for Amara: 音と旋​舞のメディテーション​
DESCRIPTION:CRSのお仲間へ \n8月17日（木） 午後8時より、楽器の生演奏と旋舞（円を描くように回ること）を通して、あまらちゃんとそのご家族、そして私たち自身の祈りを共有する瞑想イベントを開催します。 \nあまらちゃんは、CRSのお仲間ウィリアムズ・ケンジ＆小夜子ご夫妻の5歳になる長女で、2014年に脳腫瘍と診断されたのち、現在も治療や手術を乗り越え続けています。\nCRSでは「あまらちゃん祈りの輪」として、世界各地に住む約170名と一緒に毎週木曜日午後 9:30pm（NY時間）から10分ほど、それぞれの場所で瞑想と祈りのひとときを持っています。どこにいても心で繋がりながら、共に祈っていることを再確認する場として、この祈りのイベントは今後定期的に行われる予定です。 \n祈りはCRSのヒーラー・佐藤みよ子のクリスタル・シンギング・ボウルの演奏から始まり、西村千子さんたちによるパーカッションのライブ演奏で音と心の輪を広げていきます。CRSのヒーラーであり「あまらちゃん祈りの輪」をリードしている小野永保子の祈りと共に、あまらちゃんの母でパフォーマンスアーティストでもある、ラーレ小夜子さんリードのもと、皆で旋舞をします。小夜子さんは、あまらちゃんへの祈りと自身の踊りの練習を結びつける動きを探求しつづけてきました。経験は問わず、どなたでも自由に参加できます。 \n参加費は、前日まで$20、当日支払いは$25です。参加費の50%は、あまらちゃんのご家族へ寄付されます。 \nくるくると回りはじめると、めまいがしたりバランスを崩すかもしれませんが、自分自身を信頼し、旋回を続ける中で、その中心にある心の静けさに気づくと共に、計り知れない大きなエネルギーに包まれ、繋がっている感覚を実感することができるでしょう。 \nIf you are quiet and in a state of prayer when you Turn\, offering everything of yourself to God\, then when your body is spinning\, there is a completely still point in the center… The heavens respond; and all the invisible kingdoms join in the dance. But the world does not understand. They think we Turn in order to go into some sort of trance. It is true that sometimes we do go into that state you call ecstasy\, but that is only when we know and experience at the same time. We do not Turn for ourselves. We turn around in the way we do so that the Light of God may descend upon the earth. As you act as a conduit in the Turn\, the light comes through the right hand\, and the left hand brings it into this world… We turn for God and for the world\, and it is the most beautiful thing you can imagine. — Mevlevi Shaikh Suleyman Hyatt Dede \nラーレ小夜子について：\n日本で有名なSamanyolu professional ベリーダンスグループの創立メンバーのひとりです。イギリスのMugenkyo Taiko Drummersと共に44つの都市でのツアーを通して自身のキャリアを積みながら、トルコのBaba Zula、ニューヨークのBella Gaiaなどで活動しています。日本とアメリカの雑誌や新聞に登場するLaleは、伝統的な技法や精神的な方法で、ダンスが強力なコミュニケーターになることを目指しています。現在、Rana Gorganiの元でスフィ・ダンスを学んでいます。http://www.lalesayoko.com
URL:https://jp.crsny.org/index.php/event/prayer-for-amara/
LOCATION:CRS (Center for Remembering & Sharing)\, 41 E 11st St. 11th Fl.\, New York\, NY\, 10003\, United States
CATEGORIES:ACIM-Related Event,CRS Presents
ATTACH;FMTTYPE=image/jpeg:https://jp.crsny.org/wp-content/uploads/2017/07/Sayoko-whirling-in-Wihte-Room.jpg
ORGANIZER;CN="CRS (Center for Remembering & Sharing)":MAILTO:info@crsny.org
GEO:40.733496;-73.989816
X-APPLE-STRUCTURED-LOCATION;VALUE=URI;X-ADDRESS=CRS (Center for Remembering & Sharing) 41 E 11st St. 11th Fl. New York NY 10003 United States;X-APPLE-RADIUS=500;X-TITLE=41 E 11st St. 11th Fl.:geo:-73.989816,40.733496
END:VEVENT
BEGIN:VEVENT
DTSTART;TZID=UTC:20170818T190000
DTEND;TZID=UTC:20170818T203000
DTSTAMP:20260422T023349
CREATED:20170805T022013Z
LAST-MODIFIED:20170805T022254Z
UID:8831-1503082800-1503088200@jp.crsny.org
SUMMARY:Dream Incubation: Engage With Your Dreams to Live a Fulfilling Life
DESCRIPTION:Machiel Klerk will explore the old technique of dream incubation. This is a way of proactively asking your dream a question before you fall asleep for help with anything in your life. Whether you would like to have an answer to a health\, vocational or love question\, or if you wish to explore the nature of reality\, Machiel will explain how asking the right question can trigger a dream that allows for a transformation of consciousness. Machiel is very practical; he ffers many examples while teaching you how you can easily do this yourself. \nAbout the Speaker  \nMachiel Klerk is a licensed mental health therapist\, dream worker\, international speaker\, gifted diviner and social entrepreneur. He followed a course at the Jung Institute in Zurich\, Switzerland\, and has a Master’s degree from Pacifica Graduate Institute in Santa Barbara\, California USA. He has finished an additional three year training in Embodied Imagination (dreamwork) by Robert Bosnak. Machiel has published articles on depth psychology and released a CD on dreams. He was mentioned as one of the 100 most influential cultural figures in Utah. He gives workshops and lectures in Europe\, North America and Africa. Machiel is also the founding president of the Jung Society of Utah and of the premier online educational depth psychology organization Jung Platform. \nAUGUST 18-19\, 2017\nFriday lecture 7 – 8:30 pm\nSaturday workshop 10 am – 1 pm \nCOST:\nFriday $10 online/$15 door\nSaturday $45 online/$50 door\nPurchase both days for $50\nSign up at: dreamlife.brownpapertickets.com
URL:https://jp.crsny.org/index.php/event/dream-incubation-engage-dreams-live-fulfilling-life/
LOCATION:CRS (Center for Remembering & Sharing)\, 41 E 11st St. 11th Fl.\, New York\, NY\, 10003\, United States
CATEGORIES:Guest Event
ATTACH;FMTTYPE=image/jpeg:https://jp.crsny.org/wp-content/uploads/2017/08/170818-Live-a-Dream-Life-New-York-with-Machiel-Klerk.jpg
GEO:40.733496;-73.989816
X-APPLE-STRUCTURED-LOCATION;VALUE=URI;X-ADDRESS=CRS (Center for Remembering & Sharing) 41 E 11st St. 11th Fl. New York NY 10003 United States;X-APPLE-RADIUS=500;X-TITLE=41 E 11st St. 11th Fl.:geo:-73.989816,40.733496
END:VEVENT
BEGIN:VEVENT
DTSTART;TZID=UTC:20170819T100000
DTEND;TZID=UTC:20170819T130000
DTSTAMP:20260422T023349
CREATED:20170805T022545Z
LAST-MODIFIED:20170805T022545Z
UID:8835-1503136800-1503147600@jp.crsny.org
SUMMARY:Dream Incubation Workshop
DESCRIPTION:In this three hour workshop you will deepen your knowledge and experience of dream incubation. We will work on the dreams that you have incubated from the evening before. You will learn some techniques for working with your dreams and also how to develop\, formulate and ask the right dream incubation question. This will be fun\, soulful and practical! \nAbout the Speaker  \nMachiel Klerk is a licensed mental health therapist\, dream worker\, international speaker\, gifted diviner and social entrepreneur. He followed a course at the Jung Institute in Zurich\, Switzerland\, and has a Master’s degree from Pacifica Graduate Institute in Santa Barbara\, California USA. He has finished an additional three year training in Embodied Imagination (dreamwork) by Robert Bosnak. Machiel has published articles on depth psychology and released a CD on dreams. He was mentioned as one of the 100 most influential cultural figures in Utah. He gives workshops and lectures in Europe\, North America and Africa. Machiel is also the founding president of the Jung Society of Utah and of the premier online educational depth psychology organization Jung Platform. \nAUGUST 18-19\, 2017\nFriday lecture 7 – 8:30 pm\nSaturday workshop 10 am – 1 pm \nCOST:\nFriday $10 online/$15 door\nSaturday $45 online/$50 door\nPurchase both days for $50\nSign up at: dreamlife.brownpapertickets.com
URL:https://jp.crsny.org/index.php/event/dream-incubation-workshop/
LOCATION:CRS (Center for Remembering & Sharing)\, 41 E 11st St. 11th Fl.\, New York\, NY\, 10003\, United States
CATEGORIES:Guest Event
ATTACH;FMTTYPE=image/jpeg:https://jp.crsny.org/wp-content/uploads/2017/08/170818-Live-a-Dream-Life-New-York-with-Machiel-Klerk.jpg
GEO:40.733496;-73.989816
X-APPLE-STRUCTURED-LOCATION;VALUE=URI;X-ADDRESS=CRS (Center for Remembering & Sharing) 41 E 11st St. 11th Fl. New York NY 10003 United States;X-APPLE-RADIUS=500;X-TITLE=41 E 11st St. 11th Fl.:geo:-73.989816,40.733496
END:VEVENT
BEGIN:VEVENT
DTSTART;TZID=UTC:20170819T153000
DTEND;TZID=UTC:20170819T170000
DTSTAMP:20260422T023349
CREATED:20170804T035842Z
LAST-MODIFIED:20170804T035842Z
UID:8806-1503156600-1503162000@jp.crsny.org
SUMMARY:美容アンチエイジングバレエクラス 
DESCRIPTION:夏本番っっ露出最大限のシーズン真っ只中ですね～\n夏の装いエンジョイされてますでしょうか？\n8月のテーマは！\n背中を鍛えて天使の羽ラインを\n創ろうキュートなヒップラインにビーナスえくぼを創る \n7月に引き続き。。。セクシーサマーレッグ創りエクササイズも致します。\n薄着全開 ！お肌出して！ ボディライン出して！夏を楽しみましょう。おカラダに彩りを、華のあるボディに。 \n8/3 (木) 8 pm – 9:30 pm （残席３名）\n8/19 (土) 3:30 pm – 5 pm （残席２名）\n8/24 (木) 8 pm – 9:30 pm\nご予約制とさせて頂いておりますので参加ご希望の方は下記までお問い合わせ下さい。ご予約の当日キャンセルをされました場合は、クラスフィーが発生致します。\n筋肉は鍛えれば鍛える程応えてくれます。カラダと対話するように自分のカラダと向き合って。。。どんなカラダになりたいかイメージしながら楽しくエクササイズしていきます☆\nご予約制とさせて頂いておりますので参加ご希望の方は下記までお問い合わせ下さい。 \n☆10クラスカードをお持ちのレギュラー参加の方へ☆\nカードをお持ちの方は既に席が確保されております。お休みされる場合は私までお早めにご一報下さい。 \n＊クラスの内容＊\nバレエの基本テクニックを用いまして特に美容と健康に有効なエクササイズを選りすぐり日頃あまり使ってあげられない筋肉や部位を目覚めさせ、美しいスタイル作りをめざしたクラスですエクササイズメインのクラスですので通常のバレエクラスのようなセンターレッスンなどのコンビネーションなどはありません。クラスのはじめにテニスボールを使ってセルフマッサージをしながら筋肉をほぐし、ストレッチで伸ばして、バレエで引き締める、盛りだくさんなクラスです☆http://www.nanaballet.com/home/adult/ \nお問い合わせ先\nNana Ballet\ncell: 917-605-0709\nemail:nana@nanaballet.com
URL:https://jp.crsny.org/index.php/event/nanaballet081917/
LOCATION:CRS (Center for Remembering & Sharing)\, 41 E 11st St. 11th Fl.\, New York\, NY\, 10003\, United States
CATEGORIES:Guest Event
ATTACH;FMTTYPE=image/jpeg:https://jp.crsny.org/wp-content/uploads/2017/08/2e87dcda088873218f687221a228e11d.jpg
ORGANIZER;CN="Nana Miki":MAILTO:nana@nanaballet.com
GEO:40.733496;-73.989816
X-APPLE-STRUCTURED-LOCATION;VALUE=URI;X-ADDRESS=CRS (Center for Remembering & Sharing) 41 E 11st St. 11th Fl. New York NY 10003 United States;X-APPLE-RADIUS=500;X-TITLE=41 E 11st St. 11th Fl.:geo:-73.989816,40.733496
END:VEVENT
END:VCALENDAR