BEGIN:VCALENDAR
VERSION:2.0
PRODID:-//CRS (Center for Remembering &amp; Sharing) - ECPv6.15.20//NONSGML v1.0//EN
CALSCALE:GREGORIAN
METHOD:PUBLISH
X-WR-CALNAME:CRS (Center for Remembering &amp; Sharing)
X-ORIGINAL-URL:https://jp.crsny.org
X-WR-CALDESC:Events for CRS (Center for Remembering &amp; Sharing)
REFRESH-INTERVAL;VALUE=DURATION:PT1H
X-Robots-Tag:noindex
X-PUBLISHED-TTL:PT1H
BEGIN:VTIMEZONE
TZID:UTC
BEGIN:STANDARD
TZOFFSETFROM:+0000
TZOFFSETTO:+0000
TZNAME:UTC
DTSTART:20180101T000000
END:STANDARD
END:VTIMEZONE
BEGIN:VEVENT
DTSTART;VALUE=DATE:20190211
DTEND;VALUE=DATE:20190415
DTSTAMP:20260421T195317
CREATED:20190213T210559Z
LAST-MODIFIED:20190222T031353Z
UID:16396-1549843200-1555286399@jp.crsny.org
SUMMARY:個展: Archetype-Hidden Memory — Paintings by Lex Braes
DESCRIPTION:Exhibition: Archetype-Hidden Memory — Paintings by Lex Braes \nCRS (Center for Remembering & Sharing) ではLex Braes氏による油彩、また紙の小作品による展覧会 “Archetype-Hidden Memory” を開催しています。CRSでのBraes氏による個展は、2012年に続いて2回目になります。限定されたイメージを繰り返し描くことにより、元のイメージが持つエネルギーとエモーションを損なわずに表現しながら、そのプロセスによってそれを抽象的なパターンに変容させることにより、その下に隠された言語を匂わせつつ作品間の関係性を問うという彼の近年の追求の結果であります。この展覧会は、2019年2月11日から 4月中旬までの開催となります。 \nAll works Courtesy of the Artist\, and Galerie Felix Ringel\, Düsseldorf. This exhibition was organized by CRS staff member Takeshi Inoue. \nRUNES \nScottish painter Lex Braes starts with a thought and an image\, and then reduces that image to a structure of a few lines\, maybe five lines or a single endless line\, like a Celtic knot. With handmade paint on plaster\, linen and here on paper\, he mines a motif that he first found in 2009\, using organic geometry to discover shapes\, creating rhomboids\, parallelograms\, and abstract forms that suggest and reminisce about ancient memories. Some of Braes’s forms recall the keening\, wailing figure of a man on a Greek krater\, seen on a trip to Athens. Others are derived from memories of a reclining female figure. These are indelible memories that sometimes become the joined lines that form two shapes\, an abstract form\, or uplifted arms signaling mourning.\nA series of forms on paper\, incremental grey lines lean slightly\, more ample or less close\, to create a rhythm\, with one smaller form set slightly apart. Another sheet of paper is loaded with forms\, erased by waves of additional colors\, and layered paint. While it appears now to be just a warm grey\, a solid wall of color\, the intimate painting on paper has some extra moisture\, with traces of liquid running down the sheet\, like cleansing rain that is seen through a dirty window. A third painting on paper\, reveals a layered technique where the remaining stroke is a single gesture\, an O form.\nPoignantly marked with ground earth pigments mixed with polymers on prepared paper\, his images are reminders of a fleeting impression as it crosses the painter’s mind. Perhaps that happens once or maybe a hundred times in a day\, and probably too many times in an hour. The thoughts are punctuated with a change of material or surface. His reductive paintings are layered and built up surfaces\, mixing in the ad hoc elements of rain water\, or moldy earth as a new color\, connecting to primal and essential nature with constant reconfiguration\, to end up with the most fragile simplicity. Strong statements\, given in bare minimal colors that remind of earth\, first strokes like cave paintings\, blue water and sky. Using a language only known to him\, yet universal\, Braes draws upon the essential wildness of his native Scotland\, filled with the ancient civilizing and peaceful grounding of Pictish stones\, runic inscriptions and pictograms that channel ancient and universal human emotions.\nThe painter’s daily movement travels between small oil sketches on paper to rounded sculpted forms\, connected to remnants of wood\, or paintings on linen. New drawings of graphite marks emerge from beneath layers and layers of an empty space\, formed by painting around reserved places on the paper\, allowing viewers to peek at an original space of emptiness. Braes captures an essential quality undetected in our daily frenetic lives. He bridges living memory of enduring spirit with a connection from the past.\n— Lisa A. Banner \nABOUT LEX BRAES\nhttp://www.lexbraes.com \nEDUCATION\nUniversity of California\, San Diego\, CA. Allan Kaprow MFA advisor 1983-84 Brooklyn Museum Art School (graduate study) Brooklyn NY 1979-80. Duncan of Jordanstone College of Art Design\, University of Dundee Scotland 1974-79. BA\, MFA \nTEACHING EXPERIENCE\nPratt Institute\, Brooklyn NY\, UGArch Visiting Associate Professor Fall 2003 to present Pratt Institute\, Graduate Interior Design\, Visiting Associate Professor Fall 2017 to present The New York Studio School\, NY Faculty member 1999 – 2001 \nCOLLABORATION / PERFORMANCE\nFull Circle\, performance\, dance Annie Wang music Pauline Oliveros Show Room Gowanus 2014\nCollaboration Kinetic Movement: Drawing/Dance with Kayoko Nakajima 2012 Eve Best\, Shakespeare Sessions in NY stage painting live performance 2010 Re-doing Allan Kaprow 18 happenings in 6 parts\, participation alongside Coryl Crane-Kaprow Deitch Studios LIC NY PERFORMA07 Nov 2007\nModern Man by Roger Kirby\, set projection New End Theatre Hampstead London July 2003 \nONE PERSON EXHIBITIONS\nNYU the Institute of Fine Arts “GHOST” Curated by Lisa A Banner Oct 15 2018 – Jan 15 2019\nMelville House Gallery “A Dozen by Lex Braes” Jan 7 – Feb 13 2015\nSalon Meir\, “Angels” Munich Germany Oct 15 – Nov 30 2013\nShow Room\, New York “Routine” January 15 – February 26 2012\nFelix Ringel Galerie\, Düsseldorf\, Germany “holding pattern” July 8 – Aug 7 2010\nGalerie Der Moderne Münich Germany March 12 – April 17 2010\nMichael Langen Feldafing Germany “Punctuated Equilibrium” Oct 19 2002 – Jan 12 2003\nFelix Ringel Galerie Düsseldorf “Punctuated Equilibrium” Jun 21 – Jul 27 2002 Rosenberg + Kaufman Fine Art New York “suspension” Oct 16– Dec 1 2001 Rosenberg + Kaufman Fine Art NY “Clearing” Nov 16 1999 – Jan 8 2000 Rosenberg + Kaufman Fine Art New York “Still” Jan. 13- Feb. 14 1998\nKunstkiosk Zurich Switzerland “New Works” Nov. 2 – Dec. 6\, 1996 \nSELECTED GROUP EXHIBITIONS\nHammond Museum with Kit White N Salem NY May 8 to June 15 2019\nFelix Ringel Galerie “gallery artists – work on paper” Spring 2017 CloudGallery“ArtforRefugees”A msterdamNLFeb12–Feb232016 Sideshow Williamsburg “Life on Mars” Jan Feb 2016\nFlowers NY Small is Beautiful Dec 2015 Jan 2016\nShow Room Gowanus farewell exhibition January 2015\nFlowers London “Small is Beautiful” Dec 3 2013 – Jan 5 2014\nFelix Ringel Galerie\, Düsseldorf\, gallery artists\, Winter 2013\, Spring 2014 Show Room New York “Summer Ceylon” July 17 – July 28 2013\nLoving is Repeating Artist collaboration book International Print Center of NY􏰀 Masque Libros II Feria Internacional Libro de Artista de Madrid Spain 2013 Triangle Workshop Dumbo NY collaboration: with Salwa Aleryani 29 Sep 2012 National Academy Museum NY “Annual 2012” January 24 – April 29 2012 Felix Ringel Galerie Düsseldorf Germany Spring 2011\nFlowers NY\, gallery artists July – Aug 2010\nGalerie Der Moderne\, Münich\, Germany winter 2009\nFlowers NY small works Dec 2007\, 2009\nSchafler Gallery\, Pratt Institute\, Brooklyn “Crossing Disciplines Drawing” faculty selection Feb 15 – April 15 2005 \nAWARDS\nMarble House Projects\, residency Dorset VT June 2014\nVermont Studio Center\, visiting artist/teacher January 2013\nVilla Waldberta\, stipendium\, International Residency Münich May June 2008 YADDO artist residency 2007 March 2019\nTriangle Artists Workshop 30th Anniversary Invitational 2012\nGlasgow Educational Trust Award to study Degas drawings: Fogg Museum Harvard Sep 1978 \nBIBLIOGRAPHY\nMnemosyne Atlas Freya Powell collective social memory 2012\, 2014\, 2016\, 2018\nPratt Journal of Architecture Re: Making Full Circle with Annie Wang publication 2016\nLoving is Repeating artist book collaboration with Freya Powell Nov 2013\nHyperallergic Sarah Walko Collaboration Across Borders in Artist Workshops Jan 22 2013\nLex Braes works 1986 – 2009 monograph published by Michael Langen\, Roland Angst design Berlin 2010\nKaren Wilkin: catalogue essay “recent work” Nov 2009\nThomas Kuhn: catalogue essay “holding pattern” Dec 2009\nNatasha Prevost: “Lex Braes’ red line” Inflexions Issue 2 Jan 2009 (Journal of Philosophy) Montreal Canada\nAlison Leigh Defrees: “Art in the Balance” Profile Janera 2008\nAngela Bachmair: “Mysterious Traces” Augsburger Allgemeine Jan10 2004 Karen Wilkin: “At the Galleries” in Partisan Review Winter 2002 Winter 2000 Ken Johnson “suspension” Fine Arts & Leisure\, review New York Times Nov 16\, 2001\nDonald Kuspit: “Clearing” essay for Exhibition Catalogue November 1999 – Jan 2000\nKit White: “Lex Braes at Rosenberg + Kaufman Fine Art” Review\, Dec 15\, 1999\nRoland Legiardi-Laura “Lex Braes at Rosenberg + Kaufman” BOMB Spring 1998\nEileen Daspin: “Trends” Wall Street Journal\, March 6\, 1998\nMark Staff Brandl: Zurich “Lex Braes at Kunstkiosk”\, in Art in America\, Jan 1997\nSue Scott: “Invitational” Elizabeth Harris Gallery” in ARTnews Jan 1994\nJanet Koplos: “Lex Braes at Stephen Rosenberg” in Art in America July 1992
URL:https://jp.crsny.org/index.php/event/archetype-hidden-memory-paintings-by-lex-braes/
LOCATION:CRS (Center for Remembering & Sharing)\, 41 E 11st St. 11th Fl.\, New York\, NY\, 10003\, United States
CATEGORIES:CRS Presents,Exhibition
ATTACH;FMTTYPE=image/jpeg:https://jp.crsny.org/wp-content/uploads/2019/02/mourning_studies_2017-1.jpg
ORGANIZER;CN="CRS (Center for Remembering & Sharing)":MAILTO:info@crsny.org
GEO:40.733496;-73.989816
X-APPLE-STRUCTURED-LOCATION;VALUE=URI;X-ADDRESS=CRS (Center for Remembering & Sharing) 41 E 11st St. 11th Fl. New York NY 10003 United States;X-APPLE-RADIUS=500;X-TITLE=41 E 11st St. 11th Fl.:geo:-73.989816,40.733496
END:VEVENT
BEGIN:VEVENT
DTSTART;TZID=UTC:20190310T113000
DTEND;TZID=UTC:20190310T170000
DTSTAMP:20260421T195317
CREATED:20190227T202213Z
LAST-MODIFIED:20200207T010619Z
UID:16512-1552217400-1552237200@jp.crsny.org
SUMMARY:森のいのちが色になる、うさと服。 展示会+トーク
DESCRIPTION:森のいのちが色になるんだ。 \n藍染めも草木染も、酸化を利用して色を出していく方法です。お天気の良い早朝に染めるのは、大気中の酸素量が一番多いのが晴天の朝だから、朝には朝しかできない大切な仕事があるんだ。草木にはどんな効果があるのか、いつ染めたらよく染まるのか、自然のパワーを村人たちは本当によく知っています。 \n仕事も暮らしも、何もかもが自然のリズムのまま。　時間の流れがゆっくりだと、目が細部にまで行き届きます。布も、ゆったり織られていきます。そうしてできた布は、身に着けた人をもゆったり、優しい気分にしていくのではないでしょうか。 \n手で育て、手で集め、手で紬ぎ、手で染め、手で織る・・・・ \n自然のパワーにはたくさんの手間隙がプラスされ、暮らしの中で大切に「育まれる」布を目の当たりに、ぼくはますます手の力に魅了されていました。 \n以上、「あいをよる　おもいをつむぐ」　　さとう　うさぶろう著より 抜粋 \n染める材料は、藍をはじめ、マンゴーの葉、黒檀の実、紫檀の木、草花たち。\n藍の成分には、虫よけ効果があるそうです。\nマンゴーの葉にも皮膚の老化防止作用などが発見されているようです。\n多くの草木染めには薬効成分があるのは素晴らしいことです。 \nいのちのかたまりのような服。 \nうさと服は、麻、綿、シルク、そして、それに染めこまれた草木の色や成分によって、服そのものが生きているといってもいいかもしれません。\n私たちは、食べることで、その他の生物たちのエネルギーを頂き、共有しているそうです。\n生きていると言っても過言でない服を着用すると言うことも、森のいのちを共有するということなのかなぁと思います。 \nそんな服、「うさと服」の展示会を行います。 \n \n今回のうさと展では、デザイナーさとううさぶろう氏も一緒に会場にてお待ちしております。うさと服が出来上がるまでの経緯、うさぶろう氏ご自身のことなどのお話会も設けていますので、お気軽にいらして下さい。 \nMarch 10 Sun \n11:30 – 12:30 Mr. Usaburo’s talk 2 Floor\n12:00pm – 5pm Exibition Whiteroom 3 Floor
URL:https://jp.crsny.org/index.php/event/usaato-20190310/
LOCATION:CRS (Center for Remembering & Sharing)\, 41 E 11st St. 11th Fl.\, New York\, NY\, 10003\, United States
CATEGORIES:Guest Event
ATTACH;FMTTYPE=image/jpeg:https://jp.crsny.org/wp-content/uploads/2018/05/180604-Usaato.jpg
GEO:40.733496;-73.989816
X-APPLE-STRUCTURED-LOCATION;VALUE=URI;X-ADDRESS=CRS (Center for Remembering & Sharing) 41 E 11st St. 11th Fl. New York NY 10003 United States;X-APPLE-RADIUS=500;X-TITLE=41 E 11st St. 11th Fl.:geo:-73.989816,40.733496
END:VEVENT
BEGIN:VEVENT
DTSTART;TZID=UTC:20190310T123000
DTEND;TZID=UTC:20190310T160000
DTSTAMP:20260421T195317
CREATED:20181128T234524Z
LAST-MODIFIED:20190109T204810Z
UID:15254-1552221000-1552233600@jp.crsny.org
SUMMARY:香咲弥須子　春の東京セミナー
DESCRIPTION:2019春の香咲弥須子東京セミナーのご案内 \nみなさま、明けましておめでとうございます。\n本年もみなさまと共に、心に”光”を灯しながら一歩ずつ進んでいきたいと思っております。どうぞよろしくお願い申し上げます。\nさて、2019年春の『奇跡のコース』『奇跡講座』東京セミナーのご案内です。\nヒーリングクラスの新規募集に伴い、2日間の内容を充実、凝縮してまいります。\nまず一日目は、ACIMの基礎を深く理解し実感することに重点を置きます。初めての方や学び始めてまだ日の浅い方、少し学びから離れていた方にとってもわかり易く、また、人生の様々な局面にどのように学びを適用できるのかを具体的に学習します。ワークブックレッスンを通して日々創造する仕方についても学んでいきます。そしてホーリースピリットのメッセージを受け取るワークの時間もあります。\n二日目には、『奇跡講座』の「テキスト」「精神療法」「祈りの歌」から、ヒーリングの理解と実践につながる箇所を取り上げます。日々のワークからもう少し学びを深めていく手がかりが掴めます。最後のヒーリングクラスでは、2日に渡り確認したことを存分に使ったスピリチュアル・ヒーリングを学び練習します。\n三日目には、10名限定のintensiveなクラスをご用意しました。参加者全員が協力し、それぞれの人生をシフトさせるグループセッションです。 \nご参加を心よりお待ちしております。 \n香咲弥須子セミナー事務局\n久保田智子　佐藤直子 \n・・・・・・・・・・・・・・・・・・・・・・・・・ \n以下、 最後まで目をお通しください。\n予約開始日時： 1月12日(土) 午前9時 \n*****＜二日間セミナーご案内＞***** \n＊2日目の開催時間が、今までと変わります。必ず確認してください。 \n《日時》2019年3月9日（土） 13:00～17:30\n3月10日（日） 12:30～16:00 \n《開催場所》　中野サンプラザ　13階　スカイルーム\n東京都中野区中野4-1-1 http://www.sunplaza.jp/access/ \n《参加費用》\n・両日受講：33\,000円\n・3/ 9(土)1日目のみ受講：20\,000円\n・3/10(日)2日目のみ受講：25\,000円 \n※《割引参加費用》\n香咲弥須子podcast『テキスト精読』\nhttps://www.acimclassroom.org/acim-textbook-podcast\n一年間自動引落もしくは一年間アクセス可能にて購読して学んでいらっしゃる方は、参加費が割引となります。\n・両日受講：28\,000円\n・3/10(日)2日目のみ受講：20\,000円\n予約フォームにて精読の購入日、および、お申し込みに使用なさったクレジットカードのお名前をローマ字でお知らせください。 \n※ ご夫婦割引／親子割引：両日参加の場合は2割引、その他は1割引です。\n親子割引は、大学生以下のお子様が対象です。お申込みフォームより、ご一緒にお申し込みください。 \n*****＜ヒーリングクラス＞***** \n＊春の香咲弥須子弥須子東京セミナー両日参加が必須となります。\n＊年3回の東京セミナーの2日目に開催され、継続参加するクラスです。一回ごとの募集はありません。\nホーリースピリットからのメッセージを受け取ります。\n内容をご確認ください　→www.y-s-inn.com/ヒーリングクラスについて/ \n《日　時》2019年 3月 10日（日）16:30〜18:00\n《開催場所》　中野サンプラザ　13階 スカイルーム\n《参加費用》15\,000円 \n新規参加の方は、3月10日(日)10:00-11:30\n15階 リーフルームにてヒーリングの手法についてお伝えする時間があります。\n《参加費用》10\,000円 \n*****＜初めて触れる『奇跡のコース』＞***** \n『奇跡のコース』ってなんですか？\n興味がある方、ひとりで学んでいる方、以前学んでいたけれど続けることを諦めてしまった方、\n香咲弥須子セミナーに参加してみたいけど、勇気が出なくて、などなど\n初めの一歩を踏み出すためのお話会を開催します。 \n『奇跡のコース』のことを思うように伝えられない、知ってもらいたいご家族やご友人がいらっしゃいましたら、是非ご紹介ください。 \n《日　時》 2019年3月2日(土) 13:00〜15:00\n《開催場所》　東京都内(中野周辺)\n《参加費用》5\,000円 \n＊セミナー予約フォームのチェックボックスにてお申し込みください。\nhttps://www.y-s-inn.com/お申込み/ \n*****＜︎Intensiveなクラス＞　《定員10名》*****\n＊以前開催されていた「テキスト精読クラス」とは異なります。 \n先だつ二日間の東京セミナーの参加及びテキスト精読https://www.acimclassroom.org/acim-textbook-podcastを年間購読している方が参加の対象となります。\nセミナー二日間を受講して、日々の学びの中で、そしてシェア会や勉強会など開催している中で、わからないことや疑問に思ったことを少人数だからこそできるディスカッションをしていきます。\n「教師のためのマニュアル」にも踏み込んでいく予定です。 \n《日　時》 2019年3月11日(月) 13:00〜15:00\n《開催場所》　東京都新宿区神楽坂\n《参加費用》20\,000円 \n＊セミナー予約フォームのチェックボックスにてお申し込みください。\nhttps://www.y-s-inn.com/お申込み/ \n*****＜個人セッション＞****** https://jp.crsny.org/index.php/session/ \n春の東京セミナー2日間共にお参加申し込みされ、2月18日（月）までにセミナー代金のお振込みが完了した方が対象です。対面でセッションを受けていただけます。人数に限りがあり、ご希望の方の中からの抽選となります。 \n《日　時》 2019年 3月18日 ( 月)\n《開催場所》　新宿区\n《セッション料金》31\,000円／1時間 \n＊セミナー予約フォームのチェックボックスにてお申し込みください。\nhttps://www.y-s-inn.com/お申込み/ \n◇ボランティアスタッフ募集◇ \nセミナー両日をボランティアでお手伝いしてくださる有志の方を募集します。参加者のみなさまにできるだけ気持ちよく学んでいただくためのサポート活動を通して、与えることと受け取ることの豊かさをさらに経験なさってみませんか。\n・ 各日11:30に集合可能で、かつ、初参加以外の方が対象です。\n・ <内容>開始前準備・受付・物販・会場内外の誘導・終了後の片づけ等\n講話中のお手伝いはありません。他のみなさまと同様、着席してご参加してください。\n・ 参加費用は、すべてご負担をお願いいたします。 \n2月 18日(月)までに、セミナーのお申し込みをしていただき、その際、予約フォームの“ボランティアスタッフ希望“にもチェックを入れてください。\nhttps://www.y-s-inn.com/お申込み/ \nご応募をお待ちしています。 \n*****お申込方法***** \n*予約フォーム https://www.y-s-inn.com/お申込み/ をクリックしてお申し込みください。\n24時間以内に返信がない場合は、まずは迷惑メールフォルダーをご確認ください。確認できない場合は、お手数ですが、　ysinn@y-s-inn.com　宛にメッセージをお願いいたします。\n*予約フォームからの入力ができない方は、ysinn@y-s-inn.com 宛、メールにてお申し込み下さい。（お名前、フリガナ、お電話番号、参加日をご記入下さい） \n＊キャンセルについて＊\nキャンセルの場合は、お手続きの前でも必ずご連絡をお願いします。\nご入金後のキャンセルは、セミナー前日のお昼12時までにメールでご連絡いただいた場合に限り、振込手数料及び事務手続料¥1\,000を差し引いた金額を、一週間以内にご返金いたします。\nお振込み金額の全てを次回のセミナーの振替に充てる為にお預かりすることもできます。 \n＊お問い合わせ先＊\nご予約・変更・お取消につては、ysinn@y-s-inn.com\nセミナー参加についてのご質問は、seminar@crsny.org　 \n香咲弥須子セミナー事務局
URL:https://jp.crsny.org/index.php/event/spring-seminar-20190310/
LOCATION:中野サンプラザ\, 東京都中野区中野4-1-1\, 東京\, 1648512\, Japan
CATEGORIES:In Japan
ATTACH;FMTTYPE=image/jpeg:https://jp.crsny.org/wp-content/uploads/2016/03/Yasuko-Kasaki-seminar-120303-2.jpg
ORGANIZER;CN="%E9%A6%99%E5%92%B2%E5%BC%A5%E9%A0%88%E5%AD%90CRS%E3%82%BB%E3%83%9F%E3%83%8A%E3%83%BC%E4%BA%8B%E5%8B%99%E5%B1%80":MAILTO:seminar@crsny.org
GEO:35.7075813;139.6647403
X-APPLE-STRUCTURED-LOCATION;VALUE=URI;X-ADDRESS=中野サンプラザ 東京都中野区中野4-1-1 東京 1648512 Japan;X-APPLE-RADIUS=500;X-TITLE=東京都中野区中野4-1-1:geo:139.6647403,35.7075813
END:VEVENT
BEGIN:VEVENT
DTSTART;TZID=UTC:20190310T133000
DTEND;TZID=UTC:20190310T160000
DTSTAMP:20260421T195317
CREATED:20190218T212024Z
LAST-MODIFIED:20190218T212515Z
UID:16444-1552224600-1552233600@jp.crsny.org
SUMMARY:ミラクルズ・イン・マンハッタン with ジョン・マンディ: The Ten Characteristics of a Teacher of God — part 2
DESCRIPTION:CRSでは、『奇跡のコース』のもっとも古くからの教師のひとり、Jon Mundy 先生をお迎えして、毎月一度レクチャーを行なっています。 \n3月のトピックは、ACIM Manual for Teachersから、“The Ten Characteristics of a Teacher of God”となります。 \n～事前のお申し込みの場合は、お一人様 $25～\n～受付にてご購入の場合は、お一人様 $30～\nお申し込みは、以下まで。\n電話番号: 212-677-8621 または オンラインにて。https://bit.ly/2Iw3IRJ \nスペースがある限りご予約無しでもお入りいただけますが、毎回ほぼ満席になります。\nクラスにご参加いただけない方のために、レクチャーの様子をビデオストリーミング配信しています。こちらのサイトで live-streaming ボタンを押して、ご視聴ください。\nhttps://www.youtube.com/channel/UCwxH3nWSMFDGA1SiR9kAbeg \n通常第２日曜日にレクチャーは開催されますが、5月に限り第１日曜日に予定されていますので、ご注意ください。 \nジョン・マンディ\n１９４３年米国ミズーリ州に生まれる。神学博士。司祭。『奇跡のコース』教師。１９６７年より哲学と宗教、主に神秘主義の歴史において大学で教鞭を執るなか、１９７３年に『奇跡のコース』を書き取ったヘレン・シャックマン博士に出会う。以降、ヘレン博士が病に倒れる１９８０年まで、息子のようにかわいがられながら教え導かれた。最も古くからのコースの教師として、全米、ヨーロッパ、南米各地にて講演、ワークショップをおこなっている。ニューヨークの「All Faiths Seminary-International」のエグゼクティブ・ディレクター、雑誌「Miracle Magazine」の発行者。著書多数。\ndrjonmundy.com www.miraclesmagazine.org
URL:https://jp.crsny.org/index.php/event/jon-mundy20190310/
LOCATION:CRS (Center for Remembering & Sharing)\, 41 E 11st St. 11th Fl.\, New York\, NY\, 10003\, United States
CATEGORIES:ACIM-Related Event
ATTACH;FMTTYPE=image/jpeg:https://jp.crsny.org/wp-content/uploads/2019/01/Jon-Mundy-at-CRS-with-CRS-logo.jpg
ORGANIZER;CN="CRS (Center for Remembering & Sharing)":MAILTO:info@crsny.org
GEO:40.733496;-73.989816
X-APPLE-STRUCTURED-LOCATION;VALUE=URI;X-ADDRESS=CRS (Center for Remembering & Sharing) 41 E 11st St. 11th Fl. New York NY 10003 United States;X-APPLE-RADIUS=500;X-TITLE=41 E 11st St. 11th Fl.:geo:-73.989816,40.733496
END:VEVENT
BEGIN:VEVENT
DTSTART;TZID=UTC:20190310T163000
DTEND;TZID=UTC:20190310T180000
DTSTAMP:20260421T195317
CREATED:20181130T235353Z
LAST-MODIFIED:20190109T204934Z
UID:15271-1552235400-1552240800@jp.crsny.org
SUMMARY:香咲弥須子 ヒーリング・クラス
DESCRIPTION:《ヒーリングクラス》のお知らせです。 \n東京セミナーの一日目は、ACIMの基礎を深く理解し実感することに重点を置きます。初めての方や学び始めてまだ日の浅い方、少し学びから離れていた方にとってもわかり易く、また、人生の様々な局面にどのように学びを適用できるのかを具体的に学習します。ワークブックレッスンを通して日々創造する仕方についても学んでいきます。そしてホーリースピリットのメッセージを受け取るワークの時間もあります。二日目には、『奇跡講座』の「テキスト」「精神療法」「祈りの歌」から、ヒーリングの理解と実践につながる箇所を取り上げます。日々のワークからもう少し学びを深めていく手がかりが掴めます。そして、2日に渡り確認したことを存分に使ったスピリチュアル・ヒーリングを学び練習するヒーリングクラスが開催されます。ご参加にあたり、この東京セミナー二日間の参加が必須となります。 \n＊2019年春スタートの新規のヒーリングクラス生を募集いたします。\n＊年3回の東京セミナーの2日目に開催され、継続参加するクラスです。一回ごとの募集はありません \n内容をご確認ください　→　https://www.y-s-inn.com/ヒーリングクラスについて/ \n  \n《日　時》2019年3月10日（日）16:30〜18:00\n《開催場所》　中野サンプラザ　13階 スカイルーム\n《参加費用》15\,000円 \n新規参加の方は、3月10日(日)10:00-11:30\n15階 リーフルームにてヒーリングの手法についてお伝えする時間があります。\n《参加費用》10\,000円 \n＊セミナー予約フォームのチェックボックスにてお申し込みください。\nhttps://www.y-s-inn.com/お申込み/ \n  \n 
URL:https://jp.crsny.org/index.php/event/hc031019/
LOCATION:中野サンプラザ\, 東京都中野区中野4-1-1\, 東京\, 1648512\, Japan
CATEGORIES:In Japan
ATTACH;FMTTYPE=image/jpeg:https://jp.crsny.org/wp-content/uploads/2017/03/2015summer16.jpg
ORGANIZER;CN="%E9%A6%99%E5%92%B2%E5%BC%A5%E9%A0%88%E5%AD%90CRS%E3%82%BB%E3%83%9F%E3%83%8A%E3%83%BC%E4%BA%8B%E5%8B%99%E5%B1%80":MAILTO:seminar@crsny.org
GEO:35.7075813;139.6647403
X-APPLE-STRUCTURED-LOCATION;VALUE=URI;X-ADDRESS=中野サンプラザ 東京都中野区中野4-1-1 東京 1648512 Japan;X-APPLE-RADIUS=500;X-TITLE=東京都中野区中野4-1-1:geo:139.6647403,35.7075813
END:VEVENT
BEGIN:VEVENT
DTSTART;TZID=UTC:20190311T130000
DTEND;TZID=UTC:20190311T150000
DTSTAMP:20260421T195317
CREATED:20181128T231905Z
LAST-MODIFIED:20190109T205108Z
UID:15245-1552309200-1552316400@jp.crsny.org
SUMMARY:香咲弥須子 インテンシブなクラス（東京）
DESCRIPTION:＜︎Intensiveなクラス＞のお知らせです。　 \n＊以前開催されていた「テキスト精読クラス」とは異なります。 \n  \n東京セミナーの一日目は、ACIMの基礎を深く理解し実感することに重点を置きます。初めての方や学び始めてまだ日の浅い方、少し学びから離れていた方にとってもわかり易く、また、人生の様々な局面にどのように学びを適用できるのかを具体的に学習します。ワークブックレッスンを通して日々創造する仕方についても学んでいきます。そしてホーリースピリットのメッセージを受け取るワークの時間もあります。二日目には、『奇跡講座』の「テキスト」「精神療法」「祈りの歌」から、ヒーリングの理解と実践につながる箇所を取り上げます。日々のワークからもう少し学びを深めていく手がかりが掴みます。 \nこの二日間の東京セミナーの参加及び、日頃『テキスト精読』https://www.acimclassroom.org/acim-textbook-podcastを年間購読して学びを深めている方が参加の対象となります。 \nセミナー二日間を受講して、日々の学びの中で、そしてシェア会や勉強会など開催している中で、わからないことや疑問に思ったことを少人数《定員10名》　だからこそできるディスカッションをしていきます。「教師のためのマニュアル」にも踏み込んでいく予定です。 \n  \n《日　時》2019年3月11日(月)13:00〜15:00\n《開催場所》　東京都新宿区神楽坂\n《参加費用》20\,000円 \n＊セミナー予約フォームのチェックボックスにてお申し込みください。\nhttps://www.y-s-inn.com/お申込み/ \n  \n 
URL:https://jp.crsny.org/index.php/event/class031119/
LOCATION:u-ma kagurazaka\, 東京都新宿区矢来町 132-5\, Japan
CATEGORIES:In Japan
ATTACH;FMTTYPE=image/jpeg:https://jp.crsny.org/wp-content/uploads/2016/02/20170317-e1490643687566.jpg
ORGANIZER;CN="%E9%A6%99%E5%92%B2%E5%BC%A5%E9%A0%88%E5%AD%90CRS%E3%82%BB%E3%83%9F%E3%83%8A%E3%83%BC%E4%BA%8B%E5%8B%99%E5%B1%80":MAILTO:seminar@crsny.org
GEO:35.7045175;139.7326072
X-APPLE-STRUCTURED-LOCATION;VALUE=URI;X-ADDRESS=u-ma kagurazaka 東京都新宿区矢来町 132-5 Japan;X-APPLE-RADIUS=500;X-TITLE=東京都新宿区矢来町 132-5:geo:139.7326072,35.7045175
END:VEVENT
BEGIN:VEVENT
DTSTART;TZID=UTC:20190315T180000
DTEND;TZID=UTC:20190315T200000
DTSTAMP:20260421T195317
CREATED:20190204T203852Z
LAST-MODIFIED:20190204T211530Z
UID:15995-1552672800-1552680000@jp.crsny.org
SUMMARY:香咲弥須子ときみちゃんが共に 受け取った奇跡のお話会
DESCRIPTION:香咲弥須子氏ときみちゃんが共に受け取った\n奇跡のお話会 15名様限定 \n3月15日（金）18時〜20時 \n場所 Nature et Anges（エンジェルヒーリングコミュニティナチュールエアンジェ）\n最寄り駅 JR山手線 鶯谷 駅 地下鉄 日比谷線 入谷駅 共に、徒歩5分\nご参加費 7.000円（お茶付き） \nお申込みはFBから→こちら\nご参加にチェックを入れて頂きましたら\n振り込み先をお送りします。 \nお振込みが完了した時点でご参加となります。\n主催者 伊崎信子 川村智美
URL:https://jp.crsny.org/index.php/event/talk-event20190315/
LOCATION:Nature et Anges\, Japan
CATEGORIES:In Japan
ATTACH;FMTTYPE=image/jpeg:https://jp.crsny.org/wp-content/uploads/2019/02/50784608_2313135672240092_2363921919222218752_n.jpg
GEO:36.204824;138.252924
END:VEVENT
END:VCALENDAR